{"text_format":"1","workbook":"xlsx","n_sheets":8,"sheets":["home","Spread Patterns","laps","Report Charts","Distribution","laps_data","Output","Instructions"],"not_rendered":{"charts":6,"images":0,"macros":1,"external_links":0,"defined_names":1,"comments":0,"pivot_tables":0},"unopened":[{"sheet":"Distribution","index":4,"reason":"not_a_worksheet"}],"bounds":{"document_bytes":16777216,"sheet_cells":100000,"rows_first":2000,"rows_last":500,"rows_between":2000,"halvings":0,"cell_chars":16384,"cell_head_chars":4096},"cells_cut":0,"cells_raw":0,"read":"whole","date_system":"1900"}

{"sheet":"home","index":0,"n_rows":99,"n_cols":17,"rows_kept":99,"cut":false,"hidden":false,"merged":[]}
[null,"Spreader Distribution Test - Tray Calculator"]
[]
[null,"Machine Designation","916T ",null,"Spinner Speed (rpm)",900]
[null,"Test Date","2023-06-19",null,"Spinner Diam (mm)",600]
[null,"Test Time",null,null,"Number of Vanes","D3 Gran"]
[null,"Fertiliser type","Urea ",null,"Vane Position","2 x pos 1, 2 x pos 3"]
[null,null,null,null,"Vane Type","D3"]
[null,"Direction of Travel ","N-S",null,"Disc Type","D3 - 14 deg"]
[null,"Avg Wind Speed (kph)",null,null,"Chute Type","D3 with gran deflector"]
[null,"Wind Direction ",null,null,"Forward Speed (kph)",20]
[null,"Temperature (degC)",null,null,"Door Opening (mm)","NA"]
[null,"Humidity (%)",null,null,"Gear Setting ","VR HYD "]
[]
[]
[]
[null,null,null,null,"Tray Spacing","No. of passes","Target CoV"]
[null,"Centre Tray Number","Zero Mass Tray",null,"(metres)","over trays","(%)"]
[null,22,22,null,1,3,15]
[null,1,1.9,null,null,"Bout Width","Application Rate",null,null,null,null,null,null,null,1,{"$f":"IF(OR(O19=$B$18+1,O19=$B$18-1),(C71+C20)/2,C19)","v":1.9},{"$f":"IF(O19-laps!$B$9<1,0,IF(laps!$B$9>0,VLOOKUP(home!O19-laps!$B$9,home!$O$19:$P$99,2),VLOOKUP(home!O19,home!$O$19:$P$99,2)))","v":1.9}]
[null,2,2.9,null,null," (m)","(kg/ha)",null,null,null,null,null,null,null,2,{"$f":"IF(OR(O20=$B$18+1,O20=$B$18-1),(C19+C21)/2,C20)","v":2.9},{"$f":"IF(O20-laps!$B$9<1,0,IF(laps!$B$9>0,VLOOKUP(home!O20-laps!$B$9,home!$O$19:$P$99,2),VLOOKUP(home!O20,home!$O$19:$P$99,2)))","v":2.9}]
[null,3,3.9,null,"Racetrack",{"$f":"(VLOOKUP(\"X\",laps_data!I2:L82,4,FALSE))*E18","v":25},{"$f":"VLOOKUP(F21,laps!$A$110:$C$159,3)*40/F18","v":160.6933333333333},null,null,null,null,null,null,null,3,3.9,{"$f":"IF(O21-laps!$B$9<1,0,IF(laps!$B$9>0,VLOOKUP(home!O21-laps!$B$9,home!$O$19:$P$99,2),VLOOKUP(home!O21,home!$O$19:$P$99,2)))","v":3.9}]
[null,4,4.55,null,"To & fro",{"$f":"(VLOOKUP(\"X\",laps_data!K2:L82,2,FALSE))*E18","v":25},{"$f":"VLOOKUP(F22,laps!$A$304:$C$353,3)*40/F18","v":160.69333333333333},null,null,null,null,null,null,null,4,4.55,{"$f":"IF(O22-laps!$B$9<1,0,IF(laps!$B$9>0,VLOOKUP(home!O22-laps!$B$9,home!$O$19:$P$99,2),VLOOKUP(home!O22,home!$O$19:$P$99,2)))","v":4.55}]
[null,5,5.2,null,null,null,null,null,null,null,null,null,null,null,5,5.2,{"$f":"IF(O23-laps!$B$9<1,0,IF(laps!$B$9>0,VLOOKUP(home!O23-laps!$B$9,home!$O$19:$P$99,2),VLOOKUP(home!O23,home!$O$19:$P$99,2)))","v":5.2}]
[null,6,6.2,null,null,null,null,null,null,null,null,null,null,null,6,{"$f":"IF(OR(O24=$B$18+1,O24=$B$18-1),(C23+C25)/2,C24)","v":6.2},{"$f":"IF(O24-laps!$B$9<1,0,IF(laps!$B$9>0,VLOOKUP(home!O24-laps!$B$9,home!$O$19:$P$99,2),VLOOKUP(home!O24,home!$O$19:$P$99,2)))","v":6.2}]
[null,7,7.2,null,null,null,null,null,null,null,null,null,null,null,7,7.2,{"$f":"IF(O25-laps!$B$9<1,0,IF(laps!$B$9>0,VLOOKUP(home!O25-laps!$B$9,home!$O$19:$P$99,2),VLOOKUP(home!O25,home!$O$19:$P$99,2)))","v":7.2}]
[null,8,6.8000000000000007,null,null,null,null,null,null,null,null,null,null,null,8,6.8000000000000007,{"$f":"IF(O26-laps!$B$9<1,0,IF(laps!$B$9>0,VLOOKUP(home!O26-laps!$B$9,home!$O$19:$P$99,2),VLOOKUP(home!O26,home!$O$19:$P$99,2)))","v":6.8000000000000007}]
[null,9,6.4,null,null,null,null,null,null,null,null,null,null,null,9,6.4,{"$f":"IF(O27-laps!$B$9<1,0,IF(laps!$B$9>0,VLOOKUP(home!O27-laps!$B$9,home!$O$19:$P$99,2),VLOOKUP(home!O27,home!$O$19:$P$99,2)))","v":6.4}]
[null,10,6.65,null,null,null,null,null,null,null,null,null,null,null,10,6.65,{"$f":"IF(O28-laps!$B$9<1,0,IF(laps!$B$9>0,VLOOKUP(home!O28-laps!$B$9,home!$O$19:$P$99,2),VLOOKUP(home!O28,home!$O$19:$P$99,2)))","v":6.65}]
[null,11,6.9,null,null,null,null,null,null,null,null,null,null,null,11,6.9,{"$f":"IF(O29-laps!$B$9<1,0,IF(laps!$B$9>0,VLOOKUP(home!O29-laps!$B$9,home!$O$19:$P$99,2),VLOOKUP(home!O29,home!$O$19:$P$99,2)))","v":6.9}]
[null,12,7.45,null,null,null,null,null,null,null,null,null,null,null,12,7.45,{"$f":"IF(O30-laps!$B$9<1,0,IF(laps!$B$9>0,VLOOKUP(home!O30-laps!$B$9,home!$O$19:$P$99,2),VLOOKUP(home!O30,home!$O$19:$P$99,2)))","v":7.45}]
[null,13,8,null,null,null,null,null,null,null,null,null,null,null,13,8,{"$f":"IF(O31-laps!$B$9<1,0,IF(laps!$B$9>0,VLOOKUP(home!O31-laps!$B$9,home!$O$19:$P$99,2),VLOOKUP(home!O31,home!$O$19:$P$99,2)))","v":8}]
[null,14,7.55,null,null,null,null,null,null,null,null,null,null,null,14,7.55,{"$f":"IF(O32-laps!$B$9<1,0,IF(laps!$B$9>0,VLOOKUP(home!O32-laps!$B$9,home!$O$19:$P$99,2),VLOOKUP(home!O32,home!$O$19:$P$99,2)))","v":7.55}]
[null,15,7.1,null,null,null,null,null,null,null,null,null,null,null,15,7.1,{"$f":"IF(O33-laps!$B$9<1,0,IF(laps!$B$9>0,VLOOKUP(home!O33-laps!$B$9,home!$O$19:$P$99,2),VLOOKUP(home!O33,home!$O$19:$P$99,2)))","v":7.1}]
[null,16,7.55,null,null,null,null,null,null,null,null,null,null,null,16,7.55,{"$f":"IF(O34-laps!$B$9<1,0,IF(laps!$B$9>0,VLOOKUP(home!O34-laps!$B$9,home!$O$19:$P$99,2),VLOOKUP(home!O34,home!$O$19:$P$99,2)))","v":7.55}]
[null,17,8,null,null,null,null,null,null,null,null,null,null,null,17,8,{"$f":"IF(O35-laps!$B$9<1,0,IF(laps!$B$9>0,VLOOKUP(home!O35-laps!$B$9,home!$O$19:$P$99,2),VLOOKUP(home!O35,home!$O$19:$P$99,2)))","v":8}]
[null,18,8.5500000000000007,null,null,null,null,null,null,null,null,null,null,null,18,8.5500000000000007,{"$f":"IF(O36-laps!$B$9<1,0,IF(laps!$B$9>0,VLOOKUP(home!O36-laps!$B$9,home!$O$19:$P$99,2),VLOOKUP(home!O36,home!$O$19:$P$99,2)))","v":8.5500000000000007}]
[null,19,9.1,null,null,3.5089999999999999,{"$f":"1-C37/F37","v":-1.5933314334568252},null,null,null,null,null,null,null,19,9.1,{"$f":"IF(O37-laps!$B$9<1,0,IF(laps!$B$9>0,VLOOKUP(home!O37-laps!$B$9,home!$O$19:$P$99,2),VLOOKUP(home!O37,home!$O$19:$P$99,2)))","v":9.1}]
[null,20,10.433333333333334,null,null,4.1440000000000001,{"$f":"1-C38/F38","v":-1.5176962676962678},null,null,null,null,null,null,null,20,10.433333333333334,{"$f":"IF(O38-laps!$B$9<1,0,IF(laps!$B$9>0,VLOOKUP(home!O38-laps!$B$9,home!$O$19:$P$99,2),VLOOKUP(home!O38,home!$O$19:$P$99,2)))","v":10.433333333333334}]
[null,21,11.766666666666667,null,"Place Zero either side of centre",{"$f":"AVERAGE(F38,F40)","v":4.3964999999999996},-1.6763713560028815,null,null,null,null,null,null,null,21,11.766666666666666,{"$f":"IF(O39-laps!$B$9<1,0,IF(laps!$B$9>0,VLOOKUP(home!O39-laps!$B$9,home!$O$19:$P$99,2),VLOOKUP(home!O39,home!$O$19:$P$99,2)))","v":11.766666666666666}]
[null,22,13.1,null,"Centre Tray ",4.649,-1.817810281781028,null,null,null,null,null,null,null,22,13.1,{"$f":"IF(O40-laps!$B$9<1,0,IF(laps!$B$9>0,VLOOKUP(home!O40-laps!$B$9,home!$O$19:$P$99,2),VLOOKUP(home!O40,home!$O$19:$P$99,2)))","v":13.1}]
[null,23,11.766666666666666,null,"Place Zero either side of centre",{"$f":"AVERAGE(F40,F42)","v":4.3330000000000002},-1.7155935071928607,null,null,null,null,null,null,null,23,11.766666666666666,{"$f":"IF(O41-laps!$B$9<1,0,IF(laps!$B$9>0,VLOOKUP(home!O41-laps!$B$9,home!$O$19:$P$99,2),VLOOKUP(home!O41,home!$O$19:$P$99,2)))","v":11.766666666666666}]
[null,24,10.433333333333332,null,null,4.0170000000000003,-1.5972948303045382,null,null,null,null,null,null,null,24,10.433333333333332,{"$f":"IF(O42-laps!$B$9<1,0,IF(laps!$B$9>0,VLOOKUP(home!O42-laps!$B$9,home!$O$19:$P$99,2),VLOOKUP(home!O42,home!$O$19:$P$99,2)))","v":10.433333333333332}]
[null,25,9.1,null,null,3.9079999999999999,-1.3285568065506652,null,null,null,null,null,null,null,25,9.1,{"$f":"IF(O43-laps!$B$9<1,0,IF(laps!$B$9>0,VLOOKUP(home!O43-laps!$B$9,home!$O$19:$P$99,2),VLOOKUP(home!O43,home!$O$19:$P$99,2)))","v":9.1}]
[null,26,8.5500000000000007,null,null,null,null,null,null,null,null,null,null,null,26,8.5500000000000007,{"$f":"IF(O44-laps!$B$9<1,0,IF(laps!$B$9>0,VLOOKUP(home!O44-laps!$B$9,home!$O$19:$P$99,2),VLOOKUP(home!O44,home!$O$19:$P$99,2)))","v":8.5500000000000007}]
[null,27,8,null,null,null,null,null,null,null,null,null,null,null,27,8,{"$f":"IF(O45-laps!$B$9<1,0,IF(laps!$B$9>0,VLOOKUP(home!O45-laps!$B$9,home!$O$19:$P$99,2),VLOOKUP(home!O45,home!$O$19:$P$99,2)))","v":8}]
[null,28,7.55,null,null,null,null,null,null,null,null,null,null,null,28,7.55,{"$f":"IF(O46-laps!$B$9<1,0,IF(laps!$B$9>0,VLOOKUP(home!O46-laps!$B$9,home!$O$19:$P$99,2),VLOOKUP(home!O46,home!$O$19:$P$99,2)))","v":7.55}]
[null,29,7.1,null,null,null,null,null,null,null,null,null,null,null,29,7.1,{"$f":"IF(O47-laps!$B$9<1,0,IF(laps!$B$9>0,VLOOKUP(home!O47-laps!$B$9,home!$O$19:$P$99,2),VLOOKUP(home!O47,home!$O$19:$P$99,2)))","v":7.1}]
[null,30,7.55,null,null,null,null,null,null,null,null,null,null,null,30,7.55,{"$f":"IF(O48-laps!$B$9<1,0,IF(laps!$B$9>0,VLOOKUP(home!O48-laps!$B$9,home!$O$19:$P$99,2),VLOOKUP(home!O48,home!$O$19:$P$99,2)))","v":7.55}]
[null,31,8,null,null,null,null,null,null,null,null,null,null,null,31,8,{"$f":"IF(O49-laps!$B$9<1,0,IF(laps!$B$9>0,VLOOKUP(home!O49-laps!$B$9,home!$O$19:$P$99,2),VLOOKUP(home!O49,home!$O$19:$P$99,2)))","v":8}]
[null,32,7.45,null,null,null,null,null,null,null,null,null,null,null,32,7.45,{"$f":"IF(O50-laps!$B$9<1,0,IF(laps!$B$9>0,VLOOKUP(home!O50-laps!$B$9,home!$O$19:$P$99,2),VLOOKUP(home!O50,home!$O$19:$P$99,2)))","v":7.45}]
[null,33,6.9,null,null,null,null,null,null,null,null,null,null,null,33,6.9,{"$f":"IF(O51-laps!$B$9<1,0,IF(laps!$B$9>0,VLOOKUP(home!O51-laps!$B$9,home!$O$19:$P$99,2),VLOOKUP(home!O51,home!$O$19:$P$99,2)))","v":6.9}]
[null,34,6.65,null,null,null,null,null,null,null,null,null,null,null,34,{"$f":"IF(OR(O52=$B$18+1,O52=$B$18-1),(C51+C53)/2,C52)","v":6.65},{"$f":"IF(O52-laps!$B$9<1,0,IF(laps!$B$9>0,VLOOKUP(home!O52-laps!$B$9,home!$O$19:$P$99,2),VLOOKUP(home!O52,home!$O$19:$P$99,2)))","v":6.65}]
[null,35,6.4,null,null,null,null,null,null,null,null,null,null,null,35,6.4,{"$f":"IF(O53-laps!$B$9<1,0,IF(laps!$B$9>0,VLOOKUP(home!O53-laps!$B$9,home!$O$19:$P$99,2),VLOOKUP(home!O53,home!$O$19:$P$99,2)))","v":6.4}]
[null,36,6.8000000000000007,null,null,null,null,null,null,null,null,null,null,null,36,6.8000000000000007,{"$f":"IF(O54-laps!$B$9<1,0,IF(laps!$B$9>0,VLOOKUP(home!O54-laps!$B$9,home!$O$19:$P$99,2),VLOOKUP(home!O54,home!$O$19:$P$99,2)))","v":6.8000000000000007}]
[null,37,7.2,null,null,null,null,null,null,null,null,null,null,null,37,7.2,{"$f":"IF(O55-laps!$B$9<1,0,IF(laps!$B$9>0,VLOOKUP(home!O55-laps!$B$9,home!$O$19:$P$99,2),VLOOKUP(home!O55,home!$O$19:$P$99,2)))","v":7.2}]
[null,38,6.2,null,null,null,null,null,null,null,null,null,null,null,38,6.2,{"$f":"IF(O56-laps!$B$9<1,0,IF(laps!$B$9>0,VLOOKUP(home!O56-laps!$B$9,home!$O$19:$P$99,2),VLOOKUP(home!O56,home!$O$19:$P$99,2)))","v":6.2}]
[null,39,5.2,null,null,null,null,null,null,null,null,null,null,null,39,5.2,{"$f":"IF(O57-laps!$B$9<1,0,IF(laps!$B$9>0,VLOOKUP(home!O57-laps!$B$9,home!$O$19:$P$99,2),VLOOKUP(home!O57,home!$O$19:$P$99,2)))","v":5.2}]
[null,40,4.55,null,null,null,null,null,null,null,null,null,null,null,40,4.55,{"$f":"IF(O58-laps!$B$9<1,0,IF(laps!$B$9>0,VLOOKUP(home!O58-laps!$B$9,home!$O$19:$P$99,2),VLOOKUP(home!O58,home!$O$19:$P$99,2)))","v":4.55}]
[null,41,3.9,null,null,null,null,null,null,null,null,null,null,null,41,3.9,{"$f":"IF(O59-laps!$B$9<1,0,IF(laps!$B$9>0,VLOOKUP(home!O59-laps!$B$9,home!$O$19:$P$99,2),VLOOKUP(home!O59,home!$O$19:$P$99,2)))","v":3.9}]
[null,42,2.9,null,null,null,null,null,null,null,null,null,null,null,42,2.9,{"$f":"IF(O60-laps!$B$9<1,0,IF(laps!$B$9>0,VLOOKUP(home!O60-laps!$B$9,home!$O$19:$P$99,2),VLOOKUP(home!O60,home!$O$19:$P$99,2)))","v":2.9}]
[null,43,1.9,null,"Final Tray ",null,null,null,null,null,null,null,null,null,43,1.9,{"$f":"IF(O61-laps!$B$9<1,0,IF(laps!$B$9>0,VLOOKUP(home!O61-laps!$B$9,home!$O$19:$P$99,2),VLOOKUP(home!O61,home!$O$19:$P$99,2)))","v":1.9}]
[null,44,0,null,null,null,null,null,null,null,null,null,null,null,44,0,{"$f":"IF(O62-laps!$B$9<1,0,IF(laps!$B$9>0,VLOOKUP(home!O62-laps!$B$9,home!$O$19:$P$99,2),VLOOKUP(home!O62,home!$O$19:$P$99,2)))","v":0}]
[null,45,0,null,null,null,null,null,null,null,null,null,null,null,45,0,{"$f":"IF(O63-laps!$B$9<1,0,IF(laps!$B$9>0,VLOOKUP(home!O63-laps!$B$9,home!$O$19:$P$99,2),VLOOKUP(home!O63,home!$O$19:$P$99,2)))","v":0}]
[null,46,0,null,null,null,null,null,null,null,null,null,null,null,46,0,{"$f":"IF(O64-laps!$B$9<1,0,IF(laps!$B$9>0,VLOOKUP(home!O64-laps!$B$9,home!$O$19:$P$99,2),VLOOKUP(home!O64,home!$O$19:$P$99,2)))","v":0}]
[null,47,0,null,null,null,null,null,null,null,null,null,null,null,47,0,{"$f":"IF(O65-laps!$B$9<1,0,IF(laps!$B$9>0,VLOOKUP(home!O65-laps!$B$9,home!$O$19:$P$99,2),VLOOKUP(home!O65,home!$O$19:$P$99,2)))","v":0}]
[null,48,0,null,null,null,null,null,null,null,null,null,null,null,48,0,{"$f":"IF(O66-laps!$B$9<1,0,IF(laps!$B$9>0,VLOOKUP(home!O66-laps!$B$9,home!$O$19:$P$99,2),VLOOKUP(home!O66,home!$O$19:$P$99,2)))","v":0}]
[null,49,0,null,null,null,null,null,null,null,null,null,null,null,49,0,{"$f":"IF(O67-laps!$B$9<1,0,IF(laps!$B$9>0,VLOOKUP(home!O67-laps!$B$9,home!$O$19:$P$99,2),VLOOKUP(home!O67,home!$O$19:$P$99,2)))","v":0}]
[null,50,0,null,null,null,null,null,null,null,null,null,null,null,50,0,{"$f":"IF(O68-laps!$B$9<1,0,IF(laps!$B$9>0,VLOOKUP(home!O68-laps!$B$9,home!$O$19:$P$99,2),VLOOKUP(home!O68,home!$O$19:$P$99,2)))","v":0}]
[null,51,0,null,null,null,null,null,null,null,null,null,null,null,51,{"$f":"IF(OR(O69=$B$18+1,O69=$B$18-1),(C68+C70)/2,C69)","v":0},{"$f":"IF(O69-laps!$B$9<1,0,IF(laps!$B$9>0,VLOOKUP(home!O69-laps!$B$9,home!$O$19:$P$99,2),VLOOKUP(home!O69,home!$O$19:$P$99,2)))","v":0}]
[null,52,0,null,null,null,null,null,null,null,null,null,null,null,52,0,{"$f":"IF(O70-laps!$B$9<1,0,IF(laps!$B$9>0,VLOOKUP(home!O70-laps!$B$9,home!$O$19:$P$99,2),VLOOKUP(home!O70,home!$O$19:$P$99,2)))","v":0}]
[null,53,0,null,null,null,null,null,null,null,null,null,null,null,53,0,{"$f":"IF(O71-laps!$B$9<1,0,IF(laps!$B$9>0,VLOOKUP(home!O71-laps!$B$9,home!$O$19:$P$99,2),VLOOKUP(home!O71,home!$O$19:$P$99,2)))","v":0}]
[null,54,0,null,null,null,null,null,null,null,null,null,null,null,54,0,{"$f":"IF(O72-laps!$B$9<1,0,IF(laps!$B$9>0,VLOOKUP(home!O72-laps!$B$9,home!$O$19:$P$99,2),VLOOKUP(home!O72,home!$O$19:$P$99,2)))","v":0}]
[null,55,0,null,null,null,null,null,null,null,null,null,null,null,55,0,{"$f":"IF(O73-laps!$B$9<1,0,IF(laps!$B$9>0,VLOOKUP(home!O73-laps!$B$9,home!$O$19:$P$99,2),VLOOKUP(home!O73,home!$O$19:$P$99,2)))","v":0}]
[null,56,0,null,null,null,null,null,null,null,null,null,null,null,56,0,{"$f":"IF(O74-laps!$B$9<1,0,IF(laps!$B$9>0,VLOOKUP(home!O74-laps!$B$9,home!$O$19:$P$99,2),VLOOKUP(home!O74,home!$O$19:$P$99,2)))","v":0}]
[null,57,0,null,null,null,null,null,null,null,null,null,null,null,57,0,{"$f":"IF(O75-laps!$B$9<1,0,IF(laps!$B$9>0,VLOOKUP(home!O75-laps!$B$9,home!$O$19:$P$99,2),VLOOKUP(home!O75,home!$O$19:$P$99,2)))","v":0}]
[null,58,0,null,null,null,null,null,null,null,null,null,null,null,58,0,{"$f":"IF(O76-laps!$B$9<1,0,IF(laps!$B$9>0,VLOOKUP(home!O76-laps!$B$9,home!$O$19:$P$99,2),VLOOKUP(home!O76,home!$O$19:$P$99,2)))","v":0}]
[null,59,0,null,null,null,null,null,null,null,null,null,null,null,59,0,{"$f":"IF(O77-laps!$B$9<1,0,IF(laps!$B$9>0,VLOOKUP(home!O77-laps!$B$9,home!$O$19:$P$99,2),VLOOKUP(home!O77,home!$O$19:$P$99,2)))","v":0}]
[null,60,0,null,null,null,null,null,null,null,null,null,null,null,60,0,{"$f":"IF(O78-laps!$B$9<1,0,IF(laps!$B$9>0,VLOOKUP(home!O78-laps!$B$9,home!$O$19:$P$99,2),VLOOKUP(home!O78,home!$O$19:$P$99,2)))","v":0}]
[null,61,0,null,null,null,null,null,null,null,null,null,null,null,61,0,{"$f":"IF(O79-laps!$B$9<1,0,IF(laps!$B$9>0,VLOOKUP(home!O79-laps!$B$9,home!$O$19:$P$99,2),VLOOKUP(home!O79,home!$O$19:$P$99,2)))","v":0}]
[null,62,0,null,null,null,null,null,null,null,null,null,null,null,62,0,{"$f":"IF(O80-laps!$B$9<1,0,IF(laps!$B$9>0,VLOOKUP(home!O80-laps!$B$9,home!$O$19:$P$99,2),VLOOKUP(home!O80,home!$O$19:$P$99,2)))","v":0}]
[null,63,0,null,null,null,null,null,null,null,null,null,null,null,63,0,{"$f":"IF(O81-laps!$B$9<1,0,IF(laps!$B$9>0,VLOOKUP(home!O81-laps!$B$9,home!$O$19:$P$99,2),VLOOKUP(home!O81,home!$O$19:$P$99,2)))","v":0}]
[null,64,0,null,null,null,null,null,null,null,null,null,null,null,64,0,{"$f":"IF(O82-laps!$B$9<1,0,IF(laps!$B$9>0,VLOOKUP(home!O82-laps!$B$9,home!$O$19:$P$99,2),VLOOKUP(home!O82,home!$O$19:$P$99,2)))","v":0}]
[null,65,0,null,null,null,null,null,null,null,null,null,null,null,65,0,{"$f":"IF(O83-laps!$B$9<1,0,IF(laps!$B$9>0,VLOOKUP(home!O83-laps!$B$9,home!$O$19:$P$99,2),VLOOKUP(home!O83,home!$O$19:$P$99,2)))","v":0}]
[null,66,0,null,null,null,null,null,null,null,null,null,null,null,66,0,{"$f":"IF(O84-laps!$B$9<1,0,IF(laps!$B$9>0,VLOOKUP(home!O84-laps!$B$9,home!$O$19:$P$99,2),VLOOKUP(home!O84,home!$O$19:$P$99,2)))","v":0}]
[null,67,0,null,null,null,null,null,null,null,null,null,null,null,67,0,{"$f":"IF(O85-laps!$B$9<1,0,IF(laps!$B$9>0,VLOOKUP(home!O85-laps!$B$9,home!$O$19:$P$99,2),VLOOKUP(home!O85,home!$O$19:$P$99,2)))","v":0}]
[null,68,0,null,null,null,null,null,null,null,null,null,null,null,68,0,{"$f":"IF(O86-laps!$B$9<1,0,IF(laps!$B$9>0,VLOOKUP(home!O86-laps!$B$9,home!$O$19:$P$99,2),VLOOKUP(home!O86,home!$O$19:$P$99,2)))","v":0}]
[null,69,0,null,null,null,null,null,null,null,null,null,null,null,69,0,{"$f":"IF(O87-laps!$B$9<1,0,IF(laps!$B$9>0,VLOOKUP(home!O87-laps!$B$9,home!$O$19:$P$99,2),VLOOKUP(home!O87,home!$O$19:$P$99,2)))","v":0}]
[null,70,0,null,null,null,null,null,null,null,null,null,null,null,70,0,{"$f":"IF(O88-laps!$B$9<1,0,IF(laps!$B$9>0,VLOOKUP(home!O88-laps!$B$9,home!$O$19:$P$99,2),VLOOKUP(home!O88,home!$O$19:$P$99,2)))","v":0}]
[null,71,0,null,null,null,null,null,null,null,null,null,null,null,71,0,{"$f":"IF(O89-laps!$B$9<1,0,IF(laps!$B$9>0,VLOOKUP(home!O89-laps!$B$9,home!$O$19:$P$99,2),VLOOKUP(home!O89,home!$O$19:$P$99,2)))","v":0}]
[null,72,0,null,null,null,null,null,null,null,null,null,null,null,72,0,{"$f":"IF(O90-laps!$B$9<1,0,IF(laps!$B$9>0,VLOOKUP(home!O90-laps!$B$9,home!$O$19:$P$99,2),VLOOKUP(home!O90,home!$O$19:$P$99,2)))","v":0}]
[null,73,0,null,null,null,null,null,null,null,null,null,null,null,73,0,{"$f":"IF(O91-laps!$B$9<1,0,IF(laps!$B$9>0,VLOOKUP(home!O91-laps!$B$9,home!$O$19:$P$99,2),VLOOKUP(home!O91,home!$O$19:$P$99,2)))","v":0}]
[null,74,0,null,null,null,null,null,null,null,null,null,null,null,74,0,{"$f":"IF(O92-laps!$B$9<1,0,IF(laps!$B$9>0,VLOOKUP(home!O92-laps!$B$9,home!$O$19:$P$99,2),VLOOKUP(home!O92,home!$O$19:$P$99,2)))","v":0}]
[null,75,0,null,null,null,null,null,null,null,null,null,null,null,75,0,{"$f":"IF(O93-laps!$B$9<1,0,IF(laps!$B$9>0,VLOOKUP(home!O93-laps!$B$9,home!$O$19:$P$99,2),VLOOKUP(home!O93,home!$O$19:$P$99,2)))","v":0}]
[null,76,0,null,null,null,null,null,null,null,null,null,null,null,76,0,{"$f":"IF(O94-laps!$B$9<1,0,IF(laps!$B$9>0,VLOOKUP(home!O94-laps!$B$9,home!$O$19:$P$99,2),VLOOKUP(home!O94,home!$O$19:$P$99,2)))","v":0}]
[null,77,0,null,null,null,null,null,null,null,null,null,null,null,77,0,{"$f":"IF(O95-laps!$B$9<1,0,IF(laps!$B$9>0,VLOOKUP(home!O95-laps!$B$9,home!$O$19:$P$99,2),VLOOKUP(home!O95,home!$O$19:$P$99,2)))","v":0}]
[null,78,0,null,null,null,null,null,null,null,null,null,null,null,78,0,{"$f":"IF(O96-laps!$B$9<1,0,IF(laps!$B$9>0,VLOOKUP(home!O96-laps!$B$9,home!$O$19:$P$99,2),VLOOKUP(home!O96,home!$O$19:$P$99,2)))","v":0}]
[null,79,0,null,null,null,null,null,null,null,null,null,null,null,79,0,{"$f":"IF(O97-laps!$B$9<1,0,IF(laps!$B$9>0,VLOOKUP(home!O97-laps!$B$9,home!$O$19:$P$99,2),VLOOKUP(home!O97,home!$O$19:$P$99,2)))","v":0}]
[null,80,0,null,null,null,null,null,null,null,null,null,null,null,80,0,{"$f":"IF(O98-laps!$B$9<1,0,IF(laps!$B$9>0,VLOOKUP(home!O98-laps!$B$9,home!$O$19:$P$99,2),VLOOKUP(home!O98,home!$O$19:$P$99,2)))","v":0}]
[null,81,0,null,null,null,null,null,null,null,null,null,null,null,81,0,{"$f":"IF(O99-laps!$B$9<1,0,IF(laps!$B$9>0,VLOOKUP(home!O99-laps!$B$9,home!$O$19:$P$99,2),VLOOKUP(home!O99,home!$O$19:$P$99,2)))","v":0}]

{"sheet":"Spread Patterns","index":1,"n_rows":14,"n_cols":2,"rows_kept":14,"cut":false,"hidden":true,"merged":[]}
[]
["Bout width",39]
[]
[]
[]
[]
[]
[]
[]
[]
[]
[]
[]
["Bout width",39]

{"sheet":"laps","index":2,"n_rows":386,"n_cols":184,"rows_kept":386,"cut":false,"hidden":true,"merged":[]}
[null,null,null,null,1,2,3,4,5,6,7,8,9,10,11,12,13,14,15,16,17,18,19,20,21,22,23,24,25,26,27,28,29,30,31,32,33,34,35,36,37,38,39,40,41,42,43,44,45,46,47,48,49,50,51,52,53,54,55,56,57,58,59,60,61,62,63,64,65,66,67,68,69,70,71,72,73,74,75,76,77,78,79,80,81,82,83,84,85,86,87,88,89,90,91,92,93,94,95,96,97,98,99,100,101,102,103,104,105,106,107,108,109,110,111,112,113,114,115,116,117,118,119,120,121,122,123,124,125,126,127,128,129,130,131,132,133,134,135,136,137,138,139,140,141,142,143,144,145,146,147,148,149,150,151,152,153,154,155,156,157,158,159,160,161,162,163,164,165,166,167,168,169,170,171,172,173,174,175,176]
[null,null,null,null,{"$f":"OFFSET(home!$Q$18,laps!E1,0)","v":1.9},{"$f":"OFFSET(home!$Q$18,laps!F1,0)","v":2.9},{"$f":"OFFSET(home!$Q$18,laps!G1,0)","v":3.9},{"$f":"OFFSET(home!$Q$18,laps!H1,0)","v":4.55},{"$f":"OFFSET(home!$Q$18,laps!I1,0)","v":5.2},{"$f":"OFFSET(home!$Q$18,laps!J1,0)","v":6.2},{"$f":"OFFSET(home!$Q$18,laps!K1,0)","v":7.2},{"$f":"OFFSET(home!$Q$18,laps!L1,0)","v":6.8000000000000007},{"$f":"OFFSET(home!$Q$18,laps!M1,0)","v":6.4},{"$f":"OFFSET(home!$Q$18,laps!N1,0)","v":6.65},{"$f":"OFFSET(home!$Q$18,laps!O1,0)","v":6.9},{"$f":"OFFSET(home!$Q$18,laps!P1,0)","v":7.45},{"$f":"OFFSET(home!$Q$18,laps!Q1,0)","v":8},{"$f":"OFFSET(home!$Q$18,laps!R1,0)","v":7.55},{"$f":"OFFSET(home!$Q$18,laps!S1,0)","v":7.1},{"$f":"OFFSET(home!$Q$18,laps!T1,0)","v":7.55},{"$f":"OFFSET(home!$Q$18,laps!U1,0)","v":8},{"$f":"OFFSET(home!$Q$18,laps!V1,0)","v":8.5500000000000007},{"$f":"OFFSET(home!$Q$18,laps!W1,0)","v":9.1},{"$f":"OFFSET(home!$Q$18,laps!X1,0)","v":10.433333333333334},{"$f":"OFFSET(home!$Q$18,laps!Y1,0)","v":11.766666666666666},{"$f":"OFFSET(home!$Q$18,laps!Z1,0)","v":13.1},{"$f":"OFFSET(home!$Q$18,laps!AA1,0)","v":11.766666666666666},{"$f":"OFFSET(home!$Q$18,laps!AB1,0)","v":10.433333333333332},{"$f":"OFFSET(home!$Q$18,laps!AC1,0)","v":9.1},{"$f":"OFFSET(home!$Q$18,laps!AD1,0)","v":8.5500000000000007},{"$f":"OFFSET(home!$Q$18,laps!AE1,0)","v":8},{"$f":"OFFSET(home!$Q$18,laps!AF1,0)","v":7.55},{"$f":"OFFSET(home!$Q$18,laps!AG1,0)","v":7.1},{"$f":"OFFSET(home!$Q$18,laps!AH1,0)","v":7.55},{"$f":"OFFSET(home!$Q$18,laps!AI1,0)","v":8},{"$f":"OFFSET(home!$Q$18,laps!AJ1,0)","v":7.45},{"$f":"OFFSET(home!$Q$18,laps!AK1,0)","v":6.9},{"$f":"OFFSET(home!$Q$18,laps!AL1,0)","v":6.65},{"$f":"OFFSET(home!$Q$18,laps!AM1,0)","v":6.4},{"$f":"OFFSET(home!$Q$18,laps!AN1,0)","v":6.8000000000000007},{"$f":"OFFSET(home!$Q$18,laps!AO1,0)","v":7.2},{"$f":"OFFSET(home!$Q$18,laps!AP1,0)","v":6.2},{"$f":"OFFSET(home!$Q$18,laps!AQ1,0)","v":5.2},{"$f":"OFFSET(home!$Q$18,laps!AR1,0)","v":4.55},{"$f":"OFFSET(home!$Q$18,laps!AS1,0)","v":3.9},{"$f":"OFFSET(home!$Q$18,laps!AT1,0)","v":2.9},{"$f":"OFFSET(home!$Q$18,laps!AU1,0)","v":1.9},{"$f":"OFFSET(home!$Q$18,laps!AV1,0)","v":0},{"$f":"OFFSET(home!$Q$18,laps!AW1,0)","v":0},{"$f":"OFFSET(home!$Q$18,laps!AX1,0)","v":0},{"$f":"OFFSET(home!$Q$18,laps!AY1,0)","v":0},{"$f":"OFFSET(home!$Q$18,laps!AZ1,0)","v":0},{"$f":"OFFSET(home!$Q$18,laps!BA1,0)","v":0},{"$f":"OFFSET(home!$Q$18,laps!BB1,0)","v":0},{"$f":"OFFSET(home!$Q$18,laps!BC1,0)","v":0},{"$f":"OFFSET(home!$Q$18,laps!BD1,0)","v":0},{"$f":"OFFSET(home!$Q$18,laps!BE1,0)","v":0},{"$f":"OFFSET(home!$Q$18,laps!BF1,0)","v":0},{"$f":"OFFSET(home!$Q$18,laps!BG1,0)","v":0},{"$f":"OFFSET(home!$Q$18,laps!BH1,0)","v":0},{"$f":"OFFSET(home!$Q$18,laps!BI1,0)","v":0},{"$f":"OFFSET(home!$Q$18,laps!BJ1,0)","v":0},{"$f":"OFFSET(home!$Q$18,laps!BK1,0)","v":0},{"$f":"OFFSET(home!$Q$18,laps!BL1,0)","v":0},{"$f":"OFFSET(home!$Q$18,laps!BM1,0)","v":0},{"$f":"OFFSET(home!$Q$18,laps!BN1,0)","v":0},{"$f":"OFFSET(home!$Q$18,laps!BO1,0)","v":0},{"$f":"OFFSET(home!$Q$18,laps!BP1,0)","v":0},{"$f":"OFFSET(home!$Q$18,laps!BQ1,0)","v":0},{"$f":"OFFSET(home!$Q$18,laps!BR1,0)","v":0},{"$f":"OFFSET(home!$Q$18,laps!BS1,0)","v":0},{"$f":"OFFSET(home!$Q$18,laps!BT1,0)","v":0},{"$f":"OFFSET(home!$Q$18,laps!BU1,0)","v":0},{"$f":"OFFSET(home!$Q$18,laps!BV1,0)","v":0},{"$f":"OFFSET(home!$Q$18,laps!BW1,0)","v":0},{"$f":"OFFSET(home!$Q$18,laps!BX1,0)","v":0},{"$f":"OFFSET(home!$Q$18,laps!BY1,0)","v":0},{"$f":"OFFSET(home!$Q$18,laps!BZ1,0)","v":0},{"$f":"OFFSET(home!$Q$18,laps!CA1,0)","v":0},{"$f":"OFFSET(home!$Q$18,laps!CB1,0)","v":0},{"$f":"OFFSET(home!$Q$18,laps!CC1,0)","v":0},{"$f":"OFFSET(home!$Q$18,laps!CD1,0)","v":0},{"$f":"OFFSET(home!$Q$18,laps!CE1,0)","v":0},{"$f":"OFFSET(home!$Q$18,laps!CF1,0)","v":0},{"$f":"OFFSET(home!$Q$18,laps!CG1,0)","v":0}]
[]
[]
[]
["trays",{"$f":"COUNTIFS(home!C19:C99,\">0.0\")","v":43}]
["Centre",{"$f":"home!B18","v":22},{"$f":"1-MOD(D7,$B$106)","v":0},1,{"$f":"E2","v":1.9},{"$f":"F2","v":2.9},3.9,4.55,5.2,6.2,7.2,6.8000000000000007,6.4,6.65,6.9,7.45,8,7.55,7.1,7.55,8,8.5500000000000007,9.1,10.433333333333334,11.766666666666666,13.1,11.766666666666666,10.433333333333332,9.1,8.5500000000000007,8,7.55,7.1,7.55,8,7.45,6.9,6.65,6.4,6.8000000000000007,7.2,6.2,5.2,4.55,3.9,2.9,1.9,0,0,0,0,0,0,0,0,0,0,0,0,0,0,0,0,0,0,0,0,0,0,{"$f":"BR2","v":0},0,0,0,0,0,0,0,0,0,0,0,0,0,0,0]
["2n-1",{"$f":"2*B7-1","v":43},-1,2,null,{"$f":"E2","v":1.9},2.9,3.9,4.55,5.2,6.2,7.2,6.8000000000000007,6.4,6.65,6.9,7.45,8,7.55,7.1,7.55,8,8.5500000000000007,9.1,10.433333333333334,11.766666666666666,13.1,11.766666666666666,10.433333333333332,9.1,8.5500000000000007,8,7.55,7.1,7.55,8,7.45,6.9,6.65,6.4,6.8000000000000007,7.2,6.2,5.2,4.55,3.9,2.9,1.9,0,0,0,0,0,0,0,{"$f":"BC2","v":0},{"$f":"BD2","v":0},{"$f":"BE2","v":0},{"$f":"BF2","v":0},{"$f":"BG2","v":0},{"$f":"BH2","v":0},{"$f":"BI2","v":0},{"$f":"BJ2","v":0},{"$f":"BK2","v":0},{"$f":"BL2","v":0},{"$f":"BM2","v":0},{"$f":"BN2","v":0},{"$f":"BO2","v":0},{"$f":"BP2","v":0},{"$f":"BQ2","v":0},{"$f":"BR2","v":0},{"$f":"BS2","v":0},{"$f":"BT2","v":0},{"$f":"BU2","v":0},{"$f":"BV2","v":0},{"$f":"BW2","v":0},{"$f":"BX2","v":0},{"$f":"BY2","v":0},{"$f":"BZ2","v":0},{"$f":"CA2","v":0},{"$f":"CB2","v":0},{"$f":"CC2","v":0},{"$f":"CD2","v":0},{"$f":"CE2","v":0},{"$f":"CF2","v":0},{"$f":"CG2","v":0}]
["diff",{"$f":"B6-B8","v":0},1,3,null,null,{"$f":"E2","v":1.9},2.9,3.9,4.55,5.2,6.2,7.2,6.8000000000000007,6.4,6.65,6.9,7.45,8,7.55,7.1,7.55,8,8.5500000000000007,9.1,10.433333333333334,11.766666666666666,13.1,11.766666666666666,10.433333333333332,9.1,8.5500000000000007,8,7.55,7.1,7.55,8,7.45,6.9,6.65,6.4,6.8000000000000007,7.2,6.2,5.2,4.55,3.9,2.9,1.9,0,0,0,0,0,0,0,{"$f":"BC2","v":0},{"$f":"BD2","v":0},{"$f":"BE2","v":0},{"$f":"BF2","v":0},{"$f":"BG2","v":0},{"$f":"BH2","v":0},{"$f":"BI2","v":0},{"$f":"BJ2","v":0},{"$f":"BK2","v":0},{"$f":"BL2","v":0},{"$f":"BM2","v":0},{"$f":"BN2","v":0},{"$f":"BO2","v":0},{"$f":"BP2","v":0},{"$f":"BQ2","v":0},{"$f":"BR2","v":0},{"$f":"BS2","v":0},{"$f":"BT2","v":0},{"$f":"BU2","v":0},{"$f":"BV2","v":0},{"$f":"BW2","v":0},{"$f":"BX2","v":0},{"$f":"BY2","v":0},{"$f":"BZ2","v":0},{"$f":"CA2","v":0},{"$f":"CB2","v":0},{"$f":"CC2","v":0},{"$f":"CD2","v":0},{"$f":"CE2","v":0},{"$f":"CF2","v":0},{"$f":"CG2","v":0}]
["virt#",{"$f":"B6+ABS(B9)","v":43},0,4,null,null,null,{"$f":"E2","v":1.9},2.9,3.9,4.55,5.2,6.2,7.2,6.8000000000000007,6.4,6.65,6.9,7.45,8,7.55,7.1,7.55,8,8.5500000000000007,9.1,10.433333333333334,11.766666666666666,13.1,11.766666666666666,10.433333333333332,9.1,8.5500000000000007,8,7.55,7.1,7.55,8,7.45,6.9,6.65,6.4,6.8000000000000007,7.2,6.2,5.2,4.55,3.9,2.9,1.9,0,0,0,0,0,0,0,{"$f":"BC2","v":0},{"$f":"BD2","v":0},{"$f":"BE2","v":0},{"$f":"BF2","v":0},{"$f":"BG2","v":0},{"$f":"BH2","v":0},{"$f":"BI2","v":0},{"$f":"BJ2","v":0},{"$f":"BK2","v":0},{"$f":"BL2","v":0},{"$f":"BM2","v":0},{"$f":"BN2","v":0},{"$f":"BO2","v":0},{"$f":"BP2","v":0},{"$f":"BQ2","v":0},{"$f":"BR2","v":0},{"$f":"BS2","v":0},{"$f":"BT2","v":0},{"$f":"BU2","v":0},{"$f":"BV2","v":0},{"$f":"BW2","v":0},{"$f":"BX2","v":0},{"$f":"BY2","v":0},{"$f":"BZ2","v":0},{"$f":"CA2","v":0},{"$f":"CB2","v":0},{"$f":"CC2","v":0},{"$f":"CD2","v":0},{"$f":"CE2","v":0},{"$f":"CF2","v":0},{"$f":"CG2","v":0}]
["virtc",{"$f":"ROUNDUP(B6/2,0)","v":22},-1,5,null,null,null,null,{"$f":"E2","v":1.9},2.9,3.9,4.55,5.2,6.2,7.2,6.8000000000000007,6.4,6.65,6.9,7.45,8,7.55,7.1,7.55,8,8.5500000000000007,9.1,10.433333333333334,11.766666666666666,13.1,11.766666666666666,10.433333333333332,9.1,8.5500000000000007,8,7.55,7.1,7.55,8,7.45,6.9,6.65,6.4,6.8000000000000007,7.2,6.2,5.2,4.55,3.9,2.9,1.9,0,0,0,0,0,0,0,{"$f":"BC2","v":0},{"$f":"BD2","v":0},{"$f":"BE2","v":0},{"$f":"BF2","v":0},{"$f":"BG2","v":0},{"$f":"BH2","v":0},{"$f":"BI2","v":0},{"$f":"BJ2","v":0},{"$f":"BK2","v":0},{"$f":"BL2","v":0},{"$f":"BM2","v":0},{"$f":"BN2","v":0},{"$f":"BO2","v":0},{"$f":"BP2","v":0},{"$f":"BQ2","v":0},{"$f":"BR2","v":0},{"$f":"BS2","v":0},{"$f":"BT2","v":0},{"$f":"BU2","v":0},{"$f":"BV2","v":0},{"$f":"BW2","v":0},{"$f":"BX2","v":0},{"$f":"BY2","v":0},{"$f":"BZ2","v":0},{"$f":"CA2","v":0},{"$f":"CB2","v":0},{"$f":"CC2","v":0},{"$f":"CD2","v":0},{"$f":"CE2","v":0},{"$f":"CF2","v":0},{"$f":"CG2","v":0}]
["abs diff",{"$f":"ABS(B9)","v":0},1,6,null,null,null,null,null,{"$f":"E2","v":1.9},2.9,3.9,4.55,5.2,6.2,7.2,6.8000000000000007,6.4,6.65,6.9,7.45,8,7.55,7.1,7.55,8,8.5500000000000007,9.1,10.433333333333334,11.766666666666666,13.1,11.766666666666666,10.433333333333332,9.1,8.5500000000000007,8,7.55,7.1,7.55,8,7.45,6.9,6.65,6.4,6.8000000000000007,7.2,6.2,5.2,4.55,3.9,2.9,1.9,0,0,0,0,0,0,0,{"$f":"BC2","v":0},{"$f":"BD2","v":0},{"$f":"BE2","v":0},{"$f":"BF2","v":0},{"$f":"BG2","v":0},{"$f":"BH2","v":0},{"$f":"BI2","v":0},{"$f":"BJ2","v":0},{"$f":"BK2","v":0},{"$f":"BL2","v":0},{"$f":"BM2","v":0},{"$f":"BN2","v":0},{"$f":"BO2","v":0},{"$f":"BP2","v":0},{"$f":"BQ2","v":0},{"$f":"BR2","v":0},{"$f":"BS2","v":0},{"$f":"BT2","v":0},{"$f":"BU2","v":0},{"$f":"BV2","v":0},{"$f":"BW2","v":0},{"$f":"BX2","v":0},{"$f":"BY2","v":0},{"$f":"BZ2","v":0},{"$f":"CA2","v":0},{"$f":"CB2","v":0},{"$f":"CC2","v":0},{"$f":"CD2","v":0},{"$f":"CE2","v":0},{"$f":"CF2","v":0},{"$f":"CG2","v":0}]
[null,null,0,7,null,null,null,null,null,null,{"$f":"E2","v":1.9},2.9,3.9,4.55,5.2,6.2,7.2,6.8000000000000007,6.4,6.65,6.9,7.45,8,7.55,7.1,7.55,8,8.5500000000000007,9.1,10.433333333333334,11.766666666666666,13.1,11.766666666666666,10.433333333333332,9.1,8.5500000000000007,8,7.55,7.1,7.55,8,7.45,6.9,6.65,6.4,6.8000000000000007,7.2,6.2,5.2,4.55,3.9,2.9,1.9,0,0,0,0,0,0,0,{"$f":"BC2","v":0},{"$f":"BD2","v":0},{"$f":"BE2","v":0},{"$f":"BF2","v":0},{"$f":"BG2","v":0},{"$f":"BH2","v":0},{"$f":"BI2","v":0},{"$f":"BJ2","v":0},{"$f":"BK2","v":0},{"$f":"BL2","v":0},{"$f":"BM2","v":0},{"$f":"BN2","v":0},{"$f":"BO2","v":0},{"$f":"BP2","v":0},{"$f":"BQ2","v":0},{"$f":"BR2","v":0},{"$f":"BS2","v":0},{"$f":"BT2","v":0},{"$f":"BU2","v":0},{"$f":"BV2","v":0},{"$f":"BW2","v":0},{"$f":"BX2","v":0},{"$f":"BY2","v":0},{"$f":"BZ2","v":0},{"$f":"CA2","v":0},{"$f":"CB2","v":0},{"$f":"CC2","v":0},{"$f":"CD2","v":0},{"$f":"CE2","v":0},{"$f":"CF2","v":0},{"$f":"CG2","v":0}]
[null,null,-1,8,null,null,null,null,null,null,null,{"$f":"E2","v":1.9},2.9,3.9,4.55,5.2,6.2,7.2,6.8000000000000007,6.4,6.65,6.9,7.45,8,7.55,7.1,7.55,8,8.5500000000000007,9.1,10.433333333333334,11.766666666666666,13.1,11.766666666666666,10.433333333333332,9.1,8.5500000000000007,8,7.55,7.1,7.55,8,7.45,6.9,6.65,6.4,6.8000000000000007,7.2,6.2,5.2,4.55,3.9,2.9,1.9,0,0,0,0,0,0,0,{"$f":"BC2","v":0},{"$f":"BD2","v":0},{"$f":"BE2","v":0},{"$f":"BF2","v":0},{"$f":"BG2","v":0},{"$f":"BH2","v":0},{"$f":"BI2","v":0},{"$f":"BJ2","v":0},{"$f":"BK2","v":0},{"$f":"BL2","v":0},{"$f":"BM2","v":0},{"$f":"BN2","v":0},{"$f":"BO2","v":0},{"$f":"BP2","v":0},{"$f":"BQ2","v":0},{"$f":"BR2","v":0},{"$f":"BS2","v":0},{"$f":"BT2","v":0},{"$f":"BU2","v":0},{"$f":"BV2","v":0},{"$f":"BW2","v":0},{"$f":"BX2","v":0},{"$f":"BY2","v":0},{"$f":"BZ2","v":0},{"$f":"CA2","v":0},{"$f":"CB2","v":0},{"$f":"CC2","v":0},{"$f":"CD2","v":0},{"$f":"CE2","v":0},{"$f":"CF2","v":0},{"$f":"CG2","v":0}]
[null,null,1,9,null,null,null,null,null,null,null,null,{"$f":"E2","v":1.9},2.9,3.9,4.55,5.2,6.2,7.2,6.8000000000000007,6.4,6.65,6.9,7.45,8,7.55,7.1,7.55,8,8.5500000000000007,9.1,10.433333333333334,11.766666666666666,13.1,11.766666666666666,10.433333333333332,9.1,8.5500000000000007,8,7.55,7.1,7.55,8,7.45,6.9,6.65,6.4,6.8000000000000007,7.2,6.2,5.2,4.55,3.9,2.9,1.9,0,0,0,0,0,0,0,{"$f":"BC2","v":0},{"$f":"BD2","v":0},{"$f":"BE2","v":0},{"$f":"BF2","v":0},{"$f":"BG2","v":0},{"$f":"BH2","v":0},{"$f":"BI2","v":0},{"$f":"BJ2","v":0},{"$f":"BK2","v":0},{"$f":"BL2","v":0},{"$f":"BM2","v":0},{"$f":"BN2","v":0},{"$f":"BO2","v":0},{"$f":"BP2","v":0},{"$f":"BQ2","v":0},{"$f":"BR2","v":0},{"$f":"BS2","v":0},{"$f":"BT2","v":0},{"$f":"BU2","v":0},{"$f":"BV2","v":0},{"$f":"BW2","v":0},{"$f":"BX2","v":0},{"$f":"BY2","v":0},{"$f":"BZ2","v":0},{"$f":"CA2","v":0},{"$f":"CB2","v":0},{"$f":"CC2","v":0},{"$f":"CD2","v":0},{"$f":"CE2","v":0},{"$f":"CF2","v":0},{"$f":"CG2","v":0}]
[null,null,0,10,null,null,null,null,null,null,null,null,null,{"$f":"E2","v":1.9},2.9,3.9,4.55,5.2,6.2,7.2,6.8000000000000007,6.4,6.65,6.9,7.45,8,7.55,7.1,7.55,8,8.5500000000000007,9.1,10.433333333333334,11.766666666666666,13.1,11.766666666666666,10.433333333333332,9.1,8.5500000000000007,8,7.55,7.1,7.55,8,7.45,6.9,6.65,6.4,6.8000000000000007,7.2,6.2,5.2,4.55,3.9,2.9,1.9,0,0,0,0,0,0,0,{"$f":"BC2","v":0},{"$f":"BD2","v":0},{"$f":"BE2","v":0},{"$f":"BF2","v":0},{"$f":"BG2","v":0},{"$f":"BH2","v":0},{"$f":"BI2","v":0},{"$f":"BJ2","v":0},{"$f":"BK2","v":0},{"$f":"BL2","v":0},{"$f":"BM2","v":0},{"$f":"BN2","v":0},{"$f":"BO2","v":0},{"$f":"BP2","v":0},{"$f":"BQ2","v":0},{"$f":"BR2","v":0},{"$f":"BS2","v":0},{"$f":"BT2","v":0},{"$f":"BU2","v":0},{"$f":"BV2","v":0},{"$f":"BW2","v":0},{"$f":"BX2","v":0},{"$f":"BY2","v":0},{"$f":"BZ2","v":0},{"$f":"CA2","v":0},{"$f":"CB2","v":0},{"$f":"CC2","v":0},{"$f":"CD2","v":0},{"$f":"CE2","v":0},{"$f":"CF2","v":0},{"$f":"CG2","v":0}]
[null,null,-1,11,null,null,null,null,null,null,null,null,null,null,{"$f":"E2","v":1.9},2.9,3.9,4.55,5.2,6.2,7.2,6.8000000000000007,6.4,6.65,6.9,7.45,8,7.55,7.1,7.55,8,8.5500000000000007,9.1,10.433333333333334,11.766666666666666,13.1,11.766666666666666,10.433333333333332,9.1,8.5500000000000007,8,7.55,7.1,7.55,8,7.45,6.9,6.65,6.4,6.8000000000000007,7.2,6.2,5.2,4.55,3.9,2.9,1.9,0,0,0,0,0,0,0,{"$f":"BC2","v":0},{"$f":"BD2","v":0},{"$f":"BE2","v":0},{"$f":"BF2","v":0},{"$f":"BG2","v":0},{"$f":"BH2","v":0},{"$f":"BI2","v":0},{"$f":"BJ2","v":0},{"$f":"BK2","v":0},{"$f":"BL2","v":0},{"$f":"BM2","v":0},{"$f":"BN2","v":0},{"$f":"BO2","v":0},{"$f":"BP2","v":0},{"$f":"BQ2","v":0},{"$f":"BR2","v":0},{"$f":"BS2","v":0},{"$f":"BT2","v":0},{"$f":"BU2","v":0},{"$f":"BV2","v":0},{"$f":"BW2","v":0},{"$f":"BX2","v":0},{"$f":"BY2","v":0},{"$f":"BZ2","v":0},{"$f":"CA2","v":0},{"$f":"CB2","v":0},{"$f":"CC2","v":0},{"$f":"CD2","v":0},{"$f":"CE2","v":0},{"$f":"CF2","v":0},{"$f":"CG2","v":0}]
[null,null,1,12,null,null,null,null,null,null,null,null,null,null,null,{"$f":"E2","v":1.9},2.9,3.9,4.55,5.2,6.2,7.2,6.8000000000000007,6.4,6.65,6.9,7.45,8,7.55,7.1,7.55,8,8.5500000000000007,9.1,10.433333333333334,11.766666666666666,13.1,11.766666666666666,10.433333333333332,9.1,8.5500000000000007,8,7.55,7.1,7.55,8,7.45,6.9,6.65,6.4,6.8000000000000007,7.2,6.2,5.2,4.55,3.9,2.9,1.9,0,0,0,0,0,0,0,{"$f":"BC2","v":0},{"$f":"BD2","v":0},{"$f":"BE2","v":0},{"$f":"BF2","v":0},{"$f":"BG2","v":0},{"$f":"BH2","v":0},{"$f":"BI2","v":0},{"$f":"BJ2","v":0},{"$f":"BK2","v":0},{"$f":"BL2","v":0},{"$f":"BM2","v":0},{"$f":"BN2","v":0},{"$f":"BO2","v":0},{"$f":"BP2","v":0},{"$f":"BQ2","v":0},{"$f":"BR2","v":0},{"$f":"BS2","v":0},{"$f":"BT2","v":0},{"$f":"BU2","v":0},{"$f":"BV2","v":0},{"$f":"BW2","v":0},{"$f":"BX2","v":0},{"$f":"BY2","v":0},{"$f":"BZ2","v":0},{"$f":"CA2","v":0},{"$f":"CB2","v":0},{"$f":"CC2","v":0},{"$f":"CD2","v":0},{"$f":"CE2","v":0},{"$f":"CF2","v":0},{"$f":"CG2","v":0}]
[null,null,0,13,null,null,null,null,null,null,null,null,null,null,null,null,{"$f":"E2","v":1.9},2.9,3.9,4.55,5.2,6.2,7.2,6.8000000000000007,6.4,6.65,6.9,7.45,8,7.55,7.1,7.55,8,8.5500000000000007,9.1,10.433333333333334,11.766666666666666,13.1,11.766666666666666,10.433333333333332,9.1,8.5500000000000007,8,7.55,7.1,7.55,8,7.45,6.9,6.65,6.4,6.8000000000000007,7.2,6.2,5.2,4.55,3.9,2.9,1.9,0,0,0,0,0,0,0,{"$f":"BC2","v":0},{"$f":"BD2","v":0},{"$f":"BE2","v":0},{"$f":"BF2","v":0},{"$f":"BG2","v":0},{"$f":"BH2","v":0},{"$f":"BI2","v":0},{"$f":"BJ2","v":0},{"$f":"BK2","v":0},{"$f":"BL2","v":0},{"$f":"BM2","v":0},{"$f":"BN2","v":0},{"$f":"BO2","v":0},{"$f":"BP2","v":0},{"$f":"BQ2","v":0},{"$f":"BR2","v":0},{"$f":"BS2","v":0},{"$f":"BT2","v":0},{"$f":"BU2","v":0},{"$f":"BV2","v":0},{"$f":"BW2","v":0},{"$f":"BX2","v":0},{"$f":"BY2","v":0},{"$f":"BZ2","v":0},{"$f":"CA2","v":0},{"$f":"CB2","v":0},{"$f":"CC2","v":0},{"$f":"CD2","v":0},{"$f":"CE2","v":0},{"$f":"CF2","v":0},{"$f":"CG2","v":0}]
[null,null,-1,14,null,null,null,null,null,null,null,null,null,null,null,null,null,{"$f":"E2","v":1.9},2.9,3.9,4.55,5.2,6.2,7.2,6.8000000000000007,6.4,6.65,6.9,7.45,8,7.55,7.1,7.55,8,8.5500000000000007,9.1,10.433333333333334,11.766666666666666,13.1,11.766666666666666,10.433333333333332,9.1,8.5500000000000007,8,7.55,7.1,7.55,8,7.45,6.9,6.65,6.4,6.8000000000000007,7.2,6.2,5.2,4.55,3.9,2.9,1.9,0,0,0,0,0,0,0,{"$f":"BC2","v":0},{"$f":"BD2","v":0},{"$f":"BE2","v":0},{"$f":"BF2","v":0},{"$f":"BG2","v":0},{"$f":"BH2","v":0},{"$f":"BI2","v":0},{"$f":"BJ2","v":0},{"$f":"BK2","v":0},{"$f":"BL2","v":0},{"$f":"BM2","v":0},{"$f":"BN2","v":0},{"$f":"BO2","v":0},{"$f":"BP2","v":0},{"$f":"BQ2","v":0},{"$f":"BR2","v":0},{"$f":"BS2","v":0},{"$f":"BT2","v":0},{"$f":"BU2","v":0},{"$f":"BV2","v":0},{"$f":"BW2","v":0},{"$f":"BX2","v":0},{"$f":"BY2","v":0},{"$f":"BZ2","v":0},{"$f":"CA2","v":0},{"$f":"CB2","v":0},{"$f":"CC2","v":0},{"$f":"CD2","v":0},{"$f":"CE2","v":0},{"$f":"CF2","v":0},{"$f":"CG2","v":0}]
[null,null,1,15,null,null,null,null,null,null,null,null,null,null,null,null,null,null,{"$f":"E2","v":1.9},2.9,3.9,4.55,5.2,6.2,7.2,6.8000000000000007,6.4,6.65,6.9,7.45,8,7.55,7.1,7.55,8,8.5500000000000007,9.1,10.433333333333334,11.766666666666666,13.1,11.766666666666666,10.433333333333332,9.1,8.5500000000000007,8,7.55,7.1,7.55,8,7.45,6.9,6.65,6.4,6.8000000000000007,7.2,6.2,5.2,4.55,3.9,2.9,1.9,0,0,0,0,0,0,0,{"$f":"BC2","v":0},{"$f":"BD2","v":0},{"$f":"BE2","v":0},{"$f":"BF2","v":0},{"$f":"BG2","v":0},{"$f":"BH2","v":0},{"$f":"BI2","v":0},{"$f":"BJ2","v":0},{"$f":"BK2","v":0},{"$f":"BL2","v":0},{"$f":"BM2","v":0},{"$f":"BN2","v":0},{"$f":"BO2","v":0},{"$f":"BP2","v":0},{"$f":"BQ2","v":0},{"$f":"BR2","v":0},{"$f":"BS2","v":0},{"$f":"BT2","v":0},{"$f":"BU2","v":0},{"$f":"BV2","v":0},{"$f":"BW2","v":0},{"$f":"BX2","v":0},{"$f":"BY2","v":0},{"$f":"BZ2","v":0},{"$f":"CA2","v":0},{"$f":"CB2","v":0},{"$f":"CC2","v":0},{"$f":"CD2","v":0},{"$f":"CE2","v":0},{"$f":"CF2","v":0},{"$f":"CG2","v":0}]
[null,null,0,16,null,null,null,null,null,null,null,null,null,null,null,null,null,null,null,{"$f":"E2","v":1.9},2.9,3.9,4.55,5.2,6.2,7.2,6.8000000000000007,6.4,6.65,6.9,7.45,8,7.55,7.1,7.55,8,8.5500000000000007,9.1,10.433333333333334,11.766666666666666,13.1,11.766666666666666,10.433333333333332,9.1,8.5500000000000007,8,7.55,7.1,7.55,8,7.45,6.9,6.65,6.4,6.8000000000000007,7.2,6.2,5.2,4.55,3.9,2.9,1.9,0,0,0,0,0,0,0,{"$f":"BC2","v":0},{"$f":"BD2","v":0},{"$f":"BE2","v":0},{"$f":"BF2","v":0},{"$f":"BG2","v":0},{"$f":"BH2","v":0},{"$f":"BI2","v":0},{"$f":"BJ2","v":0},{"$f":"BK2","v":0},{"$f":"BL2","v":0},{"$f":"BM2","v":0},{"$f":"BN2","v":0},{"$f":"BO2","v":0},{"$f":"BP2","v":0},{"$f":"BQ2","v":0},{"$f":"BR2","v":0},{"$f":"BS2","v":0},{"$f":"BT2","v":0},{"$f":"BU2","v":0},{"$f":"BV2","v":0},{"$f":"BW2","v":0},{"$f":"BX2","v":0},{"$f":"BY2","v":0},{"$f":"BZ2","v":0},{"$f":"CA2","v":0},{"$f":"CB2","v":0},{"$f":"CC2","v":0},{"$f":"CD2","v":0},{"$f":"CE2","v":0},{"$f":"CF2","v":0},{"$f":"CG2","v":0}]
[null,null,-1,17,null,null,null,null,null,null,null,null,null,null,null,null,null,null,null,null,{"$f":"E2","v":1.9},2.9,3.9,4.55,5.2,6.2,7.2,6.8000000000000007,6.4,6.65,6.9,7.45,8,7.55,7.1,7.55,8,8.5500000000000007,9.1,10.433333333333334,11.766666666666666,13.1,11.766666666666666,10.433333333333332,9.1,8.5500000000000007,8,7.55,7.1,7.55,8,7.45,6.9,6.65,6.4,6.8000000000000007,7.2,6.2,5.2,4.55,3.9,2.9,1.9,0,0,0,0,0,0,0,{"$f":"BC2","v":0},{"$f":"BD2","v":0},{"$f":"BE2","v":0},{"$f":"BF2","v":0},{"$f":"BG2","v":0},{"$f":"BH2","v":0},{"$f":"BI2","v":0},{"$f":"BJ2","v":0},{"$f":"BK2","v":0},{"$f":"BL2","v":0},{"$f":"BM2","v":0},{"$f":"BN2","v":0},{"$f":"BO2","v":0},{"$f":"BP2","v":0},{"$f":"BQ2","v":0},{"$f":"BR2","v":0},{"$f":"BS2","v":0},{"$f":"BT2","v":0},{"$f":"BU2","v":0},{"$f":"BV2","v":0},{"$f":"BW2","v":0},{"$f":"BX2","v":0},{"$f":"BY2","v":0},{"$f":"BZ2","v":0},{"$f":"CA2","v":0},{"$f":"CB2","v":0},{"$f":"CC2","v":0},{"$f":"CD2","v":0},{"$f":"CE2","v":0},{"$f":"CF2","v":0},{"$f":"CG2","v":0}]
[null,null,1,18,null,null,null,null,null,null,null,null,null,null,null,null,null,null,null,null,null,{"$f":"E2","v":1.9},2.9,3.9,4.55,5.2,6.2,7.2,6.8000000000000007,6.4,6.65,6.9,7.45,8,7.55,7.1,7.55,8,8.5500000000000007,9.1,10.433333333333334,11.766666666666666,13.1,11.766666666666666,10.433333333333332,9.1,8.5500000000000007,8,7.55,7.1,7.55,8,7.45,6.9,6.65,6.4,6.8000000000000007,7.2,6.2,5.2,4.55,3.9,2.9,1.9,0,0,0,0,0,0,0,{"$f":"BC2","v":0},{"$f":"BD2","v":0},{"$f":"BE2","v":0},{"$f":"BF2","v":0},{"$f":"BG2","v":0},{"$f":"BH2","v":0},{"$f":"BI2","v":0},{"$f":"BJ2","v":0},{"$f":"BK2","v":0},{"$f":"BL2","v":0},{"$f":"BM2","v":0},{"$f":"BN2","v":0},{"$f":"BO2","v":0},{"$f":"BP2","v":0},{"$f":"BQ2","v":0},{"$f":"BR2","v":0},{"$f":"BS2","v":0},{"$f":"BT2","v":0},{"$f":"BU2","v":0},{"$f":"BV2","v":0},{"$f":"BW2","v":0},{"$f":"BX2","v":0},{"$f":"BY2","v":0},{"$f":"BZ2","v":0},{"$f":"CA2","v":0},{"$f":"CB2","v":0},{"$f":"CC2","v":0},{"$f":"CD2","v":0},{"$f":"CE2","v":0},{"$f":"CF2","v":0},{"$f":"CG2","v":0}]
[null,null,0,19,null,null,null,null,null,null,null,null,null,null,null,null,null,null,null,null,null,null,{"$f":"E2","v":1.9},2.9,3.9,4.55,5.2,6.2,7.2,6.8000000000000007,6.4,6.65,6.9,7.45,8,7.55,7.1,7.55,8,8.5500000000000007,9.1,10.433333333333334,11.766666666666666,13.1,11.766666666666666,10.433333333333332,9.1,8.5500000000000007,8,7.55,7.1,7.55,8,7.45,6.9,6.65,6.4,6.8000000000000007,7.2,6.2,5.2,4.55,3.9,2.9,1.9,0,0,0,0,0,0,0,{"$f":"BC2","v":0},{"$f":"BD2","v":0},{"$f":"BE2","v":0},{"$f":"BF2","v":0},{"$f":"BG2","v":0},{"$f":"BH2","v":0},{"$f":"BI2","v":0},{"$f":"BJ2","v":0},{"$f":"BK2","v":0},{"$f":"BL2","v":0},{"$f":"BM2","v":0},{"$f":"BN2","v":0},{"$f":"BO2","v":0},{"$f":"BP2","v":0},{"$f":"BQ2","v":0},{"$f":"BR2","v":0},{"$f":"BS2","v":0},{"$f":"BT2","v":0},{"$f":"BU2","v":0},{"$f":"BV2","v":0},{"$f":"BW2","v":0},{"$f":"BX2","v":0},{"$f":"BY2","v":0},{"$f":"BZ2","v":0},{"$f":"CA2","v":0},{"$f":"CB2","v":0},{"$f":"CC2","v":0},{"$f":"CD2","v":0},{"$f":"CE2","v":0},{"$f":"CF2","v":0},{"$f":"CG2","v":0}]
[null,null,-1,20,null,null,null,null,null,null,null,null,null,null,null,null,null,null,null,null,null,null,null,{"$f":"E2","v":1.9},2.9,3.9,4.55,5.2,6.2,7.2,6.8000000000000007,6.4,6.65,6.9,7.45,8,7.55,7.1,7.55,8,8.5500000000000007,9.1,10.433333333333334,11.766666666666666,13.1,11.766666666666666,10.433333333333332,9.1,8.5500000000000007,8,7.55,7.1,7.55,8,7.45,6.9,6.65,6.4,6.8000000000000007,7.2,6.2,5.2,4.55,3.9,2.9,1.9,0,0,0,0,0,0,0,{"$f":"BC2","v":0},{"$f":"BD2","v":0},{"$f":"BE2","v":0},{"$f":"BF2","v":0},{"$f":"BG2","v":0},{"$f":"BH2","v":0},{"$f":"BI2","v":0},{"$f":"BJ2","v":0},{"$f":"BK2","v":0},{"$f":"BL2","v":0},{"$f":"BM2","v":0},{"$f":"BN2","v":0},{"$f":"BO2","v":0},{"$f":"BP2","v":0},{"$f":"BQ2","v":0},{"$f":"BR2","v":0},{"$f":"BS2","v":0},{"$f":"BT2","v":0},{"$f":"BU2","v":0},{"$f":"BV2","v":0},{"$f":"BW2","v":0},{"$f":"BX2","v":0},{"$f":"BY2","v":0},{"$f":"BZ2","v":0},{"$f":"CA2","v":0},{"$f":"CB2","v":0},{"$f":"CC2","v":0},{"$f":"CD2","v":0},{"$f":"CE2","v":0},{"$f":"CF2","v":0},{"$f":"CG2","v":0}]
[null,null,1,21,null,null,null,null,null,null,null,null,null,null,null,null,null,null,null,null,null,null,null,null,{"$f":"E2","v":1.9},2.9,3.9,4.55,5.2,6.2,7.2,6.8000000000000007,6.4,6.65,6.9,7.45,8,7.55,7.1,7.55,8,8.5500000000000007,9.1,10.433333333333334,11.766666666666666,13.1,11.766666666666666,10.433333333333332,9.1,8.5500000000000007,8,7.55,7.1,7.55,8,7.45,6.9,6.65,6.4,6.8000000000000007,7.2,6.2,5.2,4.55,3.9,2.9,1.9,0,0,0,0,0,0,0,{"$f":"BC2","v":0},{"$f":"BD2","v":0},{"$f":"BE2","v":0},{"$f":"BF2","v":0},{"$f":"BG2","v":0},{"$f":"BH2","v":0},{"$f":"BI2","v":0},{"$f":"BJ2","v":0},{"$f":"BK2","v":0},{"$f":"BL2","v":0},{"$f":"BM2","v":0},{"$f":"BN2","v":0},{"$f":"BO2","v":0},{"$f":"BP2","v":0},{"$f":"BQ2","v":0},{"$f":"BR2","v":0},{"$f":"BS2","v":0},{"$f":"BT2","v":0},{"$f":"BU2","v":0},{"$f":"BV2","v":0},{"$f":"BW2","v":0},{"$f":"BX2","v":0},{"$f":"BY2","v":0},{"$f":"BZ2","v":0},{"$f":"CA2","v":0},{"$f":"CB2","v":0},{"$f":"CC2","v":0},{"$f":"CD2","v":0},{"$f":"CE2","v":0},{"$f":"CF2","v":0},{"$f":"CG2","v":0}]
[null,null,0,22,null,null,null,null,null,null,null,null,null,null,null,null,null,null,null,null,null,null,null,null,null,{"$f":"E2","v":1.9},2.9,3.9,4.55,5.2,6.2,7.2,6.8000000000000007,6.4,6.65,6.9,7.45,8,7.55,7.1,7.55,8,8.5500000000000007,9.1,10.433333333333334,11.766666666666666,13.1,11.766666666666666,10.433333333333332,9.1,8.5500000000000007,8,7.55,7.1,7.55,8,7.45,6.9,6.65,6.4,6.8000000000000007,7.2,6.2,5.2,4.55,3.9,2.9,1.9,0,0,0,0,0,0,0,{"$f":"BC2","v":0},{"$f":"BD2","v":0},{"$f":"BE2","v":0},{"$f":"BF2","v":0},{"$f":"BG2","v":0},{"$f":"BH2","v":0},{"$f":"BI2","v":0},{"$f":"BJ2","v":0},{"$f":"BK2","v":0},{"$f":"BL2","v":0},{"$f":"BM2","v":0},{"$f":"BN2","v":0},{"$f":"BO2","v":0},{"$f":"BP2","v":0},{"$f":"BQ2","v":0},{"$f":"BR2","v":0},{"$f":"BS2","v":0},{"$f":"BT2","v":0},{"$f":"BU2","v":0},{"$f":"BV2","v":0},{"$f":"BW2","v":0},{"$f":"BX2","v":0},{"$f":"BY2","v":0},{"$f":"BZ2","v":0},{"$f":"CA2","v":0},{"$f":"CB2","v":0},{"$f":"CC2","v":0},{"$f":"CD2","v":0},{"$f":"CE2","v":0},{"$f":"CF2","v":0},{"$f":"CG2","v":0}]
[null,null,-1,23,null,null,null,null,null,null,null,null,null,null,null,null,null,null,null,null,null,null,null,null,null,null,{"$f":"E2","v":1.9},2.9,3.9,4.55,5.2,6.2,7.2,6.8000000000000007,6.4,6.65,6.9,7.45,8,7.55,7.1,7.55,8,8.5500000000000007,9.1,10.433333333333334,11.766666666666666,13.1,11.766666666666666,10.433333333333332,9.1,8.5500000000000007,8,7.55,7.1,7.55,8,7.45,6.9,6.65,6.4,6.8000000000000007,7.2,6.2,5.2,4.55,3.9,2.9,1.9,0,0,0,0,0,0,0,{"$f":"BC2","v":0},{"$f":"BD2","v":0},{"$f":"BE2","v":0},{"$f":"BF2","v":0},{"$f":"BG2","v":0},{"$f":"BH2","v":0},{"$f":"BI2","v":0},{"$f":"BJ2","v":0},{"$f":"BK2","v":0},{"$f":"BL2","v":0},{"$f":"BM2","v":0},{"$f":"BN2","v":0},{"$f":"BO2","v":0},{"$f":"BP2","v":0},{"$f":"BQ2","v":0},{"$f":"BR2","v":0},{"$f":"BS2","v":0},{"$f":"BT2","v":0},{"$f":"BU2","v":0},{"$f":"BV2","v":0},{"$f":"BW2","v":0},{"$f":"BX2","v":0},{"$f":"BY2","v":0},{"$f":"BZ2","v":0},{"$f":"CA2","v":0},{"$f":"CB2","v":0},{"$f":"CC2","v":0},{"$f":"CD2","v":0},{"$f":"CE2","v":0},{"$f":"CF2","v":0},{"$f":"CG2","v":0}]
[null,null,1,24,null,null,null,null,null,null,null,null,null,null,null,null,null,null,null,null,null,null,null,null,null,null,null,{"$f":"E2","v":1.9},2.9,3.9,4.55,5.2,6.2,7.2,6.8000000000000007,6.4,6.65,6.9,7.45,8,7.55,7.1,7.55,8,8.5500000000000007,9.1,10.433333333333334,11.766666666666666,13.1,11.766666666666666,10.433333333333332,9.1,8.5500000000000007,8,7.55,7.1,7.55,8,7.45,6.9,6.65,6.4,6.8000000000000007,7.2,6.2,5.2,4.55,3.9,2.9,1.9,0,0,0,0,0,0,0,{"$f":"BC2","v":0},{"$f":"BD2","v":0},{"$f":"BE2","v":0},{"$f":"BF2","v":0},{"$f":"BG2","v":0},{"$f":"BH2","v":0},{"$f":"BI2","v":0},{"$f":"BJ2","v":0},{"$f":"BK2","v":0},{"$f":"BL2","v":0},{"$f":"BM2","v":0},{"$f":"BN2","v":0},{"$f":"BO2","v":0},{"$f":"BP2","v":0},{"$f":"BQ2","v":0},{"$f":"BR2","v":0},{"$f":"BS2","v":0},{"$f":"BT2","v":0},{"$f":"BU2","v":0},{"$f":"BV2","v":0},{"$f":"BW2","v":0},{"$f":"BX2","v":0},{"$f":"BY2","v":0},{"$f":"BZ2","v":0},{"$f":"CA2","v":0},{"$f":"CB2","v":0},{"$f":"CC2","v":0},{"$f":"CD2","v":0},{"$f":"CE2","v":0},{"$f":"CF2","v":0},{"$f":"CG2","v":0}]
[null,null,0,25,null,null,null,null,null,null,null,null,null,null,null,null,null,null,null,null,null,null,null,null,null,null,null,null,{"$f":"E2","v":1.9},2.9,3.9,4.55,5.2,6.2,7.2,6.8000000000000007,6.4,6.65,6.9,7.45,8,7.55,7.1,7.55,8,8.5500000000000007,9.1,10.433333333333334,11.766666666666666,13.1,11.766666666666666,10.433333333333332,9.1,8.5500000000000007,8,7.55,7.1,7.55,8,7.45,6.9,6.65,6.4,6.8000000000000007,7.2,6.2,5.2,4.55,3.9,2.9,1.9,0,0,0,0,0,0,0,{"$f":"BC2","v":0},{"$f":"BD2","v":0},{"$f":"BE2","v":0},{"$f":"BF2","v":0},{"$f":"BG2","v":0},{"$f":"BH2","v":0},{"$f":"BI2","v":0},{"$f":"BJ2","v":0},{"$f":"BK2","v":0},{"$f":"BL2","v":0},{"$f":"BM2","v":0},{"$f":"BN2","v":0},{"$f":"BO2","v":0},{"$f":"BP2","v":0},{"$f":"BQ2","v":0},{"$f":"BR2","v":0},{"$f":"BS2","v":0},{"$f":"BT2","v":0},{"$f":"BU2","v":0},{"$f":"BV2","v":0},{"$f":"BW2","v":0},{"$f":"BX2","v":0},{"$f":"BY2","v":0},{"$f":"BZ2","v":0},{"$f":"CA2","v":0},{"$f":"CB2","v":0},{"$f":"CC2","v":0},{"$f":"CD2","v":0},{"$f":"CE2","v":0},{"$f":"CF2","v":0},{"$f":"CG2","v":0}]
[null,null,-1,26,null,null,null,null,null,null,null,null,null,null,null,null,null,null,null,null,null,null,null,null,null,null,null,null,null,{"$f":"E2","v":1.9},2.9,3.9,4.55,5.2,6.2,7.2,6.8000000000000007,6.4,6.65,6.9,7.45,8,7.55,7.1,7.55,8,8.5500000000000007,9.1,10.433333333333334,11.766666666666666,13.1,11.766666666666666,10.433333333333332,9.1,8.5500000000000007,8,7.55,7.1,7.55,8,7.45,6.9,6.65,6.4,6.8000000000000007,7.2,6.2,5.2,4.55,3.9,2.9,1.9,0,0,0,0,0,0,0,{"$f":"BC2","v":0},{"$f":"BD2","v":0},{"$f":"BE2","v":0},{"$f":"BF2","v":0},{"$f":"BG2","v":0},{"$f":"BH2","v":0},{"$f":"BI2","v":0},{"$f":"BJ2","v":0},{"$f":"BK2","v":0},{"$f":"BL2","v":0},{"$f":"BM2","v":0},{"$f":"BN2","v":0},{"$f":"BO2","v":0},{"$f":"BP2","v":0},{"$f":"BQ2","v":0},{"$f":"BR2","v":0},{"$f":"BS2","v":0},{"$f":"BT2","v":0},{"$f":"BU2","v":0},{"$f":"BV2","v":0},{"$f":"BW2","v":0},{"$f":"BX2","v":0},{"$f":"BY2","v":0},{"$f":"BZ2","v":0},{"$f":"CA2","v":0},{"$f":"CB2","v":0},{"$f":"CC2","v":0},{"$f":"CD2","v":0},{"$f":"CE2","v":0},{"$f":"CF2","v":0},{"$f":"CG2","v":0}]
[null,null,1,27,null,null,null,null,null,null,null,null,null,null,null,null,null,null,null,null,null,null,null,null,null,null,null,null,null,null,{"$f":"E2","v":1.9},2.9,3.9,4.55,5.2,6.2,7.2,6.8000000000000007,6.4,6.65,6.9,7.45,8,7.55,7.1,7.55,8,8.5500000000000007,9.1,10.433333333333334,11.766666666666666,13.1,11.766666666666666,10.433333333333332,9.1,8.5500000000000007,8,7.55,7.1,7.55,8,7.45,6.9,6.65,6.4,6.8000000000000007,7.2,6.2,5.2,4.55,3.9,2.9,1.9,0,0,0,0,0,0,0,{"$f":"BC2","v":0},{"$f":"BD2","v":0},{"$f":"BE2","v":0},{"$f":"BF2","v":0},{"$f":"BG2","v":0},{"$f":"BH2","v":0},{"$f":"BI2","v":0},{"$f":"BJ2","v":0},{"$f":"BK2","v":0},{"$f":"BL2","v":0},{"$f":"BM2","v":0},{"$f":"BN2","v":0},{"$f":"BO2","v":0},{"$f":"BP2","v":0},{"$f":"BQ2","v":0},{"$f":"BR2","v":0},{"$f":"BS2","v":0},{"$f":"BT2","v":0},{"$f":"BU2","v":0},{"$f":"BV2","v":0},{"$f":"BW2","v":0},{"$f":"BX2","v":0},{"$f":"BY2","v":0},{"$f":"BZ2","v":0},{"$f":"CA2","v":0},{"$f":"CB2","v":0},{"$f":"CC2","v":0},{"$f":"CD2","v":0},{"$f":"CE2","v":0},{"$f":"CF2","v":0},{"$f":"CG2","v":0}]
[null,null,0,28,null,null,null,null,null,null,null,null,null,null,null,null,null,null,null,null,null,null,null,null,null,null,null,null,null,null,null,{"$f":"E2","v":1.9},2.9,3.9,4.55,5.2,6.2,7.2,6.8000000000000007,6.4,6.65,6.9,7.45,8,7.55,7.1,7.55,8,8.5500000000000007,9.1,10.433333333333334,11.766666666666666,13.1,11.766666666666666,10.433333333333332,9.1,8.5500000000000007,8,7.55,7.1,7.55,8,7.45,6.9,6.65,6.4,6.8000000000000007,7.2,6.2,5.2,4.55,3.9,2.9,1.9,0,0,0,0,0,0,0,{"$f":"BC2","v":0},{"$f":"BD2","v":0},{"$f":"BE2","v":0},{"$f":"BF2","v":0},{"$f":"BG2","v":0},{"$f":"BH2","v":0},{"$f":"BI2","v":0},{"$f":"BJ2","v":0},{"$f":"BK2","v":0},{"$f":"BL2","v":0},{"$f":"BM2","v":0},{"$f":"BN2","v":0},{"$f":"BO2","v":0},{"$f":"BP2","v":0},{"$f":"BQ2","v":0},{"$f":"BR2","v":0},{"$f":"BS2","v":0},{"$f":"BT2","v":0},{"$f":"BU2","v":0},{"$f":"BV2","v":0},{"$f":"BW2","v":0},{"$f":"BX2","v":0},{"$f":"BY2","v":0},{"$f":"BZ2","v":0},{"$f":"CA2","v":0},{"$f":"CB2","v":0},{"$f":"CC2","v":0},{"$f":"CD2","v":0},{"$f":"CE2","v":0},{"$f":"CF2","v":0},{"$f":"CG2","v":0}]
[null,null,-1,29,null,null,null,null,null,null,null,null,null,null,null,null,null,null,null,null,null,null,null,null,null,null,null,null,null,null,null,null,{"$f":"E2","v":1.9},2.9,3.9,4.55,5.2,6.2,7.2,6.8000000000000007,6.4,6.65,6.9,7.45,8,7.55,7.1,7.55,8,8.5500000000000007,9.1,10.433333333333334,11.766666666666666,13.1,11.766666666666666,10.433333333333332,9.1,8.5500000000000007,8,7.55,7.1,7.55,8,7.45,6.9,6.65,6.4,6.8000000000000007,7.2,6.2,5.2,4.55,3.9,2.9,1.9,0,0,0,0,0,0,0,{"$f":"BC2","v":0},{"$f":"BD2","v":0},{"$f":"BE2","v":0},{"$f":"BF2","v":0},{"$f":"BG2","v":0},{"$f":"BH2","v":0},{"$f":"BI2","v":0},{"$f":"BJ2","v":0},{"$f":"BK2","v":0},{"$f":"BL2","v":0},{"$f":"BM2","v":0},{"$f":"BN2","v":0},{"$f":"BO2","v":0},{"$f":"BP2","v":0},{"$f":"BQ2","v":0},{"$f":"BR2","v":0},{"$f":"BS2","v":0},{"$f":"BT2","v":0},{"$f":"BU2","v":0},{"$f":"BV2","v":0},{"$f":"BW2","v":0},{"$f":"BX2","v":0},{"$f":"BY2","v":0},{"$f":"BZ2","v":0},{"$f":"CA2","v":0},{"$f":"CB2","v":0},{"$f":"CC2","v":0},{"$f":"CD2","v":0},{"$f":"CE2","v":0},{"$f":"CF2","v":0},{"$f":"CG2","v":0}]
[null,null,1,30,null,null,null,null,null,null,null,null,null,null,null,null,null,null,null,null,null,null,null,null,null,null,null,null,null,null,null,null,null,{"$f":"E2","v":1.9},2.9,3.9,4.55,5.2,6.2,7.2,6.8000000000000007,6.4,6.65,6.9,7.45,8,7.55,7.1,7.55,8,8.5500000000000007,9.1,10.433333333333334,11.766666666666666,13.1,11.766666666666666,10.433333333333332,9.1,8.5500000000000007,8,7.55,7.1,7.55,8,7.45,6.9,6.65,6.4,6.8000000000000007,7.2,6.2,5.2,4.55,3.9,2.9,1.9,0,0,0,0,0,0,0,{"$f":"BC2","v":0},{"$f":"BD2","v":0},{"$f":"BE2","v":0},{"$f":"BF2","v":0},{"$f":"BG2","v":0},{"$f":"BH2","v":0},{"$f":"BI2","v":0},{"$f":"BJ2","v":0},{"$f":"BK2","v":0},{"$f":"BL2","v":0},{"$f":"BM2","v":0},{"$f":"BN2","v":0},{"$f":"BO2","v":0},{"$f":"BP2","v":0},{"$f":"BQ2","v":0},{"$f":"BR2","v":0},{"$f":"BS2","v":0},{"$f":"BT2","v":0},{"$f":"BU2","v":0},{"$f":"BV2","v":0},{"$f":"BW2","v":0},{"$f":"BX2","v":0},{"$f":"BY2","v":0},{"$f":"BZ2","v":0},{"$f":"CA2","v":0},{"$f":"CB2","v":0},{"$f":"CC2","v":0},{"$f":"CD2","v":0},{"$f":"CE2","v":0},{"$f":"CF2","v":0},{"$f":"CG2","v":0}]
[null,null,0,31,null,null,null,null,null,null,null,null,null,null,null,null,null,null,null,null,null,null,null,null,null,null,null,null,null,null,null,null,null,null,{"$f":"E2","v":1.9},2.9,3.9,4.55,5.2,6.2,7.2,6.8000000000000007,6.4,6.65,6.9,7.45,8,7.55,7.1,7.55,8,8.5500000000000007,9.1,10.433333333333334,11.766666666666666,13.1,11.766666666666666,10.433333333333332,9.1,8.5500000000000007,8,7.55,7.1,7.55,8,7.45,6.9,6.65,6.4,6.8000000000000007,7.2,6.2,5.2,4.55,3.9,2.9,1.9,0,0,0,0,0,0,0,{"$f":"BC2","v":0},{"$f":"BD2","v":0},{"$f":"BE2","v":0},{"$f":"BF2","v":0},{"$f":"BG2","v":0},{"$f":"BH2","v":0},{"$f":"BI2","v":0},{"$f":"BJ2","v":0},{"$f":"BK2","v":0},{"$f":"BL2","v":0},{"$f":"BM2","v":0},{"$f":"BN2","v":0},{"$f":"BO2","v":0},{"$f":"BP2","v":0},{"$f":"BQ2","v":0},{"$f":"BR2","v":0},{"$f":"BS2","v":0},{"$f":"BT2","v":0},{"$f":"BU2","v":0},{"$f":"BV2","v":0},{"$f":"BW2","v":0},{"$f":"BX2","v":0},{"$f":"BY2","v":0},{"$f":"BZ2","v":0},{"$f":"CA2","v":0},{"$f":"CB2","v":0},{"$f":"CC2","v":0},{"$f":"CD2","v":0},{"$f":"CE2","v":0},{"$f":"CF2","v":0},{"$f":"CG2","v":0}]
[null,null,-1,32,null,null,null,null,null,null,null,null,null,null,null,null,null,null,null,null,null,null,null,null,null,null,null,null,null,null,null,null,null,null,null,{"$f":"E2","v":1.9},2.9,3.9,4.55,5.2,6.2,7.2,6.8000000000000007,6.4,6.65,6.9,7.45,8,7.55,7.1,7.55,8,8.5500000000000007,9.1,10.433333333333334,11.766666666666666,13.1,11.766666666666666,10.433333333333332,9.1,8.5500000000000007,8,7.55,7.1,7.55,8,7.45,6.9,6.65,6.4,6.8000000000000007,7.2,6.2,5.2,4.55,3.9,2.9,1.9,0,0,0,0,0,0,0,{"$f":"BC2","v":0},{"$f":"BD2","v":0},{"$f":"BE2","v":0},{"$f":"BF2","v":0},{"$f":"BG2","v":0},{"$f":"BH2","v":0},{"$f":"BI2","v":0},{"$f":"BJ2","v":0},{"$f":"BK2","v":0},{"$f":"BL2","v":0},{"$f":"BM2","v":0},{"$f":"BN2","v":0},{"$f":"BO2","v":0},{"$f":"BP2","v":0},{"$f":"BQ2","v":0},{"$f":"BR2","v":0},{"$f":"BS2","v":0},{"$f":"BT2","v":0},{"$f":"BU2","v":0},{"$f":"BV2","v":0},{"$f":"BW2","v":0},{"$f":"BX2","v":0},{"$f":"BY2","v":0},{"$f":"BZ2","v":0},{"$f":"CA2","v":0},{"$f":"CB2","v":0},{"$f":"CC2","v":0},{"$f":"CD2","v":0},{"$f":"CE2","v":0},{"$f":"CF2","v":0},{"$f":"CG2","v":0}]
[null,null,{"$f":"1-MOD(D39,$B$106)","v":1},33,null,null,null,null,null,null,null,null,null,null,null,null,null,null,null,null,null,null,null,null,null,null,null,null,null,null,null,null,null,null,null,null,{"$f":"E2","v":1.9},2.9,3.9,4.55,5.2,6.2,7.2,6.8000000000000007,6.4,6.65,6.9,7.45,8,7.55,7.1,7.55,8,8.5500000000000007,9.1,10.433333333333334,11.766666666666666,13.1,11.766666666666666,10.433333333333332,9.1,8.5500000000000007,8,7.55,7.1,7.55,8,7.45,6.9,6.65,6.4,6.8000000000000007,7.2,6.2,5.2,4.55,3.9,2.9,1.9,0,0,0,0,0,0,0,{"$f":"BC2","v":0},{"$f":"BD2","v":0},{"$f":"BE2","v":0},{"$f":"BF2","v":0},{"$f":"BG2","v":0},{"$f":"BH2","v":0},{"$f":"BI2","v":0},{"$f":"BJ2","v":0},{"$f":"BK2","v":0},{"$f":"BL2","v":0},{"$f":"BM2","v":0},{"$f":"BN2","v":0},{"$f":"BO2","v":0},{"$f":"BP2","v":0},{"$f":"BQ2","v":0},{"$f":"BR2","v":0},{"$f":"BS2","v":0},{"$f":"BT2","v":0},{"$f":"BU2","v":0},{"$f":"BV2","v":0},{"$f":"BW2","v":0},{"$f":"BX2","v":0},{"$f":"BY2","v":0},{"$f":"BZ2","v":0},{"$f":"CA2","v":0},{"$f":"CB2","v":0},{"$f":"CC2","v":0},{"$f":"CD2","v":0},{"$f":"CE2","v":0},{"$f":"CF2","v":0},{"$f":"CG2","v":0}]
[null,null,0,34,null,null,null,null,null,null,null,null,null,null,null,null,null,null,null,null,null,null,null,null,null,null,null,null,null,null,null,null,null,null,null,null,null,{"$f":"E2","v":1.9},2.9,3.9,4.55,5.2,6.2,7.2,6.8000000000000007,6.4,6.65,6.9,7.45,8,7.55,7.1,7.55,8,8.5500000000000007,9.1,10.433333333333334,11.766666666666666,13.1,11.766666666666666,10.433333333333332,9.1,8.5500000000000007,8,7.55,7.1,7.55,8,7.45,6.9,6.65,6.4,6.8000000000000007,7.2,6.2,5.2,4.55,3.9,2.9,1.9,0,0,0,0,0,0,0,{"$f":"BC2","v":0},{"$f":"BD2","v":0},{"$f":"BE2","v":0},{"$f":"BF2","v":0},{"$f":"BG2","v":0},{"$f":"BH2","v":0},{"$f":"BI2","v":0},{"$f":"BJ2","v":0},{"$f":"BK2","v":0},{"$f":"BL2","v":0},{"$f":"BM2","v":0},{"$f":"BN2","v":0},{"$f":"BO2","v":0},{"$f":"BP2","v":0},{"$f":"BQ2","v":0},{"$f":"BR2","v":0},{"$f":"BS2","v":0},{"$f":"BT2","v":0},{"$f":"BU2","v":0},{"$f":"BV2","v":0},{"$f":"BW2","v":0},{"$f":"BX2","v":0},{"$f":"BY2","v":0},{"$f":"BZ2","v":0},{"$f":"CA2","v":0},{"$f":"CB2","v":0},{"$f":"CC2","v":0},{"$f":"CD2","v":0},{"$f":"CE2","v":0},{"$f":"CF2","v":0},{"$f":"CG2","v":0}]
[null,null,-1,35,null,null,null,null,null,null,null,null,null,null,null,null,null,null,null,null,null,null,null,null,null,null,null,null,null,null,null,null,null,null,null,null,null,null,{"$f":"E2","v":1.9},2.9,3.9,4.55,5.2,6.2,7.2,6.8000000000000007,6.4,6.65,6.9,7.45,8,7.55,7.1,7.55,8,8.5500000000000007,9.1,10.433333333333334,11.766666666666666,13.1,11.766666666666666,10.433333333333332,9.1,8.5500000000000007,8,7.55,7.1,7.55,8,7.45,6.9,6.65,6.4,6.8000000000000007,7.2,6.2,5.2,4.55,3.9,2.9,1.9,0,0,0,0,0,0,0,{"$f":"BC2","v":0},{"$f":"BD2","v":0},{"$f":"BE2","v":0},{"$f":"BF2","v":0},{"$f":"BG2","v":0},{"$f":"BH2","v":0},{"$f":"BI2","v":0},{"$f":"BJ2","v":0},{"$f":"BK2","v":0},{"$f":"BL2","v":0},{"$f":"BM2","v":0},{"$f":"BN2","v":0},{"$f":"BO2","v":0},{"$f":"BP2","v":0},{"$f":"BQ2","v":0},{"$f":"BR2","v":0},{"$f":"BS2","v":0},{"$f":"BT2","v":0},{"$f":"BU2","v":0},{"$f":"BV2","v":0},{"$f":"BW2","v":0},{"$f":"BX2","v":0},{"$f":"BY2","v":0},{"$f":"BZ2","v":0},{"$f":"CA2","v":0},{"$f":"CB2","v":0},{"$f":"CC2","v":0},{"$f":"CD2","v":0},{"$f":"CE2","v":0},{"$f":"CF2","v":0},{"$f":"CG2","v":0}]
[null,null,1,36,null,null,null,null,null,null,null,null,null,null,null,null,null,null,null,null,null,null,null,null,null,null,null,null,null,null,null,null,null,null,null,null,null,null,null,{"$f":"E2","v":1.9},2.9,3.9,4.55,5.2,6.2,7.2,6.8000000000000007,6.4,6.65,6.9,7.45,8,7.55,7.1,7.55,8,8.5500000000000007,9.1,10.433333333333334,11.766666666666666,13.1,11.766666666666666,10.433333333333332,9.1,8.5500000000000007,8,7.55,7.1,7.55,8,7.45,6.9,6.65,6.4,6.8000000000000007,7.2,6.2,5.2,4.55,3.9,2.9,1.9,0,0,0,0,0,0,0,{"$f":"BC2","v":0},{"$f":"BD2","v":0},{"$f":"BE2","v":0},{"$f":"BF2","v":0},{"$f":"BG2","v":0},{"$f":"BH2","v":0},{"$f":"BI2","v":0},{"$f":"BJ2","v":0},{"$f":"BK2","v":0},{"$f":"BL2","v":0},{"$f":"BM2","v":0},{"$f":"BN2","v":0},{"$f":"BO2","v":0},{"$f":"BP2","v":0},{"$f":"BQ2","v":0},{"$f":"BR2","v":0},{"$f":"BS2","v":0},{"$f":"BT2","v":0},{"$f":"BU2","v":0},{"$f":"BV2","v":0},{"$f":"BW2","v":0},{"$f":"BX2","v":0},{"$f":"BY2","v":0},{"$f":"BZ2","v":0},{"$f":"CA2","v":0},{"$f":"CB2","v":0},{"$f":"CC2","v":0},{"$f":"CD2","v":0},{"$f":"CE2","v":0},{"$f":"CF2","v":0},{"$f":"CG2","v":0}]
[null,null,0,37,null,null,null,null,null,null,null,null,null,null,null,null,null,null,null,null,null,null,null,null,null,null,null,null,null,null,null,null,null,null,null,null,null,null,null,null,{"$f":"E2","v":1.9},2.9,3.9,4.55,5.2,6.2,7.2,6.8000000000000007,6.4,6.65,6.9,7.45,8,7.55,7.1,7.55,8,8.5500000000000007,9.1,10.433333333333334,11.766666666666666,13.1,11.766666666666666,10.433333333333332,9.1,8.5500000000000007,8,7.55,7.1,7.55,8,7.45,6.9,6.65,6.4,6.8000000000000007,7.2,6.2,5.2,4.55,3.9,2.9,1.9,0,0,0,0,0,0,0,{"$f":"BC2","v":0},{"$f":"BD2","v":0},{"$f":"BE2","v":0},{"$f":"BF2","v":0},{"$f":"BG2","v":0},{"$f":"BH2","v":0},{"$f":"BI2","v":0},{"$f":"BJ2","v":0},{"$f":"BK2","v":0},{"$f":"BL2","v":0},{"$f":"BM2","v":0},{"$f":"BN2","v":0},{"$f":"BO2","v":0},{"$f":"BP2","v":0},{"$f":"BQ2","v":0},{"$f":"BR2","v":0},{"$f":"BS2","v":0},{"$f":"BT2","v":0},{"$f":"BU2","v":0},{"$f":"BV2","v":0},{"$f":"BW2","v":0},{"$f":"BX2","v":0},{"$f":"BY2","v":0},{"$f":"BZ2","v":0},{"$f":"CA2","v":0},{"$f":"CB2","v":0},{"$f":"CC2","v":0},{"$f":"CD2","v":0},{"$f":"CE2","v":0},{"$f":"CF2","v":0},{"$f":"CG2","v":0}]
[null,null,-1,38,null,null,null,null,null,null,null,null,null,null,null,null,null,null,null,null,null,null,null,null,null,null,null,null,null,null,null,null,null,null,null,null,null,null,null,null,null,{"$f":"E2","v":1.9},2.9,3.9,4.55,5.2,6.2,7.2,6.8000000000000007,6.4,6.65,6.9,7.45,8,7.55,7.1,7.55,8,8.5500000000000007,9.1,10.433333333333334,11.766666666666666,13.1,11.766666666666666,10.433333333333332,9.1,8.5500000000000007,8,7.55,7.1,7.55,8,7.45,6.9,6.65,6.4,6.8000000000000007,7.2,6.2,5.2,4.55,3.9,2.9,1.9,0,0,0,0,0,0,0,{"$f":"BC2","v":0},{"$f":"BD2","v":0},{"$f":"BE2","v":0},{"$f":"BF2","v":0},{"$f":"BG2","v":0},{"$f":"BH2","v":0},{"$f":"BI2","v":0},{"$f":"BJ2","v":0},{"$f":"BK2","v":0},{"$f":"BL2","v":0},{"$f":"BM2","v":0},{"$f":"BN2","v":0},{"$f":"BO2","v":0},{"$f":"BP2","v":0},{"$f":"BQ2","v":0},{"$f":"BR2","v":0},{"$f":"BS2","v":0},{"$f":"BT2","v":0},{"$f":"BU2","v":0},{"$f":"BV2","v":0},{"$f":"BW2","v":0},{"$f":"BX2","v":0},{"$f":"BY2","v":0},{"$f":"BZ2","v":0},{"$f":"CA2","v":0},{"$f":"CB2","v":0},{"$f":"CC2","v":0},{"$f":"CD2","v":0},{"$f":"CE2","v":0},{"$f":"CF2","v":0},{"$f":"CG2","v":0}]
[null,null,1,39,null,null,null,null,null,null,null,null,null,null,null,null,null,null,null,null,null,null,null,null,null,null,null,null,null,null,null,null,null,null,null,null,null,null,null,null,null,null,{"$f":"E2","v":1.9},2.9,3.9,4.55,5.2,6.2,7.2,6.8000000000000007,6.4,6.65,6.9,7.45,8,7.55,7.1,7.55,8,8.5500000000000007,9.1,10.433333333333334,11.766666666666666,13.1,11.766666666666666,10.433333333333332,9.1,8.5500000000000007,8,7.55,7.1,7.55,8,7.45,6.9,6.65,6.4,6.8000000000000007,7.2,6.2,5.2,4.55,3.9,2.9,1.9,0,0,0,0,0,0,0,{"$f":"BC2","v":0},{"$f":"BD2","v":0},{"$f":"BE2","v":0},{"$f":"BF2","v":0},{"$f":"BG2","v":0},{"$f":"BH2","v":0},{"$f":"BI2","v":0},{"$f":"BJ2","v":0},{"$f":"BK2","v":0},{"$f":"BL2","v":0},{"$f":"BM2","v":0},{"$f":"BN2","v":0},{"$f":"BO2","v":0},{"$f":"BP2","v":0},{"$f":"BQ2","v":0},{"$f":"BR2","v":0},{"$f":"BS2","v":0},{"$f":"BT2","v":0},{"$f":"BU2","v":0},{"$f":"BV2","v":0},{"$f":"BW2","v":0},{"$f":"BX2","v":0},{"$f":"BY2","v":0},{"$f":"BZ2","v":0},{"$f":"CA2","v":0},{"$f":"CB2","v":0},{"$f":"CC2","v":0},{"$f":"CD2","v":0},{"$f":"CE2","v":0},{"$f":"CF2","v":0},{"$f":"CG2","v":0}]
[null,null,0,40,null,null,null,null,null,null,null,null,null,null,null,null,null,null,null,null,null,null,null,null,null,null,null,null,null,null,null,null,null,null,null,null,null,null,null,null,null,null,null,{"$f":"E2","v":1.9},2.9,3.9,4.55,5.2,6.2,7.2,6.8000000000000007,6.4,6.65,6.9,7.45,8,7.55,7.1,7.55,8,8.5500000000000007,9.1,10.433333333333334,11.766666666666666,13.1,11.766666666666666,10.433333333333332,9.1,8.5500000000000007,8,7.55,7.1,7.55,8,7.45,6.9,6.65,6.4,6.8000000000000007,7.2,6.2,5.2,4.55,3.9,2.9,1.9,0,0,0,0,0,0,0,{"$f":"BC2","v":0},{"$f":"BD2","v":0},{"$f":"BE2","v":0},{"$f":"BF2","v":0},{"$f":"BG2","v":0},{"$f":"BH2","v":0},{"$f":"BI2","v":0},{"$f":"BJ2","v":0},{"$f":"BK2","v":0},{"$f":"BL2","v":0},{"$f":"BM2","v":0},{"$f":"BN2","v":0},{"$f":"BO2","v":0},{"$f":"BP2","v":0},{"$f":"BQ2","v":0},{"$f":"BR2","v":0},{"$f":"BS2","v":0},{"$f":"BT2","v":0},{"$f":"BU2","v":0},{"$f":"BV2","v":0},{"$f":"BW2","v":0},{"$f":"BX2","v":0},{"$f":"BY2","v":0},{"$f":"BZ2","v":0},{"$f":"CA2","v":0},{"$f":"CB2","v":0},{"$f":"CC2","v":0},{"$f":"CD2","v":0},{"$f":"CE2","v":0},{"$f":"CF2","v":0},{"$f":"CG2","v":0}]
[null,null,-1,41,null,null,null,null,null,null,null,null,null,null,null,null,null,null,null,null,null,null,null,null,null,null,null,null,null,null,null,null,null,null,null,null,null,null,null,null,null,null,null,null,{"$f":"E2","v":1.9},2.9,3.9,4.55,5.2,6.2,7.2,6.8000000000000007,6.4,6.65,6.9,7.45,8,7.55,7.1,7.55,8,8.5500000000000007,9.1,10.433333333333334,11.766666666666666,13.1,11.766666666666666,10.433333333333332,9.1,8.5500000000000007,8,7.55,7.1,7.55,8,7.45,6.9,6.65,6.4,6.8000000000000007,7.2,6.2,5.2,4.55,3.9,2.9,1.9,0,0,0,0,0,0,0,{"$f":"BC2","v":0},{"$f":"BD2","v":0},{"$f":"BE2","v":0},{"$f":"BF2","v":0},{"$f":"BG2","v":0},{"$f":"BH2","v":0},{"$f":"BI2","v":0},{"$f":"BJ2","v":0},{"$f":"BK2","v":0},{"$f":"BL2","v":0},{"$f":"BM2","v":0},{"$f":"BN2","v":0},{"$f":"BO2","v":0},{"$f":"BP2","v":0},{"$f":"BQ2","v":0},{"$f":"BR2","v":0},{"$f":"BS2","v":0},{"$f":"BT2","v":0},{"$f":"BU2","v":0},{"$f":"BV2","v":0},{"$f":"BW2","v":0},{"$f":"BX2","v":0},{"$f":"BY2","v":0},{"$f":"BZ2","v":0},{"$f":"CA2","v":0},{"$f":"CB2","v":0},{"$f":"CC2","v":0},{"$f":"CD2","v":0},{"$f":"CE2","v":0},{"$f":"CF2","v":0},{"$f":"CG2","v":0}]
[null,null,1,42,null,null,null,null,null,null,null,null,null,null,null,null,null,null,null,null,null,null,null,null,null,null,null,null,null,null,null,null,null,null,null,null,null,null,null,null,null,null,null,null,null,{"$f":"E2","v":1.9},2.9,3.9,4.55,5.2,6.2,7.2,6.8000000000000007,6.4,6.65,6.9,7.45,8,7.55,7.1,7.55,8,8.5500000000000007,9.1,10.433333333333334,11.766666666666666,13.1,11.766666666666666,10.433333333333332,9.1,8.5500000000000007,8,7.55,7.1,7.55,8,7.45,6.9,6.65,6.4,6.8000000000000007,7.2,6.2,5.2,4.55,3.9,2.9,1.9,0,0,0,0,0,0,0,{"$f":"BC2","v":0},{"$f":"BD2","v":0},{"$f":"BE2","v":0},{"$f":"BF2","v":0},{"$f":"BG2","v":0},{"$f":"BH2","v":0},{"$f":"BI2","v":0},{"$f":"BJ2","v":0},{"$f":"BK2","v":0},{"$f":"BL2","v":0},{"$f":"BM2","v":0},{"$f":"BN2","v":0},{"$f":"BO2","v":0},{"$f":"BP2","v":0},{"$f":"BQ2","v":0},{"$f":"BR2","v":0},{"$f":"BS2","v":0},{"$f":"BT2","v":0},{"$f":"BU2","v":0},{"$f":"BV2","v":0},{"$f":"BW2","v":0},{"$f":"BX2","v":0},{"$f":"BY2","v":0},{"$f":"BZ2","v":0},{"$f":"CA2","v":0},{"$f":"CB2","v":0},{"$f":"CC2","v":0},{"$f":"CD2","v":0},{"$f":"CE2","v":0},{"$f":"CF2","v":0},{"$f":"CG2","v":0}]
[null,null,0,43,null,null,null,null,null,null,null,null,null,null,null,null,null,null,null,null,null,null,null,null,null,null,null,null,null,null,null,null,null,null,null,null,null,null,null,null,null,null,null,null,null,null,{"$f":"E2","v":1.9},2.9,3.9,4.55,5.2,6.2,7.2,6.8000000000000007,6.4,6.65,6.9,7.45,8,7.55,7.1,7.55,8,8.5500000000000007,9.1,10.433333333333334,11.766666666666666,13.1,11.766666666666666,10.433333333333332,9.1,8.5500000000000007,8,7.55,7.1,7.55,8,7.45,6.9,6.65,6.4,6.8000000000000007,7.2,6.2,5.2,4.55,3.9,2.9,1.9,0,0,0,0,0,0,0,{"$f":"BC2","v":0},{"$f":"BD2","v":0},{"$f":"BE2","v":0},{"$f":"BF2","v":0},{"$f":"BG2","v":0},{"$f":"BH2","v":0},{"$f":"BI2","v":0},{"$f":"BJ2","v":0},{"$f":"BK2","v":0},{"$f":"BL2","v":0},{"$f":"BM2","v":0},{"$f":"BN2","v":0},{"$f":"BO2","v":0},{"$f":"BP2","v":0},{"$f":"BQ2","v":0},{"$f":"BR2","v":0},{"$f":"BS2","v":0},{"$f":"BT2","v":0},{"$f":"BU2","v":0},{"$f":"BV2","v":0},{"$f":"BW2","v":0},{"$f":"BX2","v":0},{"$f":"BY2","v":0},{"$f":"BZ2","v":0},{"$f":"CA2","v":0},{"$f":"CB2","v":0},{"$f":"CC2","v":0},{"$f":"CD2","v":0},{"$f":"CE2","v":0},{"$f":"CF2","v":0},{"$f":"CG2","v":0}]
[null,null,-1,44,null,null,null,null,null,null,null,null,null,null,null,null,null,null,null,null,null,null,null,null,null,null,null,null,null,null,null,null,null,null,null,null,null,null,null,null,null,null,null,null,null,null,null,{"$f":"E2","v":1.9},2.9,3.9,4.55,5.2,6.2,7.2,6.8000000000000007,6.4,6.65,6.9,7.45,8,7.55,7.1,7.55,8,8.5500000000000007,9.1,10.433333333333334,11.766666666666666,13.1,11.766666666666666,10.433333333333332,9.1,8.5500000000000007,8,7.55,7.1,7.55,8,7.45,6.9,6.65,6.4,6.8000000000000007,7.2,6.2,5.2,4.55,3.9,2.9,1.9,0,0,0,0,0,0,0,{"$f":"BC2","v":0},{"$f":"BD2","v":0},{"$f":"BE2","v":0},{"$f":"BF2","v":0},{"$f":"BG2","v":0},{"$f":"BH2","v":0},{"$f":"BI2","v":0},{"$f":"BJ2","v":0},{"$f":"BK2","v":0},{"$f":"BL2","v":0},{"$f":"BM2","v":0},{"$f":"BN2","v":0},{"$f":"BO2","v":0},{"$f":"BP2","v":0},{"$f":"BQ2","v":0},{"$f":"BR2","v":0},{"$f":"BS2","v":0},{"$f":"BT2","v":0},{"$f":"BU2","v":0},{"$f":"BV2","v":0},{"$f":"BW2","v":0},{"$f":"BX2","v":0},{"$f":"BY2","v":0},{"$f":"BZ2","v":0},{"$f":"CA2","v":0},{"$f":"CB2","v":0},{"$f":"CC2","v":0},{"$f":"CD2","v":0},{"$f":"CE2","v":0},{"$f":"CF2","v":0},{"$f":"CG2","v":0}]
[null,null,1,45,null,null,null,null,null,null,null,null,null,null,null,null,null,null,null,null,null,null,null,null,null,null,null,null,null,null,null,null,null,null,null,null,null,null,null,null,null,null,null,null,null,null,null,null,{"$f":"E2","v":1.9},2.9,3.9,4.55,5.2,6.2,7.2,6.8000000000000007,6.4,6.65,6.9,7.45,8,7.55,7.1,7.55,8,8.5500000000000007,9.1,10.433333333333334,11.766666666666666,13.1,11.766666666666666,10.433333333333332,9.1,8.5500000000000007,8,7.55,7.1,7.55,8,7.45,6.9,6.65,6.4,6.8000000000000007,7.2,6.2,5.2,4.55,3.9,2.9,1.9,0,0,0,0,0,0,0,{"$f":"BC2","v":0},{"$f":"BD2","v":0},{"$f":"BE2","v":0},{"$f":"BF2","v":0},{"$f":"BG2","v":0},{"$f":"BH2","v":0},{"$f":"BI2","v":0},{"$f":"BJ2","v":0},{"$f":"BK2","v":0},{"$f":"BL2","v":0},{"$f":"BM2","v":0},{"$f":"BN2","v":0},{"$f":"BO2","v":0},{"$f":"BP2","v":0},{"$f":"BQ2","v":0},{"$f":"BR2","v":0},{"$f":"BS2","v":0},{"$f":"BT2","v":0},{"$f":"BU2","v":0},{"$f":"BV2","v":0},{"$f":"BW2","v":0},{"$f":"BX2","v":0},{"$f":"BY2","v":0},{"$f":"BZ2","v":0},{"$f":"CA2","v":0},{"$f":"CB2","v":0},{"$f":"CC2","v":0},{"$f":"CD2","v":0},{"$f":"CE2","v":0},{"$f":"CF2","v":0},{"$f":"CG2","v":0}]
[null,null,0,46,null,null,null,null,null,null,null,null,null,null,null,null,null,null,null,null,null,null,null,null,null,null,null,null,null,null,null,null,null,null,null,null,null,null,null,null,null,null,null,null,null,null,null,null,null,{"$f":"E2","v":1.9},2.9,3.9,4.55,5.2,6.2,7.2,6.8000000000000007,6.4,6.65,6.9,7.45,8,7.55,7.1,7.55,8,8.5500000000000007,9.1,10.433333333333334,11.766666666666666,13.1,11.766666666666666,10.433333333333332,9.1,8.5500000000000007,8,7.55,7.1,7.55,8,7.45,6.9,6.65,6.4,6.8000000000000007,7.2,6.2,5.2,4.55,3.9,2.9,1.9,0,0,0,0,0,0,0,{"$f":"BC2","v":0},{"$f":"BD2","v":0},{"$f":"BE2","v":0},{"$f":"BF2","v":0},{"$f":"BG2","v":0},{"$f":"BH2","v":0},{"$f":"BI2","v":0},{"$f":"BJ2","v":0},{"$f":"BK2","v":0},{"$f":"BL2","v":0},{"$f":"BM2","v":0},{"$f":"BN2","v":0},{"$f":"BO2","v":0},{"$f":"BP2","v":0},{"$f":"BQ2","v":0},{"$f":"BR2","v":0},{"$f":"BS2","v":0},{"$f":"BT2","v":0},{"$f":"BU2","v":0},{"$f":"BV2","v":0},{"$f":"BW2","v":0},{"$f":"BX2","v":0},{"$f":"BY2","v":0},{"$f":"BZ2","v":0},{"$f":"CA2","v":0},{"$f":"CB2","v":0},{"$f":"CC2","v":0},{"$f":"CD2","v":0},{"$f":"CE2","v":0},{"$f":"CF2","v":0},{"$f":"CG2","v":0}]
[null,null,-1,47,null,null,null,null,null,null,null,null,null,null,null,null,null,null,null,null,null,null,null,null,null,null,null,null,null,null,null,null,null,null,null,null,null,null,null,null,null,null,null,null,null,null,null,null,null,null,{"$f":"E2","v":1.9},2.9,3.9,4.55,5.2,6.2,7.2,6.8000000000000007,6.4,6.65,6.9,7.45,8,7.55,7.1,7.55,8,8.5500000000000007,9.1,10.433333333333334,11.766666666666666,13.1,11.766666666666666,10.433333333333332,9.1,8.5500000000000007,8,7.55,7.1,7.55,8,7.45,6.9,6.65,6.4,6.8000000000000007,7.2,6.2,5.2,4.55,3.9,2.9,1.9,0,0,0,0,0,0,0,{"$f":"BC2","v":0},{"$f":"BD2","v":0},{"$f":"BE2","v":0},{"$f":"BF2","v":0},{"$f":"BG2","v":0},{"$f":"BH2","v":0},{"$f":"BI2","v":0},{"$f":"BJ2","v":0},{"$f":"BK2","v":0},{"$f":"BL2","v":0},{"$f":"BM2","v":0},{"$f":"BN2","v":0},{"$f":"BO2","v":0},{"$f":"BP2","v":0},{"$f":"BQ2","v":0},{"$f":"BR2","v":0},{"$f":"BS2","v":0},{"$f":"BT2","v":0},{"$f":"BU2","v":0},{"$f":"BV2","v":0},{"$f":"BW2","v":0},{"$f":"BX2","v":0},{"$f":"BY2","v":0},{"$f":"BZ2","v":0},{"$f":"CA2","v":0},{"$f":"CB2","v":0},{"$f":"CC2","v":0},{"$f":"CD2","v":0},{"$f":"CE2","v":0},{"$f":"CF2","v":0},{"$f":"CG2","v":0}]
[null,null,1,48,null,null,null,null,null,null,null,null,null,null,null,null,null,null,null,null,null,null,null,null,null,null,null,null,null,null,null,null,null,null,null,null,null,null,null,null,null,null,null,null,null,null,null,null,null,null,null,{"$f":"E2","v":1.9},2.9,3.9,4.55,5.2,6.2,7.2,6.8000000000000007,6.4,6.65,6.9,7.45,8,7.55,7.1,7.55,8,8.5500000000000007,9.1,10.433333333333334,11.766666666666666,13.1,11.766666666666666,10.433333333333332,9.1,8.5500000000000007,8,7.55,7.1,7.55,8,7.45,6.9,6.65,6.4,6.8000000000000007,7.2,6.2,5.2,4.55,3.9,2.9,1.9,0,0,0,0,0,0,0,{"$f":"BC2","v":0},{"$f":"BD2","v":0},{"$f":"BE2","v":0},{"$f":"BF2","v":0},{"$f":"BG2","v":0},{"$f":"BH2","v":0},{"$f":"BI2","v":0},{"$f":"BJ2","v":0},{"$f":"BK2","v":0},{"$f":"BL2","v":0},{"$f":"BM2","v":0},{"$f":"BN2","v":0},{"$f":"BO2","v":0},{"$f":"BP2","v":0},{"$f":"BQ2","v":0},{"$f":"BR2","v":0},{"$f":"BS2","v":0},{"$f":"BT2","v":0},{"$f":"BU2","v":0},{"$f":"BV2","v":0},{"$f":"BW2","v":0},{"$f":"BX2","v":0},{"$f":"BY2","v":0},{"$f":"BZ2","v":0},{"$f":"CA2","v":0},{"$f":"CB2","v":0},{"$f":"CC2","v":0},{"$f":"CD2","v":0},{"$f":"CE2","v":0},{"$f":"CF2","v":0},{"$f":"CG2","v":0}]
[null,null,0,49,null,null,null,null,null,null,null,null,null,null,null,null,null,null,null,null,null,null,null,null,null,null,null,null,null,null,null,null,null,null,null,null,null,null,null,null,null,null,null,null,null,null,null,null,null,null,null,null,{"$f":"E2","v":1.9},2.9,3.9,4.55,5.2,6.2,7.2,6.8000000000000007,6.4,6.65,6.9,7.45,8,7.55,7.1,7.55,8,8.5500000000000007,9.1,10.433333333333334,11.766666666666666,13.1,11.766666666666666,10.433333333333332,9.1,8.5500000000000007,8,7.55,7.1,7.55,8,7.45,6.9,6.65,6.4,6.8000000000000007,7.2,6.2,5.2,4.55,3.9,2.9,1.9,0,0,0,0,0,0,0,{"$f":"BC2","v":0},{"$f":"BD2","v":0},{"$f":"BE2","v":0},{"$f":"BF2","v":0},{"$f":"BG2","v":0},{"$f":"BH2","v":0},{"$f":"BI2","v":0},{"$f":"BJ2","v":0},{"$f":"BK2","v":0},{"$f":"BL2","v":0},{"$f":"BM2","v":0},{"$f":"BN2","v":0},{"$f":"BO2","v":0},{"$f":"BP2","v":0},{"$f":"BQ2","v":0},{"$f":"BR2","v":0},{"$f":"BS2","v":0},{"$f":"BT2","v":0},{"$f":"BU2","v":0},{"$f":"BV2","v":0},{"$f":"BW2","v":0},{"$f":"BX2","v":0},{"$f":"BY2","v":0},{"$f":"BZ2","v":0},{"$f":"CA2","v":0},{"$f":"CB2","v":0},{"$f":"CC2","v":0},{"$f":"CD2","v":0},{"$f":"CE2","v":0},{"$f":"CF2","v":0},{"$f":"CG2","v":0}]
[null,null,-1,50,null,null,null,null,null,null,null,null,null,null,null,null,null,null,null,null,null,null,null,null,null,null,null,null,null,null,null,null,null,null,null,null,null,null,null,null,null,null,null,null,null,null,null,null,null,null,null,null,null,{"$f":"E2","v":1.9},2.9,3.9,4.55,5.2,6.2,7.2,6.8000000000000007,6.4,6.65,6.9,7.45,8,7.55,7.1,7.55,8,8.5500000000000007,9.1,10.433333333333334,11.766666666666666,13.1,11.766666666666666,10.433333333333332,9.1,8.5500000000000007,8,7.55,7.1,7.55,8,7.45,6.9,6.65,6.4,6.8000000000000007,7.2,6.2,5.2,4.55,3.9,2.9,1.9,0,0,0,0,0,0,0,{"$f":"BC2","v":0},{"$f":"BD2","v":0},{"$f":"BE2","v":0},{"$f":"BF2","v":0},{"$f":"BG2","v":0},{"$f":"BH2","v":0},{"$f":"BI2","v":0},{"$f":"BJ2","v":0},{"$f":"BK2","v":0},{"$f":"BL2","v":0},{"$f":"BM2","v":0},{"$f":"BN2","v":0},{"$f":"BO2","v":0},{"$f":"BP2","v":0},{"$f":"BQ2","v":0},{"$f":"BR2","v":0},{"$f":"BS2","v":0},{"$f":"BT2","v":0},{"$f":"BU2","v":0},{"$f":"BV2","v":0},{"$f":"BW2","v":0},{"$f":"BX2","v":0},{"$f":"BY2","v":0},{"$f":"BZ2","v":0},{"$f":"CA2","v":0},{"$f":"CB2","v":0},{"$f":"CC2","v":0},{"$f":"CD2","v":0},{"$f":"CE2","v":0},{"$f":"CF2","v":0},{"$f":"CG2","v":0}]
[null,null,1,51,null,null,null,null,null,null,null,null,null,null,null,null,null,null,null,null,null,null,null,null,null,null,null,null,null,null,null,null,null,null,null,null,null,null,null,null,null,null,null,null,null,null,null,null,null,null,null,null,null,null,{"$f":"E2","v":1.9},2.9,3.9,4.55,5.2,6.2,7.2,6.8000000000000007,6.4,6.65,6.9,7.45,8,7.55,7.1,7.55,8,8.5500000000000007,9.1,10.433333333333334,11.766666666666666,13.1,11.766666666666666,10.433333333333332,9.1,8.5500000000000007,8,7.55,7.1,7.55,8,7.45,6.9,6.65,6.4,6.8000000000000007,7.2,6.2,5.2,4.55,3.9,2.9,1.9,0,0,0,0,0,0,0,{"$f":"BC2","v":0},{"$f":"BD2","v":0},{"$f":"BE2","v":0},{"$f":"BF2","v":0},{"$f":"BG2","v":0},{"$f":"BH2","v":0},{"$f":"BI2","v":0},{"$f":"BJ2","v":0},{"$f":"BK2","v":0},{"$f":"BL2","v":0},{"$f":"BM2","v":0},{"$f":"BN2","v":0},{"$f":"BO2","v":0},{"$f":"BP2","v":0},{"$f":"BQ2","v":0},{"$f":"BR2","v":0},{"$f":"BS2","v":0},{"$f":"BT2","v":0},{"$f":"BU2","v":0},{"$f":"BV2","v":0},{"$f":"BW2","v":0},{"$f":"BX2","v":0},{"$f":"BY2","v":0},{"$f":"BZ2","v":0},{"$f":"CA2","v":0},{"$f":"CB2","v":0},{"$f":"CC2","v":0},{"$f":"CD2","v":0},{"$f":"CE2","v":0},{"$f":"CF2","v":0},{"$f":"CG2","v":0}]
[null,null,0,52,null,null,null,null,null,null,null,null,null,null,null,null,null,null,null,null,null,null,null,null,null,null,null,null,null,null,null,null,null,null,null,null,null,null,null,null,null,null,null,null,null,null,null,null,null,null,null,null,null,null,null,{"$f":"E2","v":1.9},2.9,3.9,4.55,5.2,6.2,7.2,6.8000000000000007,6.4,6.65,6.9,7.45,8,7.55,7.1,7.55,8,8.5500000000000007,9.1,10.433333333333334,11.766666666666666,13.1,11.766666666666666,10.433333333333332,9.1,8.5500000000000007,8,7.55,7.1,7.55,8,7.45,6.9,6.65,6.4,6.8000000000000007,7.2,6.2,5.2,4.55,3.9,2.9,1.9,0,0,0,0,0,0,0,{"$f":"BC2","v":0},{"$f":"BD2","v":0},{"$f":"BE2","v":0},{"$f":"BF2","v":0},{"$f":"BG2","v":0},{"$f":"BH2","v":0},{"$f":"BI2","v":0},{"$f":"BJ2","v":0},{"$f":"BK2","v":0},{"$f":"BL2","v":0},{"$f":"BM2","v":0},{"$f":"BN2","v":0},{"$f":"BO2","v":0},{"$f":"BP2","v":0},{"$f":"BQ2","v":0},{"$f":"BR2","v":0},{"$f":"BS2","v":0},{"$f":"BT2","v":0},{"$f":"BU2","v":0},{"$f":"BV2","v":0},{"$f":"BW2","v":0},{"$f":"BX2","v":0},{"$f":"BY2","v":0},{"$f":"BZ2","v":0},{"$f":"CA2","v":0},{"$f":"CB2","v":0},{"$f":"CC2","v":0},{"$f":"CD2","v":0},{"$f":"CE2","v":0},{"$f":"CF2","v":0},{"$f":"CG2","v":0}]
[null,null,-1,53,null,null,null,null,null,null,null,null,null,null,null,null,null,null,null,null,null,null,null,null,null,null,null,null,null,null,null,null,null,null,null,null,null,null,null,null,null,null,null,null,null,null,null,null,null,null,null,null,null,null,null,null,{"$f":"E2","v":1.9},2.9,3.9,4.55,5.2,6.2,7.2,6.8000000000000007,6.4,6.65,6.9,7.45,8,7.55,7.1,7.55,8,8.5500000000000007,9.1,10.433333333333334,11.766666666666666,13.1,11.766666666666666,10.433333333333332,9.1,8.5500000000000007,8,7.55,7.1,7.55,8,7.45,6.9,6.65,6.4,6.8000000000000007,7.2,6.2,5.2,4.55,3.9,2.9,1.9,0,0,0,0,0,0,0,{"$f":"BC2","v":0},{"$f":"BD2","v":0},{"$f":"BE2","v":0},{"$f":"BF2","v":0},{"$f":"BG2","v":0},{"$f":"BH2","v":0},{"$f":"BI2","v":0},{"$f":"BJ2","v":0},{"$f":"BK2","v":0},{"$f":"BL2","v":0},{"$f":"BM2","v":0},{"$f":"BN2","v":0},{"$f":"BO2","v":0},{"$f":"BP2","v":0},{"$f":"BQ2","v":0},{"$f":"BR2","v":0},{"$f":"BS2","v":0},{"$f":"BT2","v":0},{"$f":"BU2","v":0},{"$f":"BV2","v":0},{"$f":"BW2","v":0},{"$f":"BX2","v":0},{"$f":"BY2","v":0},{"$f":"BZ2","v":0},{"$f":"CA2","v":0},{"$f":"CB2","v":0},{"$f":"CC2","v":0},{"$f":"CD2","v":0},{"$f":"CE2","v":0},{"$f":"CF2","v":0},{"$f":"CG2","v":0}]
[null,null,1,54,null,null,null,null,null,null,null,null,null,null,null,null,null,null,null,null,null,null,null,null,null,null,null,null,null,null,null,null,null,null,null,null,null,null,null,null,null,null,null,null,null,null,null,null,null,null,null,null,null,null,null,null,null,{"$f":"E2","v":1.9},2.9,3.9,4.55,5.2,6.2,7.2,6.8000000000000007,6.4,6.65,6.9,7.45,8,7.55,7.1,7.55,8,8.5500000000000007,9.1,10.433333333333334,11.766666666666666,13.1,11.766666666666666,10.433333333333332,9.1,8.5500000000000007,8,7.55,7.1,7.55,8,7.45,6.9,6.65,6.4,6.8000000000000007,7.2,6.2,5.2,4.55,3.9,2.9,1.9,0,0,0,0,0,0,0,{"$f":"BC2","v":0},{"$f":"BD2","v":0},{"$f":"BE2","v":0},{"$f":"BF2","v":0},{"$f":"BG2","v":0},{"$f":"BH2","v":0},{"$f":"BI2","v":0},{"$f":"BJ2","v":0},{"$f":"BK2","v":0},{"$f":"BL2","v":0},{"$f":"BM2","v":0},{"$f":"BN2","v":0},{"$f":"BO2","v":0},{"$f":"BP2","v":0},{"$f":"BQ2","v":0},{"$f":"BR2","v":0},{"$f":"BS2","v":0},{"$f":"BT2","v":0},{"$f":"BU2","v":0},{"$f":"BV2","v":0},{"$f":"BW2","v":0},{"$f":"BX2","v":0},{"$f":"BY2","v":0},{"$f":"BZ2","v":0},{"$f":"CA2","v":0},{"$f":"CB2","v":0},{"$f":"CC2","v":0},{"$f":"CD2","v":0},{"$f":"CE2","v":0},{"$f":"CF2","v":0},{"$f":"CG2","v":0}]
[null,null,0,55,null,null,null,null,null,null,null,null,null,null,null,null,null,null,null,null,null,null,null,null,null,null,null,null,null,null,null,null,null,null,null,null,null,null,null,null,null,null,null,null,null,null,null,null,null,null,null,null,null,null,null,null,null,null,{"$f":"E2","v":1.9},2.9,3.9,4.55,5.2,6.2,7.2,6.8000000000000007,6.4,6.65,6.9,7.45,8,7.55,7.1,7.55,8,8.5500000000000007,9.1,10.433333333333334,11.766666666666666,13.1,11.766666666666666,10.433333333333332,9.1,8.5500000000000007,8,7.55,7.1,7.55,8,7.45,6.9,6.65,6.4,6.8000000000000007,7.2,6.2,5.2,4.55,3.9,2.9,1.9,0,0,0,0,0,0,0,{"$f":"BC2","v":0},{"$f":"BD2","v":0},{"$f":"BE2","v":0},{"$f":"BF2","v":0},{"$f":"BG2","v":0},{"$f":"BH2","v":0},{"$f":"BI2","v":0},{"$f":"BJ2","v":0},{"$f":"BK2","v":0},{"$f":"BL2","v":0},{"$f":"BM2","v":0},{"$f":"BN2","v":0},{"$f":"BO2","v":0},{"$f":"BP2","v":0},{"$f":"BQ2","v":0},{"$f":"BR2","v":0},{"$f":"BS2","v":0},{"$f":"BT2","v":0},{"$f":"BU2","v":0},{"$f":"BV2","v":0},{"$f":"BW2","v":0},{"$f":"BX2","v":0},{"$f":"BY2","v":0},{"$f":"BZ2","v":0},{"$f":"CA2","v":0},{"$f":"CB2","v":0},{"$f":"CC2","v":0},{"$f":"CD2","v":0},{"$f":"CE2","v":0},{"$f":"CF2","v":0},{"$f":"CG2","v":0}]
[null,null,-1,56,null,null,null,null,null,null,null,null,null,null,null,null,null,null,null,null,null,null,null,null,null,null,null,null,null,null,null,null,null,null,null,null,null,null,null,null,null,null,null,null,null,null,null,null,null,null,null,null,null,null,null,null,null,null,null,{"$f":"E2","v":1.9},2.9,3.9,4.55,5.2,6.2,7.2,6.8000000000000007,6.4,6.65,6.9,7.45,8,7.55,7.1,7.55,8,8.5500000000000007,9.1,10.433333333333334,11.766666666666666,13.1,11.766666666666666,10.433333333333332,9.1,8.5500000000000007,8,7.55,7.1,7.55,8,7.45,6.9,6.65,6.4,6.8000000000000007,7.2,6.2,5.2,4.55,3.9,2.9,1.9,0,0,0,0,0,0,0,{"$f":"BC2","v":0},{"$f":"BD2","v":0},{"$f":"BE2","v":0},{"$f":"BF2","v":0},{"$f":"BG2","v":0},{"$f":"BH2","v":0},{"$f":"BI2","v":0},{"$f":"BJ2","v":0},{"$f":"BK2","v":0},{"$f":"BL2","v":0},{"$f":"BM2","v":0},{"$f":"BN2","v":0},{"$f":"BO2","v":0},{"$f":"BP2","v":0},{"$f":"BQ2","v":0},{"$f":"BR2","v":0},{"$f":"BS2","v":0},{"$f":"BT2","v":0},{"$f":"BU2","v":0},{"$f":"BV2","v":0},{"$f":"BW2","v":0},{"$f":"BX2","v":0},{"$f":"BY2","v":0},{"$f":"BZ2","v":0},{"$f":"CA2","v":0},{"$f":"CB2","v":0},{"$f":"CC2","v":0},{"$f":"CD2","v":0},{"$f":"CE2","v":0},{"$f":"CF2","v":0},{"$f":"CG2","v":0}]
[null,null,1,57,null,null,null,null,null,null,null,null,null,null,null,null,null,null,null,null,null,null,null,null,null,null,null,null,null,null,null,null,null,null,null,null,null,null,null,null,null,null,null,null,null,null,null,null,null,null,null,null,null,null,null,null,null,null,null,null,{"$f":"E2","v":1.9},2.9,3.9,4.55,5.2,6.2,7.2,6.8000000000000007,6.4,6.65,6.9,7.45,8,7.55,7.1,7.55,8,8.5500000000000007,9.1,10.433333333333334,11.766666666666666,13.1,11.766666666666666,10.433333333333332,9.1,8.5500000000000007,8,7.55,7.1,7.55,8,7.45,6.9,6.65,6.4,6.8000000000000007,7.2,6.2,5.2,4.55,3.9,2.9,1.9,0,0,0,0,0,0,0,{"$f":"BC2","v":0},{"$f":"BD2","v":0},{"$f":"BE2","v":0},{"$f":"BF2","v":0},{"$f":"BG2","v":0},{"$f":"BH2","v":0},{"$f":"BI2","v":0},{"$f":"BJ2","v":0},{"$f":"BK2","v":0},{"$f":"BL2","v":0},{"$f":"BM2","v":0},{"$f":"BN2","v":0},{"$f":"BO2","v":0},{"$f":"BP2","v":0},{"$f":"BQ2","v":0},{"$f":"BR2","v":0},{"$f":"BS2","v":0},{"$f":"BT2","v":0},{"$f":"BU2","v":0},{"$f":"BV2","v":0},{"$f":"BW2","v":0},{"$f":"BX2","v":0},{"$f":"BY2","v":0},{"$f":"BZ2","v":0},{"$f":"CA2","v":0},{"$f":"CB2","v":0},{"$f":"CC2","v":0},{"$f":"CD2","v":0},{"$f":"CE2","v":0},{"$f":"CF2","v":0},{"$f":"CG2","v":0}]
[null,null,0,58,null,null,null,null,null,null,null,null,null,null,null,null,null,null,null,null,null,null,null,null,null,null,null,null,null,null,null,null,null,null,null,null,null,null,null,null,null,null,null,null,null,null,null,null,null,null,null,null,null,null,null,null,null,null,null,null,null,{"$f":"E2","v":1.9},2.9,3.9,4.55,5.2,6.2,7.2,6.8000000000000007,6.4,6.65,6.9,7.45,8,7.55,7.1,7.55,8,8.5500000000000007,9.1,10.433333333333334,11.766666666666666,13.1,11.766666666666666,10.433333333333332,9.1,8.5500000000000007,8,7.55,7.1,7.55,8,7.45,6.9,6.65,6.4,6.8000000000000007,7.2,6.2,5.2,4.55,3.9,2.9,1.9,0,0,0,0,0,0,0,{"$f":"BC2","v":0},{"$f":"BD2","v":0},{"$f":"BE2","v":0},{"$f":"BF2","v":0},{"$f":"BG2","v":0},{"$f":"BH2","v":0},{"$f":"BI2","v":0},{"$f":"BJ2","v":0},{"$f":"BK2","v":0},{"$f":"BL2","v":0},{"$f":"BM2","v":0},{"$f":"BN2","v":0},{"$f":"BO2","v":0},{"$f":"BP2","v":0},{"$f":"BQ2","v":0},{"$f":"BR2","v":0},{"$f":"BS2","v":0},{"$f":"BT2","v":0},{"$f":"BU2","v":0},{"$f":"BV2","v":0},{"$f":"BW2","v":0},{"$f":"BX2","v":0},{"$f":"BY2","v":0},{"$f":"BZ2","v":0},{"$f":"CA2","v":0},{"$f":"CB2","v":0},{"$f":"CC2","v":0},{"$f":"CD2","v":0},{"$f":"CE2","v":0},{"$f":"CF2","v":0},{"$f":"CG2","v":0}]
[null,null,-1,59,null,null,null,null,null,null,null,null,null,null,null,null,null,null,null,null,null,null,null,null,null,null,null,null,null,null,null,null,null,null,null,null,null,null,null,null,null,null,null,null,null,null,null,null,null,null,null,null,null,null,null,null,null,null,null,null,null,null,{"$f":"E2","v":1.9},2.9,3.9,4.55,5.2,6.2,7.2,6.8000000000000007,6.4,6.65,6.9,7.45,8,7.55,7.1,7.55,8,8.5500000000000007,9.1,10.433333333333334,11.766666666666666,13.1,11.766666666666666,10.433333333333332,9.1,8.5500000000000007,8,7.55,7.1,7.55,8,7.45,6.9,6.65,6.4,6.8000000000000007,7.2,6.2,5.2,4.55,3.9,2.9,1.9,0,0,0,0,0,0,0,{"$f":"BC2","v":0},{"$f":"BD2","v":0},{"$f":"BE2","v":0},{"$f":"BF2","v":0},{"$f":"BG2","v":0},{"$f":"BH2","v":0},{"$f":"BI2","v":0},{"$f":"BJ2","v":0},{"$f":"BK2","v":0},{"$f":"BL2","v":0},{"$f":"BM2","v":0},{"$f":"BN2","v":0},{"$f":"BO2","v":0},{"$f":"BP2","v":0},{"$f":"BQ2","v":0},{"$f":"BR2","v":0},{"$f":"BS2","v":0},{"$f":"BT2","v":0},{"$f":"BU2","v":0},{"$f":"BV2","v":0},{"$f":"BW2","v":0},{"$f":"BX2","v":0},{"$f":"BY2","v":0},{"$f":"BZ2","v":0},{"$f":"CA2","v":0},{"$f":"CB2","v":0},{"$f":"CC2","v":0},{"$f":"CD2","v":0},{"$f":"CE2","v":0},{"$f":"CF2","v":0},{"$f":"CG2","v":0}]
[null,null,1,60,null,null,null,null,null,null,null,null,null,null,null,null,null,null,null,null,null,null,null,null,null,null,null,null,null,null,null,null,null,null,null,null,null,null,null,null,null,null,null,null,null,null,null,null,null,null,null,null,null,null,null,null,null,null,null,null,null,null,null,{"$f":"E2","v":1.9},2.9,3.9,4.55,5.2,6.2,7.2,6.8000000000000007,6.4,6.65,6.9,7.45,8,7.55,7.1,7.55,8,8.5500000000000007,9.1,10.433333333333334,11.766666666666666,13.1,11.766666666666666,10.433333333333332,9.1,8.5500000000000007,8,7.55,7.1,7.55,8,7.45,6.9,6.65,6.4,6.8000000000000007,7.2,6.2,5.2,4.55,3.9,2.9,1.9,0,0,0,0,0,0,0,{"$f":"BC2","v":0},{"$f":"BD2","v":0},{"$f":"BE2","v":0},{"$f":"BF2","v":0},{"$f":"BG2","v":0},{"$f":"BH2","v":0},{"$f":"BI2","v":0},{"$f":"BJ2","v":0},{"$f":"BK2","v":0},{"$f":"BL2","v":0},{"$f":"BM2","v":0},{"$f":"BN2","v":0},{"$f":"BO2","v":0},{"$f":"BP2","v":0},{"$f":"BQ2","v":0},{"$f":"BR2","v":0},{"$f":"BS2","v":0},{"$f":"BT2","v":0},{"$f":"BU2","v":0},{"$f":"BV2","v":0},{"$f":"BW2","v":0},{"$f":"BX2","v":0},{"$f":"BY2","v":0},{"$f":"BZ2","v":0},{"$f":"CA2","v":0},{"$f":"CB2","v":0},{"$f":"CC2","v":0},{"$f":"CD2","v":0},{"$f":"CE2","v":0},{"$f":"CF2","v":0},{"$f":"CG2","v":0}]
[null,null,0,61,null,null,null,null,null,null,null,null,null,null,null,null,null,null,null,null,null,null,null,null,null,null,null,null,null,null,null,null,null,null,null,null,null,null,null,null,null,null,null,null,null,null,null,null,null,null,null,null,null,null,null,null,null,null,null,null,null,null,null,null,{"$f":"E2","v":1.9},2.9,3.9,4.55,5.2,6.2,7.2,6.8000000000000007,6.4,6.65,6.9,7.45,8,7.55,7.1,7.55,8,8.5500000000000007,9.1,10.433333333333334,11.766666666666666,13.1,11.766666666666666,10.433333333333332,9.1,8.5500000000000007,8,7.55,7.1,7.55,8,7.45,6.9,6.65,6.4,6.8000000000000007,7.2,6.2,5.2,4.55,3.9,2.9,1.9,0,0,0,0,0,0,0,{"$f":"BC2","v":0},{"$f":"BD2","v":0},{"$f":"BE2","v":0},{"$f":"BF2","v":0},{"$f":"BG2","v":0},{"$f":"BH2","v":0},{"$f":"BI2","v":0},{"$f":"BJ2","v":0},{"$f":"BK2","v":0},{"$f":"BL2","v":0},{"$f":"BM2","v":0},{"$f":"BN2","v":0},{"$f":"BO2","v":0},{"$f":"BP2","v":0},{"$f":"BQ2","v":0},{"$f":"BR2","v":0},{"$f":"BS2","v":0},{"$f":"BT2","v":0},{"$f":"BU2","v":0},{"$f":"BV2","v":0},{"$f":"BW2","v":0},{"$f":"BX2","v":0},{"$f":"BY2","v":0},{"$f":"BZ2","v":0},{"$f":"CA2","v":0},{"$f":"CB2","v":0},{"$f":"CC2","v":0},{"$f":"CD2","v":0},{"$f":"CE2","v":0},{"$f":"CF2","v":0},{"$f":"CG2","v":0}]
[null,null,-1,62,null,null,null,null,null,null,null,null,null,null,null,null,null,null,null,null,null,null,null,null,null,null,null,null,null,null,null,null,null,null,null,null,null,null,null,null,null,null,null,null,null,null,null,null,null,null,null,null,null,null,null,null,null,null,null,null,null,null,null,null,null,{"$f":"E2","v":1.9},2.9,3.9,4.55,5.2,6.2,7.2,6.8000000000000007,6.4,6.65,6.9,7.45,8,7.55,7.1,7.55,8,8.5500000000000007,9.1,10.433333333333334,11.766666666666666,13.1,11.766666666666666,10.433333333333332,9.1,8.5500000000000007,8,7.55,7.1,7.55,8,7.45,6.9,6.65,6.4,6.8000000000000007,7.2,6.2,5.2,4.55,3.9,2.9,1.9,0,0,0,0,0,0,0,{"$f":"BC2","v":0},{"$f":"BD2","v":0},{"$f":"BE2","v":0},{"$f":"BF2","v":0},{"$f":"BG2","v":0},{"$f":"BH2","v":0},{"$f":"BI2","v":0},{"$f":"BJ2","v":0},{"$f":"BK2","v":0},{"$f":"BL2","v":0},{"$f":"BM2","v":0},{"$f":"BN2","v":0},{"$f":"BO2","v":0},{"$f":"BP2","v":0},{"$f":"BQ2","v":0},{"$f":"BR2","v":0},{"$f":"BS2","v":0},{"$f":"BT2","v":0},{"$f":"BU2","v":0},{"$f":"BV2","v":0},{"$f":"BW2","v":0},{"$f":"BX2","v":0},{"$f":"BY2","v":0},{"$f":"BZ2","v":0},{"$f":"CA2","v":0},{"$f":"CB2","v":0},{"$f":"CC2","v":0},{"$f":"CD2","v":0},{"$f":"CE2","v":0},{"$f":"CF2","v":0},{"$f":"CG2","v":0}]
[null,null,1,63,null,null,null,null,null,null,null,null,null,null,null,null,null,null,null,null,null,null,null,null,null,null,null,null,null,null,null,null,null,null,null,null,null,null,null,null,null,null,null,null,null,null,null,null,null,null,null,null,null,null,null,null,null,null,null,null,null,null,null,null,null,null,{"$f":"E2","v":1.9},2.9,3.9,4.55,5.2,6.2,7.2,6.8000000000000007,6.4,6.65,6.9,7.45,8,7.55,7.1,7.55,8,8.5500000000000007,9.1,10.433333333333334,11.766666666666666,13.1,11.766666666666666,10.433333333333332,9.1,8.5500000000000007,8,7.55,7.1,7.55,8,7.45,6.9,6.65,6.4,6.8000000000000007,7.2,6.2,5.2,4.55,3.9,2.9,1.9,0,0,0,0,0,0,0,{"$f":"BC2","v":0},{"$f":"BD2","v":0},{"$f":"BE2","v":0},{"$f":"BF2","v":0},{"$f":"BG2","v":0},{"$f":"BH2","v":0},{"$f":"BI2","v":0},{"$f":"BJ2","v":0},{"$f":"BK2","v":0},{"$f":"BL2","v":0},{"$f":"BM2","v":0},{"$f":"BN2","v":0},{"$f":"BO2","v":0},{"$f":"BP2","v":0},{"$f":"BQ2","v":0},{"$f":"BR2","v":0},{"$f":"BS2","v":0},{"$f":"BT2","v":0},{"$f":"BU2","v":0},{"$f":"BV2","v":0},{"$f":"BW2","v":0},{"$f":"BX2","v":0},{"$f":"BY2","v":0},{"$f":"BZ2","v":0},{"$f":"CA2","v":0},{"$f":"CB2","v":0},{"$f":"CC2","v":0},{"$f":"CD2","v":0},{"$f":"CE2","v":0},{"$f":"CF2","v":0},{"$f":"CG2","v":0}]
[null,null,0,64,null,null,null,null,null,null,null,null,null,null,null,null,null,null,null,null,null,null,null,null,null,null,null,null,null,null,null,null,null,null,null,null,null,null,null,null,null,null,null,null,null,null,null,null,null,null,null,null,null,null,null,null,null,null,null,null,null,null,null,null,null,null,null,{"$f":"E2","v":1.9},2.9,3.9,4.55,5.2,6.2,7.2,6.8000000000000007,6.4,6.65,6.9,7.45,8,7.55,7.1,7.55,8,8.5500000000000007,9.1,10.433333333333334,11.766666666666666,13.1,11.766666666666666,10.433333333333332,9.1,8.5500000000000007,8,7.55,7.1,7.55,8,7.45,6.9,6.65,6.4,6.8000000000000007,7.2,6.2,5.2,4.55,3.9,2.9,1.9,0,0,0,0,0,0,0,{"$f":"BC2","v":0},{"$f":"BD2","v":0},{"$f":"BE2","v":0},{"$f":"BF2","v":0},{"$f":"BG2","v":0},{"$f":"BH2","v":0},{"$f":"BI2","v":0},{"$f":"BJ2","v":0},{"$f":"BK2","v":0},{"$f":"BL2","v":0},{"$f":"BM2","v":0},{"$f":"BN2","v":0},{"$f":"BO2","v":0},{"$f":"BP2","v":0},{"$f":"BQ2","v":0},{"$f":"BR2","v":0},{"$f":"BS2","v":0},{"$f":"BT2","v":0},{"$f":"BU2","v":0},{"$f":"BV2","v":0},{"$f":"BW2","v":0},{"$f":"BX2","v":0},{"$f":"BY2","v":0},{"$f":"BZ2","v":0},{"$f":"CA2","v":0},{"$f":"CB2","v":0},{"$f":"CC2","v":0},{"$f":"CD2","v":0},{"$f":"CE2","v":0},{"$f":"CF2","v":0},{"$f":"CG2","v":0}]
[null,null,{"$f":"1-MOD(D71,$B$106)","v":-1},65,null,null,null,null,null,null,null,null,null,null,null,null,null,null,null,null,null,null,null,null,null,null,null,null,null,null,null,null,null,null,null,null,null,null,null,null,null,null,null,null,null,null,null,null,null,null,null,null,null,null,null,null,null,null,null,null,null,null,null,null,null,null,null,null,{"$f":"E2","v":1.9},2.9,3.9,4.55,5.2,6.2,7.2,6.8000000000000007,6.4,6.65,6.9,7.45,8,7.55,7.1,7.55,8,8.5500000000000007,9.1,10.433333333333334,11.766666666666666,13.1,11.766666666666666,10.433333333333332,9.1,8.5500000000000007,8,7.55,7.1,7.55,8,7.45,6.9,6.65,6.4,6.8000000000000007,7.2,6.2,5.2,4.55,3.9,2.9,1.9,0,0,0,0,0,0,0,{"$f":"BC2","v":0},{"$f":"BD2","v":0},{"$f":"BE2","v":0},{"$f":"BF2","v":0},{"$f":"BG2","v":0},{"$f":"BH2","v":0},{"$f":"BI2","v":0},{"$f":"BJ2","v":0},{"$f":"BK2","v":0},{"$f":"BL2","v":0},{"$f":"BM2","v":0},{"$f":"BN2","v":0},{"$f":"BO2","v":0},{"$f":"BP2","v":0},{"$f":"BQ2","v":0},{"$f":"BR2","v":0},{"$f":"BS2","v":0},{"$f":"BT2","v":0},{"$f":"BU2","v":0},{"$f":"BV2","v":0},{"$f":"BW2","v":0},{"$f":"BX2","v":0},{"$f":"BY2","v":0},{"$f":"BZ2","v":0},{"$f":"CA2","v":0},{"$f":"CB2","v":0},{"$f":"CC2","v":0},{"$f":"CD2","v":0},{"$f":"CE2","v":0},{"$f":"CF2","v":0},{"$f":"CG2","v":0}]
[null,null,1,66,null,null,null,null,null,null,null,null,null,null,null,null,null,null,null,null,null,null,null,null,null,null,null,null,null,null,null,null,null,null,null,null,null,null,null,null,null,null,null,null,null,null,null,null,null,null,null,null,null,null,null,null,null,null,null,null,null,null,null,null,null,null,null,null,null,{"$f":"E2","v":1.9},2.9,3.9,4.55,5.2,6.2,7.2,6.8000000000000007,6.4,6.65,6.9,7.45,8,7.55,7.1,7.55,8,8.5500000000000007,9.1,10.433333333333334,11.766666666666666,13.1,11.766666666666666,10.433333333333332,9.1,8.5500000000000007,8,7.55,7.1,7.55,8,7.45,6.9,6.65,6.4,6.8000000000000007,7.2,6.2,5.2,4.55,3.9,2.9,1.9,0,0,0,0,0,0,0,{"$f":"BC2","v":0},{"$f":"BD2","v":0},{"$f":"BE2","v":0},{"$f":"BF2","v":0},{"$f":"BG2","v":0},{"$f":"BH2","v":0},{"$f":"BI2","v":0},{"$f":"BJ2","v":0},{"$f":"BK2","v":0},{"$f":"BL2","v":0},{"$f":"BM2","v":0},{"$f":"BN2","v":0},{"$f":"BO2","v":0},{"$f":"BP2","v":0},{"$f":"BQ2","v":0},{"$f":"BR2","v":0},{"$f":"BS2","v":0},{"$f":"BT2","v":0},{"$f":"BU2","v":0},{"$f":"BV2","v":0},{"$f":"BW2","v":0},{"$f":"BX2","v":0},{"$f":"BY2","v":0},{"$f":"BZ2","v":0},{"$f":"CA2","v":0},{"$f":"CB2","v":0},{"$f":"CC2","v":0},{"$f":"CD2","v":0},{"$f":"CE2","v":0},{"$f":"CF2","v":0},{"$f":"CG2","v":0}]
[null,null,0,67,null,null,null,null,null,null,null,null,null,null,null,null,null,null,null,null,null,null,null,null,null,null,null,null,null,null,null,null,null,null,null,null,null,null,null,null,null,null,null,null,null,null,null,null,null,null,null,null,null,null,null,null,null,null,null,null,null,null,null,null,null,null,null,null,null,null,{"$f":"E2","v":1.9},2.9,3.9,4.55,5.2,6.2,7.2,6.8000000000000007,6.4,6.65,6.9,7.45,8,7.55,7.1,7.55,8,8.5500000000000007,9.1,10.433333333333334,11.766666666666666,13.1,11.766666666666666,10.433333333333332,9.1,8.5500000000000007,8,7.55,7.1,7.55,8,7.45,6.9,6.65,6.4,6.8000000000000007,7.2,6.2,5.2,4.55,3.9,2.9,1.9,0,0,0,0,0,0,0,{"$f":"BC2","v":0},{"$f":"BD2","v":0},{"$f":"BE2","v":0},{"$f":"BF2","v":0},{"$f":"BG2","v":0},{"$f":"BH2","v":0},{"$f":"BI2","v":0},{"$f":"BJ2","v":0},{"$f":"BK2","v":0},{"$f":"BL2","v":0},{"$f":"BM2","v":0},{"$f":"BN2","v":0},{"$f":"BO2","v":0},{"$f":"BP2","v":0},{"$f":"BQ2","v":0},{"$f":"BR2","v":0},{"$f":"BS2","v":0},{"$f":"BT2","v":0},{"$f":"BU2","v":0},{"$f":"BV2","v":0},{"$f":"BW2","v":0},{"$f":"BX2","v":0},{"$f":"BY2","v":0},{"$f":"BZ2","v":0},{"$f":"CA2","v":0},{"$f":"CB2","v":0},{"$f":"CC2","v":0},{"$f":"CD2","v":0},{"$f":"CE2","v":0},{"$f":"CF2","v":0},{"$f":"CG2","v":0}]
[null,null,-1,68,null,null,null,null,null,null,null,null,null,null,null,null,null,null,null,null,null,null,null,null,null,null,null,null,null,null,null,null,null,null,null,null,null,null,null,null,null,null,null,null,null,null,null,null,null,null,null,null,null,null,null,null,null,null,null,null,null,null,null,null,null,null,null,null,null,null,null,{"$f":"E2","v":1.9},2.9,3.9,4.55,5.2,6.2,7.2,6.8000000000000007,6.4,6.65,6.9,7.45,8,7.55,7.1,7.55,8,8.5500000000000007,9.1,10.433333333333334,11.766666666666666,13.1,11.766666666666666,10.433333333333332,9.1,8.5500000000000007,8,7.55,7.1,7.55,8,7.45,6.9,6.65,6.4,6.8000000000000007,7.2,6.2,5.2,4.55,3.9,2.9,1.9,0,0,0,0,0,0,0,{"$f":"BC2","v":0},{"$f":"BD2","v":0},{"$f":"BE2","v":0},{"$f":"BF2","v":0},{"$f":"BG2","v":0},{"$f":"BH2","v":0},{"$f":"BI2","v":0},{"$f":"BJ2","v":0},{"$f":"BK2","v":0},{"$f":"BL2","v":0},{"$f":"BM2","v":0},{"$f":"BN2","v":0},{"$f":"BO2","v":0},{"$f":"BP2","v":0},{"$f":"BQ2","v":0},{"$f":"BR2","v":0},{"$f":"BS2","v":0},{"$f":"BT2","v":0},{"$f":"BU2","v":0},{"$f":"BV2","v":0},{"$f":"BW2","v":0},{"$f":"BX2","v":0},{"$f":"BY2","v":0},{"$f":"BZ2","v":0},{"$f":"CA2","v":0},{"$f":"CB2","v":0},{"$f":"CC2","v":0},{"$f":"CD2","v":0},{"$f":"CE2","v":0},{"$f":"CF2","v":0},{"$f":"CG2","v":0}]
[null,null,1,69,null,null,null,null,null,null,null,null,null,null,null,null,null,null,null,null,null,null,null,null,null,null,null,null,null,null,null,null,null,null,null,null,null,null,null,null,null,null,null,null,null,null,null,null,null,null,null,null,null,null,null,null,null,null,null,null,null,null,null,null,null,null,null,null,null,null,null,null,{"$f":"E2","v":1.9},2.9,3.9,4.55,5.2,6.2,7.2,6.8000000000000007,6.4,6.65,6.9,7.45,8,7.55,7.1,7.55,8,8.5500000000000007,9.1,10.433333333333334,11.766666666666666,13.1,11.766666666666666,10.433333333333332,9.1,8.5500000000000007,8,7.55,7.1,7.55,8,7.45,6.9,6.65,6.4,6.8000000000000007,7.2,6.2,5.2,4.55,3.9,2.9,1.9,0,0,0,0,0,0,0,{"$f":"BC2","v":0},{"$f":"BD2","v":0},{"$f":"BE2","v":0},{"$f":"BF2","v":0},{"$f":"BG2","v":0},{"$f":"BH2","v":0},{"$f":"BI2","v":0},{"$f":"BJ2","v":0},{"$f":"BK2","v":0},{"$f":"BL2","v":0},{"$f":"BM2","v":0},{"$f":"BN2","v":0},{"$f":"BO2","v":0},{"$f":"BP2","v":0},{"$f":"BQ2","v":0},{"$f":"BR2","v":0},{"$f":"BS2","v":0},{"$f":"BT2","v":0},{"$f":"BU2","v":0},{"$f":"BV2","v":0},{"$f":"BW2","v":0},{"$f":"BX2","v":0},{"$f":"BY2","v":0},{"$f":"BZ2","v":0},{"$f":"CA2","v":0},{"$f":"CB2","v":0},{"$f":"CC2","v":0},{"$f":"CD2","v":0},{"$f":"CE2","v":0},{"$f":"CF2","v":0},{"$f":"CG2","v":0}]
[null,null,0,70,null,null,null,null,null,null,null,null,null,null,null,null,null,null,null,null,null,null,null,null,null,null,null,null,null,null,null,null,null,null,null,null,null,null,null,null,null,null,null,null,null,null,null,null,null,null,null,null,null,null,null,null,null,null,null,null,null,null,null,null,null,null,null,null,null,null,null,null,null,{"$f":"E2","v":1.9},2.9,3.9,4.55,5.2,6.2,7.2,6.8000000000000007,6.4,6.65,6.9,7.45,8,7.55,7.1,7.55,8,8.5500000000000007,9.1,10.433333333333334,11.766666666666666,13.1,11.766666666666666,10.433333333333332,9.1,8.5500000000000007,8,7.55,7.1,7.55,8,7.45,6.9,6.65,6.4,6.8000000000000007,7.2,6.2,5.2,4.55,3.9,2.9,1.9,0,0,0,0,0,0,0,{"$f":"BC2","v":0},{"$f":"BD2","v":0},{"$f":"BE2","v":0},{"$f":"BF2","v":0},{"$f":"BG2","v":0},{"$f":"BH2","v":0},{"$f":"BI2","v":0},{"$f":"BJ2","v":0},{"$f":"BK2","v":0},{"$f":"BL2","v":0},{"$f":"BM2","v":0},{"$f":"BN2","v":0},{"$f":"BO2","v":0},{"$f":"BP2","v":0},{"$f":"BQ2","v":0},{"$f":"BR2","v":0},{"$f":"BS2","v":0},{"$f":"BT2","v":0},{"$f":"BU2","v":0},{"$f":"BV2","v":0},{"$f":"BW2","v":0},{"$f":"BX2","v":0},{"$f":"BY2","v":0},{"$f":"BZ2","v":0},{"$f":"CA2","v":0},{"$f":"CB2","v":0},{"$f":"CC2","v":0},{"$f":"CD2","v":0},{"$f":"CE2","v":0},{"$f":"CF2","v":0},{"$f":"CG2","v":0}]
[null,null,-1,71,null,null,null,null,null,null,null,null,null,null,null,null,null,null,null,null,null,null,null,null,null,null,null,null,null,null,null,null,null,null,null,null,null,null,null,null,null,null,null,null,null,null,null,null,null,null,null,null,null,null,null,null,null,null,null,null,null,null,null,null,null,null,null,null,null,null,null,null,null,null,{"$f":"E2","v":1.9},2.9,3.9,4.55,5.2,6.2,7.2,6.8000000000000007,6.4,6.65,6.9,7.45,8,7.55,7.1,7.55,8,8.5500000000000007,9.1,10.433333333333334,11.766666666666666,13.1,11.766666666666666,10.433333333333332,9.1,8.5500000000000007,8,7.55,7.1,7.55,8,7.45,6.9,6.65,6.4,6.8000000000000007,7.2,6.2,5.2,4.55,3.9,2.9,1.9,0,0,0,0,0,0,0,{"$f":"BC2","v":0},{"$f":"BD2","v":0},{"$f":"BE2","v":0},{"$f":"BF2","v":0},{"$f":"BG2","v":0},{"$f":"BH2","v":0},{"$f":"BI2","v":0},{"$f":"BJ2","v":0},{"$f":"BK2","v":0},{"$f":"BL2","v":0},{"$f":"BM2","v":0},{"$f":"BN2","v":0},{"$f":"BO2","v":0},{"$f":"BP2","v":0},{"$f":"BQ2","v":0},{"$f":"BR2","v":0},{"$f":"BS2","v":0},{"$f":"BT2","v":0},{"$f":"BU2","v":0},{"$f":"BV2","v":0},{"$f":"BW2","v":0},{"$f":"BX2","v":0},{"$f":"BY2","v":0},{"$f":"BZ2","v":0},{"$f":"CA2","v":0},{"$f":"CB2","v":0},{"$f":"CC2","v":0},{"$f":"CD2","v":0},{"$f":"CE2","v":0},{"$f":"CF2","v":0},{"$f":"CG2","v":0}]
[null,null,1,72,null,null,null,null,null,null,null,null,null,null,null,null,null,null,null,null,null,null,null,null,null,null,null,null,null,null,null,null,null,null,null,null,null,null,null,null,null,null,null,null,null,null,null,null,null,null,null,null,null,null,null,null,null,null,null,null,null,null,null,null,null,null,null,null,null,null,null,null,null,null,null,{"$f":"E2","v":1.9},2.9,3.9,4.55,5.2,6.2,7.2,6.8000000000000007,6.4,6.65,6.9,7.45,8,7.55,7.1,7.55,8,8.5500000000000007,9.1,10.433333333333334,11.766666666666666,13.1,11.766666666666666,10.433333333333332,9.1,8.5500000000000007,8,7.55,7.1,7.55,8,7.45,6.9,6.65,6.4,6.8000000000000007,7.2,6.2,5.2,4.55,3.9,2.9,1.9,0,0,0,0,0,0,0,{"$f":"BC2","v":0},{"$f":"BD2","v":0},{"$f":"BE2","v":0},{"$f":"BF2","v":0},{"$f":"BG2","v":0},{"$f":"BH2","v":0},{"$f":"BI2","v":0},{"$f":"BJ2","v":0},{"$f":"BK2","v":0},{"$f":"BL2","v":0},{"$f":"BM2","v":0},{"$f":"BN2","v":0},{"$f":"BO2","v":0},{"$f":"BP2","v":0},{"$f":"BQ2","v":0},{"$f":"BR2","v":0},{"$f":"BS2","v":0},{"$f":"BT2","v":0},{"$f":"BU2","v":0},{"$f":"BV2","v":0},{"$f":"BW2","v":0},{"$f":"BX2","v":0},{"$f":"BY2","v":0},{"$f":"BZ2","v":0},{"$f":"CA2","v":0},{"$f":"CB2","v":0},{"$f":"CC2","v":0},{"$f":"CD2","v":0},{"$f":"CE2","v":0},{"$f":"CF2","v":0},{"$f":"CG2","v":0}]
[null,null,0,73,null,null,null,null,null,null,null,null,null,null,null,null,null,null,null,null,null,null,null,null,null,null,null,null,null,null,null,null,null,null,null,null,null,null,null,null,null,null,null,null,null,null,null,null,null,null,null,null,null,null,null,null,null,null,null,null,null,null,null,null,null,null,null,null,null,null,null,null,null,null,null,null,{"$f":"E2","v":1.9},2.9,3.9,4.55,5.2,6.2,7.2,6.8000000000000007,6.4,6.65,6.9,7.45,8,7.55,7.1,7.55,8,8.5500000000000007,9.1,10.433333333333334,11.766666666666666,13.1,11.766666666666666,10.433333333333332,9.1,8.5500000000000007,8,7.55,7.1,7.55,8,7.45,6.9,6.65,6.4,6.8000000000000007,7.2,6.2,5.2,4.55,3.9,2.9,1.9,0,0,0,0,0,0,0,{"$f":"BC2","v":0},{"$f":"BD2","v":0},{"$f":"BE2","v":0},{"$f":"BF2","v":0},{"$f":"BG2","v":0},{"$f":"BH2","v":0},{"$f":"BI2","v":0},{"$f":"BJ2","v":0},{"$f":"BK2","v":0},{"$f":"BL2","v":0},{"$f":"BM2","v":0},{"$f":"BN2","v":0},{"$f":"BO2","v":0},{"$f":"BP2","v":0},{"$f":"BQ2","v":0},{"$f":"BR2","v":0},{"$f":"BS2","v":0},{"$f":"BT2","v":0},{"$f":"BU2","v":0},{"$f":"BV2","v":0},{"$f":"BW2","v":0},{"$f":"BX2","v":0},{"$f":"BY2","v":0},{"$f":"BZ2","v":0},{"$f":"CA2","v":0},{"$f":"CB2","v":0},{"$f":"CC2","v":0},{"$f":"CD2","v":0},{"$f":"CE2","v":0},{"$f":"CF2","v":0},{"$f":"CG2","v":0}]
[null,null,-1,74,null,null,null,null,null,null,null,null,null,null,null,null,null,null,null,null,null,null,null,null,null,null,null,null,null,null,null,null,null,null,null,null,null,null,null,null,null,null,null,null,null,null,null,null,null,null,null,null,null,null,null,null,null,null,null,null,null,null,null,null,null,null,null,null,null,null,null,null,null,null,null,null,null,{"$f":"E2","v":1.9},2.9,3.9,4.55,5.2,6.2,7.2,6.8000000000000007,6.4,6.65,6.9,7.45,8,7.55,7.1,7.55,8,8.5500000000000007,9.1,10.433333333333334,11.766666666666666,13.1,11.766666666666666,10.433333333333332,9.1,8.5500000000000007,8,7.55,7.1,7.55,8,7.45,6.9,6.65,6.4,6.8000000000000007,7.2,6.2,5.2,4.55,3.9,2.9,1.9,0,0,0,0,0,0,0,{"$f":"BC2","v":0},{"$f":"BD2","v":0},{"$f":"BE2","v":0},{"$f":"BF2","v":0},{"$f":"BG2","v":0},{"$f":"BH2","v":0},{"$f":"BI2","v":0},{"$f":"BJ2","v":0},{"$f":"BK2","v":0},{"$f":"BL2","v":0},{"$f":"BM2","v":0},{"$f":"BN2","v":0},{"$f":"BO2","v":0},{"$f":"BP2","v":0},{"$f":"BQ2","v":0},{"$f":"BR2","v":0},{"$f":"BS2","v":0},{"$f":"BT2","v":0},{"$f":"BU2","v":0},{"$f":"BV2","v":0},{"$f":"BW2","v":0},{"$f":"BX2","v":0},{"$f":"BY2","v":0},{"$f":"BZ2","v":0},{"$f":"CA2","v":0},{"$f":"CB2","v":0},{"$f":"CC2","v":0},{"$f":"CD2","v":0},{"$f":"CE2","v":0},{"$f":"CF2","v":0},{"$f":"CG2","v":0}]
[null,null,1,75,null,null,null,null,null,null,null,null,null,null,null,null,null,null,null,null,null,null,null,null,null,null,null,null,null,null,null,null,null,null,null,null,null,null,null,null,null,null,null,null,null,null,null,null,null,null,null,null,null,null,null,null,null,null,null,null,null,null,null,null,null,null,null,null,null,null,null,null,null,null,null,null,null,null,{"$f":"E2","v":1.9},2.9,3.9,4.55,5.2,6.2,7.2,6.8000000000000007,6.4,6.65,6.9,7.45,8,7.55,7.1,7.55,8,8.5500000000000007,9.1,10.433333333333334,11.766666666666666,13.1,11.766666666666666,10.433333333333332,9.1,8.5500000000000007,8,7.55,7.1,7.55,8,7.45,6.9,6.65,6.4,6.8000000000000007,7.2,6.2,5.2,4.55,3.9,2.9,1.9,0,0,0,0,0,0,0,{"$f":"BC2","v":0},{"$f":"BD2","v":0},{"$f":"BE2","v":0},{"$f":"BF2","v":0},{"$f":"BG2","v":0},{"$f":"BH2","v":0},{"$f":"BI2","v":0},{"$f":"BJ2","v":0},{"$f":"BK2","v":0},{"$f":"BL2","v":0},{"$f":"BM2","v":0},{"$f":"BN2","v":0},{"$f":"BO2","v":0},{"$f":"BP2","v":0},{"$f":"BQ2","v":0},{"$f":"BR2","v":0},{"$f":"BS2","v":0},{"$f":"BT2","v":0},{"$f":"BU2","v":0},{"$f":"BV2","v":0},{"$f":"BW2","v":0},{"$f":"BX2","v":0},{"$f":"BY2","v":0},{"$f":"BZ2","v":0},{"$f":"CA2","v":0},{"$f":"CB2","v":0},{"$f":"CC2","v":0},{"$f":"CD2","v":0},{"$f":"CE2","v":0},{"$f":"CF2","v":0},{"$f":"CG2","v":0}]
[null,null,0,76,null,null,null,null,null,null,null,null,null,null,null,null,null,null,null,null,null,null,null,null,null,null,null,null,null,null,null,null,null,null,null,null,null,null,null,null,null,null,null,null,null,null,null,null,null,null,null,null,null,null,null,null,null,null,null,null,null,null,null,null,null,null,null,null,null,null,null,null,null,null,null,null,null,null,null,{"$f":"E2","v":1.9},{"$f":"F2","v":2.9},3.9,4.55,5.2,6.2,7.2,6.8000000000000007,6.4,6.65,6.9,7.45,8,7.55,7.1,7.55,8,8.5500000000000007,9.1,10.433333333333334,11.766666666666666,13.1,11.766666666666666,10.433333333333332,9.1,8.5500000000000007,8,7.55,7.1,7.55,8,7.45,6.9,6.65,6.4,6.8000000000000007,7.2,6.2,5.2,4.55,3.9,2.9,1.9,0,0,0,0,0,0,0,0,0,0,0,0,0,0,0,0,0,0,0,0,0,0,{"$f":"BR2","v":0},0,0,0,0,0,0,0,0,0,0,0,0,0,0,0]
[null,null,-1,77,null,null,null,null,null,null,null,null,null,null,null,null,null,null,null,null,null,null,null,null,null,null,null,null,null,null,null,null,null,null,null,null,null,null,null,null,null,null,null,null,null,null,null,null,null,null,null,null,null,null,null,null,null,null,null,null,null,null,null,null,null,null,null,null,null,null,null,null,null,null,null,null,null,null,null,null,{"$f":"E2","v":1.9},{"$f":"F2","v":2.9},3.9,4.55,5.2,6.2,7.2,6.8000000000000007,6.4,6.65,6.9,7.45,8,7.55,7.1,7.55,8,8.5500000000000007,9.1,10.433333333333334,11.766666666666666,13.1,11.766666666666666,10.433333333333332,9.1,8.5500000000000007,8,7.55,7.1,7.55,8,7.45,6.9,6.65,6.4,6.8000000000000007,7.2,6.2,5.2,4.55,3.9,2.9,1.9,0,0,0,0,0,0,0,0,0,0,0,0,0,0,0,0,0,0,0,0,0,0,{"$f":"BR2","v":0},0,0,0,0,0,0,0,0,0,0,0,0,0,0,0]
[null,null,1,78,null,null,null,null,null,null,null,null,null,null,null,null,null,null,null,null,null,null,null,null,null,null,null,null,null,null,null,null,null,null,null,null,null,null,null,null,null,null,null,null,null,null,null,null,null,null,null,null,null,null,null,null,null,null,null,null,null,null,null,null,null,null,null,null,null,null,null,null,null,null,null,null,null,null,null,null,null,{"$f":"E2","v":1.9},{"$f":"F2","v":2.9},3.9,4.55,5.2,6.2,7.2,6.8000000000000007,6.4,6.65,6.9,7.45,8,7.55,7.1,7.55,8,8.5500000000000007,9.1,10.433333333333334,11.766666666666666,13.1,11.766666666666666,10.433333333333332,9.1,8.5500000000000007,8,7.55,7.1,7.55,8,7.45,6.9,6.65,6.4,6.8000000000000007,7.2,6.2,5.2,4.55,3.9,2.9,1.9,0,0,0,0,0,0,0,0,0,0,0,0,0,0,0,0,0,0,0,0,0,0,{"$f":"BR2","v":0},0,0,0,0,0,0,0,0,0,0,0,0,0,0,0]
[null,null,0,79,null,null,null,null,null,null,null,null,null,null,null,null,null,null,null,null,null,null,null,null,null,null,null,null,null,null,null,null,null,null,null,null,null,null,null,null,null,null,null,null,null,null,null,null,null,null,null,null,null,null,null,null,null,null,null,null,null,null,null,null,null,null,null,null,null,null,null,null,null,null,null,null,null,null,null,null,null,null,{"$f":"E2","v":1.9},{"$f":"F2","v":2.9},3.9,4.55,5.2,6.2,7.2,6.8000000000000007,6.4,6.65,6.9,7.45,8,7.55,7.1,7.55,8,8.5500000000000007,9.1,10.433333333333334,11.766666666666666,13.1,11.766666666666666,10.433333333333332,9.1,8.5500000000000007,8,7.55,7.1,7.55,8,7.45,6.9,6.65,6.4,6.8000000000000007,7.2,6.2,5.2,4.55,3.9,2.9,1.9,0,0,0,0,0,0,0,0,0,0,0,0,0,0,0,0,0,0,0,0,0,0,{"$f":"BR2","v":0},0,0,0,0,0,0,0,0,0,0,0,0,0,0,0]
[null,null,-1,80,null,null,null,null,null,null,null,null,null,null,null,null,null,null,null,null,null,null,null,null,null,null,null,null,null,null,null,null,null,null,null,null,null,null,null,null,null,null,null,null,null,null,null,null,null,null,null,null,null,null,null,null,null,null,null,null,null,null,null,null,null,null,null,null,null,null,null,null,null,null,null,null,null,null,null,null,null,null,null,{"$f":"E2","v":1.9},{"$f":"F2","v":2.9},3.9,4.55,5.2,6.2,7.2,6.8000000000000007,6.4,6.65,6.9,7.45,8,7.55,7.1,7.55,8,8.5500000000000007,9.1,10.433333333333334,11.766666666666666,13.1,11.766666666666666,10.433333333333332,9.1,8.5500000000000007,8,7.55,7.1,7.55,8,7.45,6.9,6.65,6.4,6.8000000000000007,7.2,6.2,5.2,4.55,3.9,2.9,1.9,0,0,0,0,0,0,0,0,0,0,0,0,0,0,0,0,0,0,0,0,0,0,{"$f":"BR2","v":0},0,0,0,0,0,0,0,0,0,0,0,0,0,0,0]
[null,null,1,81,null,null,null,null,null,null,null,null,null,null,null,null,null,null,null,null,null,null,null,null,null,null,null,null,null,null,null,null,null,null,null,null,null,null,null,null,null,null,null,null,null,null,null,null,null,null,null,null,null,null,null,null,null,null,null,null,null,null,null,null,null,null,null,null,null,null,null,null,null,null,null,null,null,null,null,null,null,null,null,null,{"$f":"E2","v":1.9},{"$f":"F2","v":2.9},3.9,4.55,5.2,6.2,7.2,6.8000000000000007,6.4,6.65,6.9,7.45,8,7.55,7.1,7.55,8,8.5500000000000007,9.1,10.433333333333334,11.766666666666666,13.1,11.766666666666666,10.433333333333332,9.1,8.5500000000000007,8,7.55,7.1,7.55,8,7.45,6.9,6.65,6.4,6.8000000000000007,7.2,6.2,5.2,4.55,3.9,2.9,1.9,0,0,0,0,0,0,0,0,0,0,0,0,0,0,0,0,0,0,0,0,0,0,{"$f":"BR2","v":0},0,0,0,0,0,0,0,0,0,0,0,0,0,0,0]
[null,null,0,82,null,null,null,null,null,null,null,null,null,null,null,null,null,null,null,null,null,null,null,null,null,null,null,null,null,null,null,null,null,null,null,null,null,null,null,null,null,null,null,null,null,null,null,null,null,null,null,null,null,null,null,null,null,null,null,null,null,null,null,null,null,null,null,null,null,null,null,null,null,null,null,null,null,null,null,null,null,null,null,null,null,{"$f":"E2","v":1.9},{"$f":"F2","v":2.9},3.9,4.55,5.2,6.2,7.2,6.8000000000000007,6.4,6.65,6.9,7.45,8,7.55,7.1,7.55,8,8.5500000000000007,9.1,10.433333333333334,11.766666666666666,13.1,11.766666666666666,10.433333333333332,9.1,8.5500000000000007,8,7.55,7.1,7.55,8,7.45,6.9,6.65,6.4,6.8000000000000007,7.2,6.2,5.2,4.55,3.9,2.9,1.9,0,0,0,0,0,0,0,0,0,0,0,0,0,0,0,0,0,0,0,0,0,0,{"$f":"BR2","v":0},0,0,0,0,0,0,0,0,0,0,0,0,0,0,0]
[null,null,-1,83,null,null,null,null,null,null,null,null,null,null,null,null,null,null,null,null,null,null,null,null,null,null,null,null,null,null,null,null,null,null,null,null,null,null,null,null,null,null,null,null,null,null,null,null,null,null,null,null,null,null,null,null,null,null,null,null,null,null,null,null,null,null,null,null,null,null,null,null,null,null,null,null,null,null,null,null,null,null,null,null,null,null,{"$f":"E2","v":1.9},{"$f":"F2","v":2.9},3.9,4.55,5.2,6.2,7.2,6.8000000000000007,6.4,6.65,6.9,7.45,8,7.55,7.1,7.55,8,8.5500000000000007,9.1,10.433333333333334,11.766666666666666,13.1,11.766666666666666,10.433333333333332,9.1,8.5500000000000007,8,7.55,7.1,7.55,8,7.45,6.9,6.65,6.4,6.8000000000000007,7.2,6.2,5.2,4.55,3.9,2.9,1.9,0,0,0,0,0,0,0,0,0,0,0,0,0,0,0,0,0,0,0,0,0,0,{"$f":"BR2","v":0},0,0,0,0,0,0,0,0,0,0,0,0,0,0,0]
[null,null,1,84,null,null,null,null,null,null,null,null,null,null,null,null,null,null,null,null,null,null,null,null,null,null,null,null,null,null,null,null,null,null,null,null,null,null,null,null,null,null,null,null,null,null,null,null,null,null,null,null,null,null,null,null,null,null,null,null,null,null,null,null,null,null,null,null,null,null,null,null,null,null,null,null,null,null,null,null,null,null,null,null,null,null,null,{"$f":"E2","v":1.9},{"$f":"F2","v":2.9},3.9,4.55,5.2,6.2,7.2,6.8000000000000007,6.4,6.65,6.9,7.45,8,7.55,7.1,7.55,8,8.5500000000000007,9.1,10.433333333333334,11.766666666666666,13.1,11.766666666666666,10.433333333333332,9.1,8.5500000000000007,8,7.55,7.1,7.55,8,7.45,6.9,6.65,6.4,6.8000000000000007,7.2,6.2,5.2,4.55,3.9,2.9,1.9,0,0,0,0,0,0,0,0,0,0,0,0,0,0,0,0,0,0,0,0,0,0,{"$f":"BR2","v":0},0,0,0,0,0,0,0,0,0,0,0,0,0,0,0]
[null,null,0,85,null,null,null,null,null,null,null,null,null,null,null,null,null,null,null,null,null,null,null,null,null,null,null,null,null,null,null,null,null,null,null,null,null,null,null,null,null,null,null,null,null,null,null,null,null,null,null,null,null,null,null,null,null,null,null,null,null,null,null,null,null,null,null,null,null,null,null,null,null,null,null,null,null,null,null,null,null,null,null,null,null,null,null,null,{"$f":"E2","v":1.9},{"$f":"F2","v":2.9},3.9,4.55,5.2,6.2,7.2,6.8000000000000007,6.4,6.65,6.9,7.45,8,7.55,7.1,7.55,8,8.5500000000000007,9.1,10.433333333333334,11.766666666666666,13.1,11.766666666666666,10.433333333333332,9.1,8.5500000000000007,8,7.55,7.1,7.55,8,7.45,6.9,6.65,6.4,6.8000000000000007,7.2,6.2,5.2,4.55,3.9,2.9,1.9,0,0,0,0,0,0,0,0,0,0,0,0,0,0,0,0,0,0,0,0,0,0,{"$f":"BR2","v":0},0,0,0,0,0,0,0,0,0,0,0,0,0,0,0]
[null,null,-1,86,null,null,null,null,null,null,null,null,null,null,null,null,null,null,null,null,null,null,null,null,null,null,null,null,null,null,null,null,null,null,null,null,null,null,null,null,null,null,null,null,null,null,null,null,null,null,null,null,null,null,null,null,null,null,null,null,null,null,null,null,null,null,null,null,null,null,null,null,null,null,null,null,null,null,null,null,null,null,null,null,null,null,null,null,null,{"$f":"E2","v":1.9},{"$f":"F2","v":2.9},3.9,4.55,5.2,6.2,7.2,6.8000000000000007,6.4,6.65,6.9,7.45,8,7.55,7.1,7.55,8,8.5500000000000007,9.1,10.433333333333334,11.766666666666666,13.1,11.766666666666666,10.433333333333332,9.1,8.5500000000000007,8,7.55,7.1,7.55,8,7.45,6.9,6.65,6.4,6.8000000000000007,7.2,6.2,5.2,4.55,3.9,2.9,1.9,0,0,0,0,0,0,0,0,0,0,0,0,0,0,0,0,0,0,0,0,0,0,{"$f":"BR2","v":0},0,0,0,0,0,0,0,0,0,0,0,0,0,0,0]
[null,null,1,87,null,null,null,null,null,null,null,null,null,null,null,null,null,null,null,null,null,null,null,null,null,null,null,null,null,null,null,null,null,null,null,null,null,null,null,null,null,null,null,null,null,null,null,null,null,null,null,null,null,null,null,null,null,null,null,null,null,null,null,null,null,null,null,null,null,null,null,null,null,null,null,null,null,null,null,null,null,null,null,null,null,null,null,null,null,null,{"$f":"E2","v":1.9},{"$f":"F2","v":2.9},3.9,4.55,5.2,6.2,7.2,6.8000000000000007,6.4,6.65,6.9,7.45,8,7.55,7.1,7.55,8,8.5500000000000007,9.1,10.433333333333334,11.766666666666666,13.1,11.766666666666666,10.433333333333332,9.1,8.5500000000000007,8,7.55,7.1,7.55,8,7.45,6.9,6.65,6.4,6.8000000000000007,7.2,6.2,5.2,4.55,3.9,2.9,1.9,0,0,0,0,0,0,0,0,0,0,0,0,0,0,0,0,0,0,0,0,0,0,{"$f":"BR2","v":0},0,0,0,0,0,0,0,0,0,0,0,0,0,0,0]
[null,null,0,88,null,null,null,null,null,null,null,null,null,null,null,null,null,null,null,null,null,null,null,null,null,null,null,null,null,null,null,null,null,null,null,null,null,null,null,null,null,null,null,null,null,null,null,null,null,null,null,null,null,null,null,null,null,null,null,null,null,null,null,null,null,null,null,null,null,null,null,null,null,null,null,null,null,null,null,null,null,null,null,null,null,null,null,null,null,null,null,{"$f":"E2","v":1.9},{"$f":"F2","v":2.9},3.9,4.55,5.2,6.2,7.2,6.8000000000000007,6.4,6.65,6.9,7.45,8,7.55,7.1,7.55,8,8.5500000000000007,9.1,10.433333333333334,11.766666666666666,13.1,11.766666666666666,10.433333333333332,9.1,8.5500000000000007,8,7.55,7.1,7.55,8,7.45,6.9,6.65,6.4,6.8000000000000007,7.2,6.2,5.2,4.55,3.9,2.9,1.9,0,0,0,0,0,0,0,0,0,0,0,0,0,0,0,0,0,0,0,0,0,0,{"$f":"BR2","v":0},0,0,0,0,0,0,0,0,0,0,0,0,0,0,0]
[null,null,-1,89,null,null,null,null,null,null,null,null,null,null,null,null,null,null,null,null,null,null,null,null,null,null,null,null,null,null,null,null,null,null,null,null,null,null,null,null,null,null,null,null,null,null,null,null,null,null,null,null,null,null,null,null,null,null,null,null,null,null,null,null,null,null,null,null,null,null,null,null,null,null,null,null,null,null,null,null,null,null,null,null,null,null,null,null,null,null,null,null,{"$f":"E2","v":1.9},{"$f":"F2","v":2.9},3.9,4.55,5.2,6.2,7.2,6.8000000000000007,6.4,6.65,6.9,7.45,8,7.55,7.1,7.55,8,8.5500000000000007,9.1,10.433333333333334,11.766666666666666,13.1,11.766666666666666,10.433333333333332,9.1,8.5500000000000007,8,7.55,7.1,7.55,8,7.45,6.9,6.65,6.4,6.8000000000000007,7.2,6.2,5.2,4.55,3.9,2.9,1.9,0,0,0,0,0,0,0,0,0,0,0,0,0,0,0,0,0,0,0,0,0,0,{"$f":"BR2","v":0},0,0,0,0,0,0,0,0,0,0,0,0,0,0,0]
[null,null,1,90,null,null,null,null,null,null,null,null,null,null,null,null,null,null,null,null,null,null,null,null,null,null,null,null,null,null,null,null,null,null,null,null,null,null,null,null,null,null,null,null,null,null,null,null,null,null,null,null,null,null,null,null,null,null,null,null,null,null,null,null,null,null,null,null,null,null,null,null,null,null,null,null,null,null,null,null,null,null,null,null,null,null,null,null,null,null,null,null,null,{"$f":"E2","v":1.9},{"$f":"F2","v":2.9},3.9,4.55,5.2,6.2,7.2,6.8000000000000007,6.4,6.65,6.9,7.45,8,7.55,7.1,7.55,8,8.5500000000000007,9.1,10.433333333333334,11.766666666666666,13.1,11.766666666666666,10.433333333333332,9.1,8.5500000000000007,8,7.55,7.1,7.55,8,7.45,6.9,6.65,6.4,6.8000000000000007,7.2,6.2,5.2,4.55,3.9,2.9,1.9,0,0,0,0,0,0,0,0,0,0,0,0,0,0,0,0,0,0,0,0,0,0,{"$f":"BR2","v":0},0,0,0,0,0,0,0,0,0,0,0,0,0,0,0]
[null,null,0,91,null,null,null,null,null,null,null,null,null,null,null,null,null,null,null,null,null,null,null,null,null,null,null,null,null,null,null,null,null,null,null,null,null,null,null,null,null,null,null,null,null,null,null,null,null,null,null,null,null,null,null,null,null,null,null,null,null,null,null,null,null,null,null,null,null,null,null,null,null,null,null,null,null,null,null,null,null,null,null,null,null,null,null,null,null,null,null,null,null,null,{"$f":"E2","v":1.9},{"$f":"F2","v":2.9},3.9,4.55,5.2,6.2,7.2,6.8000000000000007,6.4,6.65,6.9,7.45,8,7.55,7.1,7.55,8,8.5500000000000007,9.1,10.433333333333334,11.766666666666666,13.1,11.766666666666666,10.433333333333332,9.1,8.5500000000000007,8,7.55,7.1,7.55,8,7.45,6.9,6.65,6.4,6.8000000000000007,7.2,6.2,5.2,4.55,3.9,2.9,1.9,0,0,0,0,0,0,0,0,0,0,0,0,0,0,0,0,0,0,0,0,0,0,{"$f":"BR2","v":0},0,0,0,0,0,0,0,0,0,0,0,0,0,0,0]
[null,null,-1,92,null,null,null,null,null,null,null,null,null,null,null,null,null,null,null,null,null,null,null,null,null,null,null,null,null,null,null,null,null,null,null,null,null,null,null,null,null,null,null,null,null,null,null,null,null,null,null,null,null,null,null,null,null,null,null,null,null,null,null,null,null,null,null,null,null,null,null,null,null,null,null,null,null,null,null,null,null,null,null,null,null,null,null,null,null,null,null,null,null,null,null,{"$f":"E2","v":1.9},{"$f":"F2","v":2.9},3.9,4.55,5.2,6.2,7.2,6.8000000000000007,6.4,6.65,6.9,7.45,8,7.55,7.1,7.55,8,8.5500000000000007,9.1,10.433333333333334,11.766666666666666,13.1,11.766666666666666,10.433333333333332,9.1,8.5500000000000007,8,7.55,7.1,7.55,8,7.45,6.9,6.65,6.4,6.8000000000000007,7.2,6.2,5.2,4.55,3.9,2.9,1.9,0,0,0,0,0,0,0,0,0,0,0,0,0,0,0,0,0,0,0,0,0,0,{"$f":"BR2","v":0},0,0,0,0,0,0,0,0,0,0,0,0,0,0,0]
[null,null,1,93,null,null,null,null,null,null,null,null,null,null,null,null,null,null,null,null,null,null,null,null,null,null,null,null,null,null,null,null,null,null,null,null,null,null,null,null,null,null,null,null,null,null,null,null,null,null,null,null,null,null,null,null,null,null,null,null,null,null,null,null,null,null,null,null,null,null,null,null,null,null,null,null,null,null,null,null,null,null,null,null,null,null,null,null,null,null,null,null,null,null,null,null,{"$f":"E2","v":1.9},{"$f":"F2","v":2.9},3.9,4.55,5.2,6.2,7.2,6.8000000000000007,6.4,6.65,6.9,7.45,8,7.55,7.1,7.55,8,8.5500000000000007,9.1,10.433333333333334,11.766666666666666,13.1,11.766666666666666,10.433333333333332,9.1,8.5500000000000007,8,7.55,7.1,7.55,8,7.45,6.9,6.65,6.4,6.8000000000000007,7.2,6.2,5.2,4.55,3.9,2.9,1.9,0,0,0,0,0,0,0,0,0,0,0,0,0,0,0,0,0,0,0,0,0,0,{"$f":"BR2","v":0},0,0,0,0,0,0,0,0,0,0,0,0,0,0,0]
[null,null,0,94,null,null,null,null,null,null,null,null,null,null,null,null,null,null,null,null,null,null,null,null,null,null,null,null,null,null,null,null,null,null,null,null,null,null,null,null,null,null,null,null,null,null,null,null,null,null,null,null,null,null,null,null,null,null,null,null,null,null,null,null,null,null,null,null,null,null,null,null,null,null,null,null,null,null,null,null,null,null,null,null,null,null,null,null,null,null,null,null,null,null,null,null,null,{"$f":"E2","v":1.9},{"$f":"F2","v":2.9},3.9,4.55,5.2,6.2,7.2,6.8000000000000007,6.4,6.65,6.9,7.45,8,7.55,7.1,7.55,8,8.5500000000000007,9.1,10.433333333333334,11.766666666666666,13.1,11.766666666666666,10.433333333333332,9.1,8.5500000000000007,8,7.55,7.1,7.55,8,7.45,6.9,6.65,6.4,6.8000000000000007,7.2,6.2,5.2,4.55,3.9,2.9,1.9,0,0,0,0,0,0,0,0,0,0,0,0,0,0,0,0,0,0,0,0,0,0,{"$f":"BR2","v":0},0,0,0,0,0,0,0,0,0,0,0,0,0,0,0]
[null,null,-1,95,null,null,null,null,null,null,null,null,null,null,null,null,null,null,null,null,null,null,null,null,null,null,null,null,null,null,null,null,null,null,null,null,null,null,null,null,null,null,null,null,null,null,null,null,null,null,null,null,null,null,null,null,null,null,null,null,null,null,null,null,null,null,null,null,null,null,null,null,null,null,null,null,null,null,null,null,null,null,null,null,null,null,null,null,null,null,null,null,null,null,null,null,null,null,{"$f":"E2","v":1.9},{"$f":"F2","v":2.9},3.9,4.55,5.2,6.2,7.2,6.8000000000000007,6.4,6.65,6.9,7.45,8,7.55,7.1,7.55,8,8.5500000000000007,9.1,10.433333333333334,11.766666666666666,13.1,11.766666666666666,10.433333333333332,9.1,8.5500000000000007,8,7.55,7.1,7.55,8,7.45,6.9,6.65,6.4,6.8000000000000007,7.2,6.2,5.2,4.55,3.9,2.9,1.9,0,0,0,0,0,0,0,0,0,0,0,0,0,0,0,0,0,0,0,0,0,0,{"$f":"BR2","v":0},0,0,0,0,0,0,0,0,0,0,0,0,0,0,0]
[null,null,1,96,null,null,null,null,null,null,null,null,null,null,null,null,null,null,null,null,null,null,null,null,null,null,null,null,null,null,null,null,null,null,null,null,null,null,null,null,null,null,null,null,null,null,null,null,null,null,null,null,null,null,null,null,null,null,null,null,null,null,null,null,null,null,null,null,null,null,null,null,null,null,null,null,null,null,null,null,null,null,null,null,null,null,null,null,null,null,null,null,null,null,null,null,null,null,null,{"$f":"E2","v":1.9},{"$f":"F2","v":2.9},3.9,4.55,5.2,6.2,7.2,6.8000000000000007,6.4,6.65,6.9,7.45,8,7.55,7.1,7.55,8,8.5500000000000007,9.1,10.433333333333334,11.766666666666666,13.1,11.766666666666666,10.433333333333332,9.1,8.5500000000000007,8,7.55,7.1,7.55,8,7.45,6.9,6.65,6.4,6.8000000000000007,7.2,6.2,5.2,4.55,3.9,2.9,1.9,0,0,0,0,0,0,0,0,0,0,0,0,0,0,0,0,0,0,0,0,0,0,{"$f":"BR2","v":0},0,0,0,0,0,0,0,0,0,0,0,0,0,0,0]
[null,null,{"$f":"1-MOD(D103,$B$106)","v":0},97,null,null,null,null,null,null,null,null,null,null,null,null,null,null,null,null,null,null,null,null,null,null,null,null,null,null,null,null,null,null,null,null,null,null,null,null,null,null,null,null,null,null,null,null,null,null,null,null,null,null,null,null,null,null,null,null,null,null,null,null,null,null,null,null,null,null,null,null,null,null,null,null,null,null,null,null,null,null,null,null,null,null,null,null,null,null,null,null,null,null,null,null,null,null,null,null,{"$f":"E2","v":1.9},{"$f":"F2","v":2.9},3.9,4.55,5.2,6.2,7.2,6.8000000000000007,6.4,6.65,6.9,7.45,8,7.55,7.1,7.55,8,8.5500000000000007,9.1,10.433333333333334,11.766666666666666,13.1,11.766666666666666,10.433333333333332,9.1,8.5500000000000007,8,7.55,7.1,7.55,8,7.45,6.9,6.65,6.4,6.8000000000000007,7.2,6.2,5.2,4.55,3.9,2.9,1.9,0,0,0,0,0,0,0,0,0,0,0,0,0,0,0,0,0,0,0,0,0,0,{"$f":"BR2","v":0},0,0,0,0,0,0,0,0,0,0,0,0,0,0,0]
[null,null,-1,98,null,null,null,null,null,null,null,null,null,null,null,null,null,null,null,null,null,null,null,null,null,null,null,null,null,null,null,null,null,null,null,null,null,null,null,null,null,null,null,null,null,null,null,null,null,null,null,null,null,null,null,null,null,null,null,null,null,null,null,null,null,null,null,null,null,null,null,null,null,null,null,null,null,null,null,null,null,null,null,null,null,null,null,null,null,null,null,null,null,null,null,null,null,null,null,null,null,{"$f":"E2","v":1.9},{"$f":"F2","v":2.9},3.9,4.55,5.2,6.2,7.2,6.8000000000000007,6.4,6.65,6.9,7.45,8,7.55,7.1,7.55,8,8.5500000000000007,9.1,10.433333333333334,11.766666666666666,13.1,11.766666666666666,10.433333333333332,9.1,8.5500000000000007,8,7.55,7.1,7.55,8,7.45,6.9,6.65,6.4,6.8000000000000007,7.2,6.2,5.2,4.55,3.9,2.9,1.9,0,0,0,0,0,0,0,0,0,0,0,0,0,0,0,0,0,0,0,0,0,0,{"$f":"BR2","v":0},0,0,0,0,0,0,0,0,0,0,0,0,0,0,0]
[null,null,1,99,null,null,null,null,null,null,null,null,null,null,null,null,null,null,null,null,null,null,null,null,null,null,null,null,null,null,null,null,null,null,null,null,null,null,null,null,null,null,null,null,null,null,null,null,null,null,null,null,null,null,null,null,null,null,null,null,null,null,null,null,null,null,null,null,null,null,null,null,null,null,null,null,null,null,null,null,null,null,null,null,null,null,null,null,null,null,null,null,null,null,null,null,null,null,null,null,null,null,{"$f":"E2","v":1.9},{"$f":"F2","v":2.9},3.9,4.55,5.2,6.2,7.2,6.8000000000000007,6.4,6.65,6.9,7.45,8,7.55,7.1,7.55,8,8.5500000000000007,9.1,10.433333333333334,11.766666666666666,13.1,11.766666666666666,10.433333333333332,9.1,8.5500000000000007,8,7.55,7.1,7.55,8,7.45,6.9,6.65,6.4,6.8000000000000007,7.2,6.2,5.2,4.55,3.9,2.9,1.9,0,0,0,0,0,0,0,0,0,0,0,0,0,0,0,0,0,0,0,0,0,0,{"$f":"BR2","v":0},0,0,0,0,0,0,0,0,0,0,0,0,0,0,0]
[null,3,0,100,null,null,null,null,null,null,null,null,null,null,null,null,null,null,null,null,null,null,null,null,null,null,null,null,null,null,null,null,null,null,null,null,null,null,null,null,null,null,null,null,null,null,null,null,null,null,null,null,null,null,null,null,null,null,null,null,null,null,null,null,null,null,null,null,null,null,null,null,null,null,null,null,null,null,null,null,null,null,null,null,null,null,null,null,null,null,null,null,null,null,null,null,null,null,null,null,null,null,null,{"$f":"E2","v":1.9},{"$f":"F2","v":2.9},3.9,4.55,5.2,6.2,7.2,6.8000000000000007,6.4,6.65,6.9,7.45,8,7.55,7.1,7.55,8,8.5500000000000007,9.1,10.433333333333334,11.766666666666666,13.1,11.766666666666666,10.433333333333332,9.1,8.5500000000000007,8,7.55,7.1,7.55,8,7.45,6.9,6.65,6.4,6.8000000000000007,7.2,6.2,5.2,4.55,3.9,2.9,1.9,0,0,0,0,0,0,0,0,0,0,0,0,0,0,0,0,0,0,0,0,0,0,{"$f":"BR2","v":0},0,0,0,0,0,0,0,0,0,0,0,0,0,0,0]
[]
[null,"racetrack"]
["Bout","cv","average"]
[1,{"$f":"IF($D110<=$B$6,STDEV(OFFSET(D110,0,2*$B$11-D110+$B$12):OFFSET(D110,0,2*$B$11-1+$B$12))/C110,\"\")","v":{"$error":"#DIV/0!"}},{"$f":"IF($D110<=$B$6,AVERAGE(OFFSET(D110,0,2*$B$11-D110+$B$12):OFFSET(D110,0,2*$B$11-1+$B$12)),\"\")","v":301.2999999999999},{"$f":"D7","v":1},{"$f":"SUM(E7:E106)","v":1.9},{"$f":"SUM(F7:F106)","v":4.8},8.6999999999999993,13.25,18.45,24.649999999999995,31.849999999999998,38.65,45.05,51.699999999999996,58.6,66.050000000000011,74.050000000000026,81.600000000000023,88.700000000000017,96.250000000000014,104.25000000000003,112.80000000000003,121.90000000000003,132.33333333333337,144.10000000000005,157.20000000000002,168.96666666666667,179.4,188.5,197.05,205.05,212.60000000000002,219.70000000000002,227.25000000000003,235.25000000000003,242.70000000000005,249.60000000000002,256.25,262.64999999999998,269.45,276.64999999999998,282.84999999999997,288.0499999999999,292.59999999999991,296.49999999999989,299.39999999999992,301.2999999999999,301.2999999999999,301.2999999999999,301.2999999999999,301.2999999999999,301.2999999999999,301.2999999999999,301.2999999999999,301.2999999999999,301.2999999999999,301.2999999999999,301.2999999999999,301.2999999999999,301.2999999999999,301.2999999999999,301.2999999999999,301.2999999999999,301.2999999999999,301.2999999999999,301.2999999999999,301.2999999999999,301.2999999999999,301.2999999999999,{"$f":"SUM(BR7:BR106)","v":301.2999999999999},301.2999999999999,301.2999999999999,301.2999999999999,301.2999999999999,301.2999999999999,301.2999999999999,301.2999999999999,301.2999999999999,301.2999999999999,301.2999999999999,301.2999999999999,301.2999999999999,301.2999999999999,301.2999999999999,301.2999999999999]
[2,{"$f":"IF($D111<=$B$6,STDEV(OFFSET(D111,0,2*$B$11-D111+$B$12):OFFSET(D111,0,2*$B$11-1+$B$12))/C111,\"\")","v":2.6597666290896394E-3},{"$f":"IF($D111<=$B$6,AVERAGE(OFFSET(D111,0,2*$B$11-D111+$B$12):OFFSET(D111,0,2*$B$11-1+$B$12)),\"\")","v":150.64999999999998},2,{"$f":"E7+E9+E11+E13+E15+E17+E19+E21+E23+E25+E27+E29+E31+E33+E35+E37+E39+E41+E43+E45+E47+E49+E51+E53+E55+E57+E59+E61+E63+E65+E67+E69+E71+E73+E75+E77+E79+E81+E83+E85+E87+E89+E91+E93+E95+E97+E99+E101+E103+E105","v":1.9},{"$f":"F7+F9+F11+F13+F15+F17+F19+F21+F23+F25+F27+F29+F31+F33+F35+F37+F39+F41+F43+F45+F47+F49+F51+F53+F55+F57+F59+F61+F63+F65+F67+F69+F71+F73+F75+F77+F79+F81+F83+F85+F87+F89+F91+F93+F95+F97+F99+F101+F103+F105","v":2.9},5.8,7.4499999999999993,11,13.65,18.2,20.45,24.599999999999998,27.1,31.499999999999996,34.550000000000004,39.5,42.099999999999994,46.6,49.65,54.6,58.199999999999996,63.7,68.63333333333334,75.466666666666683,81.733333333333334,87.233333333333348,92.166666666666671,96.333333333333371,100.71666666666667,104.33333333333336,108.26666666666667,111.43333333333337,115.81666666666666,119.43333333333335,123.26666666666667,126.33333333333336,129.91666666666666,132.73333333333335,136.71666666666667,139.93333333333334,142.91666666666669,145.13333333333333,147.46666666666667,149.0333333333333,150.36666666666667,150.93333333333331,150.36666666666667,150.93333333333331,150.36666666666667,150.93333333333331,150.36666666666667,150.93333333333331,150.36666666666667,150.93333333333331,150.36666666666667,150.93333333333331,150.36666666666667,150.93333333333331,150.36666666666667,150.93333333333331,150.36666666666667,150.93333333333331,150.36666666666667,150.93333333333331,150.36666666666667,150.93333333333331,150.36666666666667,150.93333333333331,{"$f":"BR7+BR9+BR11+BR13+BR15+BR17+BR19+BR21+BR23+BR25+BR27+BR29+BR31+BR33+BR35+BR37+BR39+BR41+BR43+BR45+BR47+BR49+BR51+BR53+BR55+BR57+BR59+BR61+BR63+BR65+BR67+BR69+BR71+BR73+BR75+BR77+BR79+BR81+BR83+BR85+BR87+BR89+BR91+BR93+BR95+BR97+BR99+BR101+BR103+BR105","v":150.36666666666667},150.93333333333331,150.36666666666667,150.93333333333331,150.36666666666667,150.93333333333331,150.36666666666667,150.93333333333331,150.36666666666667,150.93333333333331,150.36666666666667,150.93333333333331,150.36666666666667,150.93333333333331,150.36666666666667,150.93333333333331,150.36666666666667]
[3,{"$f":"IF($D112<=$B$6,STDEV(OFFSET(D112,0,2*$B$11-D112+$B$12):OFFSET(D112,0,2*$B$11-1+$B$12))/C112,\"\")","v":2.2132079685164844E-2},{"$f":"IF($D112<=$B$6,AVERAGE(OFFSET(D112,0,2*$B$11-D112+$B$12):OFFSET(D112,0,2*$B$11-1+$B$12)),\"\")","v":100.43333333333334},3,{"$f":"E7+E10+E13+E16+E19+E22+E25+E28+E31+E34+E37+E40+E43+E46+E49+E52+E55+E58+E61+E64+E67+E70+E73+E76+E79+E82+E85+E88+E91+E94+E97+E100+E103+E106","v":1.9},{"$f":"F7+F10+F13+F16+F19+F22+F25+F28+F31+F34+F37+F40+F43+F46+F49+F52+F55+F58+F61+F64+F67+F70+F73+F76+F79+F82+F85+F88+F91+F94+F97+F100+F103+F106","v":2.9},3.9,6.4499999999999993,8.1,10.1,13.65,14.9,16.5,20.3,21.8,23.95,28.3,29.349999999999998,31.05,35.85,37.35,39.6,44.949999999999996,47.783333333333339,51.366666666666667,58.05,59.550000000000004,61.8,67.150000000000006,68.100000000000009,69.800000000000011,74.7,75.2,77.350000000000009,82.7,82.65,84.250000000000014,89.350000000000009,89.050000000000011,91.050000000000011,96.550000000000011,95.250000000000014,96.250000000000014,101.10000000000001,99.15,99.15,103,99.15,99.15,103,99.15,99.15,103,99.15,99.15,103,99.15,99.15,103,99.15,99.15,103,99.15,99.15,103,99.15,99.15,103,99.15,{"$f":"BR7+BR10+BR13+BR16+BR19+BR22+BR25+BR28+BR31+BR34+BR37+BR40+BR43+BR46+BR49+BR52+BR55+BR58+BR61+BR64+BR67+BR70+BR73+BR76+BR79+BR82+BR85+BR88+BR91+BR94+BR97+BR100+BR103+BR106","v":99.15},103,99.15,99.15,103,99.15,99.15,103,99.15,99.15,103,99.15,99.15,103,99.15,99.15,103,99.15]
[4,{"$f":"IF($D113<=$B$6,STDEV(OFFSET(D113,0,2*$B$11-D113+$B$12):OFFSET(D113,0,2*$B$11-1+$B$12))/C113,\"\")","v":1.7658151302337759E-2},{"$f":"IF($D113<=$B$6,AVERAGE(OFFSET(D113,0,2*$B$11-D113+$B$12):OFFSET(D113,0,2*$B$11-1+$B$12)),\"\")","v":75.325000000000017},4,{"$f":"E7+E11+E15+E19+E23+E27+E31+E35+E39+E43+E47+E83+E87+E91+E95+E99+E103+E51+E55+E59+E63+E67+E71+E75+E79","v":1.9},{"$f":"F7+F11+F15+F19+F23+F27+F31+F35+F39+F43+F47+F83+F87+F91+F95+F99+F103+F51+F55+F59+F63+F67+F71+F75+F79","v":2.9},3.9,4.55,7.1,9.1,11.1,11.350000000000001,13.500000000000002,15.750000000000002,18,18.8,21.5,23.299999999999997,25.099999999999998,26.35,29.499999999999996,31.849999999999998,34.200000000000003,36.783333333333331,41.266666666666666,44.95,45.966666666666669,47.216666666666669,50.366666666666667,53.5,53.966666666666669,54.766666666666666,57.466666666666669,61.05,61.966666666666669,62.216666666666654,64.366666666666674,67.7,68.366666666666674,69.016666666666666,71.566666666666677,73.90000000000002,73.566666666666677,73.566666666666663,75.466666666666683,76.800000000000011,75.466666666666683,73.566666666666663,75.466666666666683,76.800000000000011,75.466666666666683,73.566666666666663,75.466666666666683,76.800000000000011,75.466666666666683,73.566666666666663,75.466666666666683,76.800000000000011,75.466666666666683,73.566666666666663,75.466666666666683,76.800000000000011,75.466666666666683,73.566666666666663,75.466666666666683,76.800000000000011,75.466666666666683,73.566666666666663,75.466666666666683,{"$f":"BR7+BR11+BR15+BR19+BR23+BR27+BR31+BR35+BR39+BR43+BR47+BR83+BR87+BR91+BR95+BR99+BR103+BR51+BR55+BR59+BR63+BR67+BR71+BR75+BR79","v":76.800000000000011},75.466666666666683,73.566666666666663,75.466666666666683,76.800000000000011,75.466666666666683,73.566666666666663,75.466666666666683,76.800000000000011,75.466666666666683,73.566666666666663,75.466666666666669,76.800000000000011,75.466666666666669,73.566666666666663,75.466666666666669,76.800000000000011,75.466666666666669,73.566666666666663]
[5,{"$f":"IF($D114<=$B$6,STDEV(OFFSET(D114,0,2*$B$11-D114+$B$12):OFFSET(D114,0,2*$B$11-1+$B$12))/C114,\"\")","v":5.2746429154412681E-2},{"$f":"IF($D114<=$B$6,AVERAGE(OFFSET(D114,0,2*$B$11-D114+$B$12):OFFSET(D114,0,2*$B$11-1+$B$12)),\"\")","v":60.260000000000005},5,{"$f":"E7+E12+E17+E22+E27+E32+E37+E42+E47+E52+E57+E62+E67+E72+E77+E82+E87+E92+E97+E102","v":1.9},{"$f":"F7+F12+F17+F22+F27+F32+F37+F42+F47+F52+F57+F62+F67+F72+F77+F82+F87+F92+F97+F102","v":2.9},3.9,4.55,5.2,8.1,10.1,10.700000000000001,10.95,11.850000000000001,15.000000000000002,17.55,18.7,18.5,18.95,22.549999999999997,25.549999999999997,27.25,27.599999999999998,29.383333333333329,34.31666666666667,38.65,39.016666666666666,38.033333333333331,38.483333333333334,42.866666666666667,46.650000000000006,46.56666666666667,45.133333333333326,46.033333333333331,50.866666666666667,54.1,53.466666666666661,51.783333333333324,52.433333333333337,57.666666666666664,61.300000000000004,59.666666666666664,56.983333333333327,56.983333333333334,61.566666666666663,64.2,61.566666666666656,56.983333333333327,56.983333333333334,61.566666666666663,64.2,61.566666666666656,56.983333333333327,56.983333333333334,61.566666666666663,64.2,61.566666666666656,56.983333333333327,56.983333333333334,61.566666666666663,64.2,61.566666666666656,56.983333333333327,56.983333333333334,61.566666666666663,64.2,61.566666666666656,56.983333333333327,56.983333333333334,{"$f":"BR7+BR12+BR17+BR22+BR27+BR32+BR37+BR42+BR47+BR52+BR57+BR62+BR67+BR72+BR77+BR82+BR87+BR92+BR97+BR102","v":61.566666666666663},64.2,61.566666666666656,56.983333333333327,56.983333333333334,61.566666666666663,64.2,61.566666666666656,56.983333333333327,56.983333333333334,61.566666666666663,64.2,61.566666666666656,56.983333333333327,56.983333333333334,61.566666666666663,64.2,61.566666666666656,56.983333333333327,56.983333333333334]
[6,{"$f":"IF($D115<=$B$6,STDEV(OFFSET(D115,0,2*$B$11-D115+$B$12):OFFSET(D115,0,2*$B$11-1+$B$12))/C115,\"\")","v":2.3462895957168921E-2},{"$f":"IF($D115<=$B$6,AVERAGE(OFFSET(D115,0,2*$B$11-D115+$B$12):OFFSET(D115,0,2*$B$11-1+$B$12)),\"\")","v":50.216666666666661},6,{"$f":"E7+E13+E19+E25+E31+E37+E43+E49+E55+E61+E67+E73+E79+E85+E91+E97+E103","v":1.9},{"$f":"F7+F13+F19+F25+F31+F37+F43+F49+F55+F61+F67+F73+F79+F85+F91+F97+F103","v":2.9},3.9,4.55,5.2,6.2,9.1,9.7000000000000011,10.3,11.2,12.100000000000001,13.65,17.099999999999998,17.25,17.399999999999999,18.75,20.100000000000001,22.2,26.2,27.683333333333334,29.166666666666664,31.849999999999998,31.866666666666664,32.633333333333333,35.299999999999997,36.233333333333334,37.166666666666664,39.4,38.966666666666669,40.183333333333337,43.300000000000004,43.68333333333333,44.066666666666663,46.04999999999999,45.366666666666667,46.983333333333334,50.5,49.883333333333333,49.266666666666666,50.599999999999994,49.266666666666666,49.88333333333334,52.400000000000006,49.883333333333333,49.266666666666666,50.599999999999994,49.266666666666666,49.88333333333334,52.400000000000006,49.883333333333333,49.266666666666666,50.599999999999994,49.266666666666666,49.88333333333334,52.400000000000006,49.883333333333333,49.266666666666666,50.599999999999994,49.266666666666666,49.88333333333334,52.400000000000006,49.883333333333333,49.266666666666666,50.599999999999994,49.266666666666666,{"$f":"BR7+BR13+BR19+BR25+BR31+BR37+BR43+BR49+BR55+BR61+BR67+BR73+BR79+BR85+BR91+BR97+BR103","v":49.88333333333334},52.400000000000006,49.883333333333333,49.266666666666666,50.599999999999994,49.266666666666666,49.88333333333334,52.400000000000006,49.883333333333333,49.266666666666666,50.599999999999994,49.266666666666666,49.88333333333334,52.400000000000006,49.883333333333333,49.266666666666666,50.599999999999994,49.266666666666666,49.88333333333334,52.400000000000006,49.883333333333333]
[7,{"$f":"IF($D116<=$B$6,STDEV(OFFSET(D116,0,2*$B$11-D116+$B$12):OFFSET(D116,0,2*$B$11-1+$B$12))/C116,\"\")","v":2.3878558273195349E-2},{"$f":"IF($D116<=$B$6,AVERAGE(OFFSET(D116,0,2*$B$11-D116+$B$12):OFFSET(D116,0,2*$B$11-1+$B$12)),\"\")","v":43.042857142857137},7,{"$f":"E7+E14+E21+E28+E35+E42+E49+E56+E63+E70+E77+E84+E91+E98+E105","v":1.9},{"$f":"F7+F14+F21+F28+F35+F42+F49+F56+F63+F70+F77+F84+F91+F98+F105","v":2.9},3.9,4.55,5.2,6.2,7.2,8.7000000000000011,9.3000000000000007,10.55,11.45,12.65,14.2,14.75,15.8,16.849999999999998,18.55,20,21.75,24.633333333333333,26.516666666666666,28.9,28.616666666666667,28.983333333333327,29.099999999999998,30.299999999999997,32.633333333333333,34.06666666666667,35.999999999999993,36.166666666666664,36.983333333333327,36.549999999999997,37.200000000000003,39.283333333333339,40.466666666666669,42.800000000000004,43.36666666666666,43.18333333333333,41.75,41.750000000000007,43.183333333333337,43.366666666666667,44.699999999999996,43.36666666666666,43.18333333333333,41.75,41.750000000000007,43.183333333333337,43.366666666666667,44.699999999999996,43.36666666666666,43.18333333333333,41.75,41.750000000000007,43.183333333333337,43.366666666666667,44.699999999999996,43.36666666666666,43.18333333333333,41.75,41.750000000000007,43.183333333333337,43.366666666666667,44.699999999999996,43.36666666666666,{"$f":"BR7+BR14+BR21+BR28+BR35+BR42+BR49+BR56+BR63+BR70+BR77+BR84+BR91+BR98+BR105","v":43.18333333333333},41.75,41.750000000000007,43.183333333333337,43.366666666666667,44.699999999999996,43.36666666666666,43.18333333333333,41.75,41.750000000000007,43.183333333333337,43.366666666666667,44.699999999999996,43.36666666666666,43.18333333333333,41.75,41.750000000000007,43.183333333333337,43.366666666666667,44.699999999999996,43.36666666666666,43.18333333333333]
[8,{"$f":"IF($D117<=$B$6,STDEV(OFFSET(D117,0,2*$B$11-D117+$B$12):OFFSET(D117,0,2*$B$11-1+$B$12))/C117,\"\")","v":4.6790056528213241E-2},{"$f":"IF($D117<=$B$6,AVERAGE(OFFSET(D117,0,2*$B$11-D117+$B$12):OFFSET(D117,0,2*$B$11-1+$B$12)),\"\")","v":37.662500000000001},8,{"$f":"E7+E15+E23+E31+E39+E47+E55+E63+E71+E79+E87+E95+E103","v":1.9},{"$f":"F7+F15+F23+F31+F39+F47+F55+F63+F71+F79+F87+F95+F103","v":2.9},3.9,4.55,5.2,6.2,7.2,6.8000000000000007,8.3000000000000007,9.5500000000000007,10.8,12,13.2,13.75,14.3,14.350000000000001,16.3,18.100000000000001,19.899999999999999,22.433333333333334,24.966666666666665,26.849999999999998,26.066666666666666,24.783333333333331,25.4,26.65,27.9,29.983333333333334,32.06666666666667,34.4,34.06666666666667,32.233333333333334,32.299999999999997,33.299999999999997,34.299999999999997,36.783333333333331,39.266666666666666,40.6,39.266666666666666,36.783333333333331,36.199999999999996,36.200000000000003,36.199999999999996,36.783333333333331,39.266666666666666,40.6,39.266666666666666,36.783333333333331,36.199999999999996,36.200000000000003,36.199999999999996,36.783333333333331,39.266666666666666,40.6,39.266666666666666,36.783333333333331,36.199999999999996,36.200000000000003,36.199999999999996,36.783333333333331,39.266666666666666,40.6,39.266666666666666,36.783333333333331,36.199999999999996,{"$f":"BR7+BR15+BR23+BR31+BR39+BR47+BR55+BR63+BR71+BR79+BR87+BR95+BR103","v":36.200000000000003},36.199999999999996,36.783333333333331,39.266666666666666,40.6,39.266666666666666,36.783333333333331,36.199999999999996,36.200000000000003,36.199999999999996,36.783333333333331,39.266666666666666,40.6,39.266666666666666,36.783333333333331,36.199999999999996,36.200000000000003,36.199999999999996,36.783333333333331,39.266666666666666,40.6,39.266666666666666,36.783333333333331]
[9,{"$f":"IF($D118<=$B$6,STDEV(OFFSET(D118,0,2*$B$11-D118+$B$12):OFFSET(D118,0,2*$B$11-1+$B$12))/C118,\"\")","v":8.4377725760316158E-2},{"$f":"IF($D118<=$B$6,AVERAGE(OFFSET(D118,0,2*$B$11-D118+$B$12):OFFSET(D118,0,2*$B$11-1+$B$12)),\"\")","v":33.477777777777781},9,{"$f":"E7+E16+E25+E34+E43+E52+E61+E70+E79+E88+E97+E106","v":1.9},{"$f":"F7+F16+F25+F34+F43+F52+F61+F70+F79+F88+F97+F106","v":2.9},3.9,4.55,5.2,6.2,7.2,6.8000000000000007,6.4,8.5500000000000007,9.8000000000000007,11.35,12.55,12.75,13.3,14.75,14.8,14.950000000000001,17.649999999999999,20.233333333333334,23.116666666666664,25.650000000000002,24.516666666666666,23.733333333333331,23.849999999999998,23.35,22.950000000000003,25.199999999999996,27.333333333333329,30.666666666666664,33.65,31.966666666666665,30.633333333333329,30.5,29.750000000000004,29.75,32.4,33.533333333333331,35.866666666666667,38.199999999999996,35.866666666666667,33.533333333333339,32.4,29.750000000000004,29.75,32.4,33.533333333333331,35.866666666666667,38.199999999999996,35.866666666666667,33.533333333333339,32.4,29.750000000000004,29.75,32.4,33.533333333333331,35.866666666666667,38.199999999999996,35.866666666666667,33.533333333333339,32.4,29.750000000000004,29.75,32.4,33.533333333333331,{"$f":"BR7+BR16+BR25+BR34+BR43+BR52+BR61+BR70+BR79+BR88+BR97+BR106","v":35.866666666666667},38.199999999999996,35.866666666666667,33.533333333333339,32.4,29.750000000000004,29.75,32.4,33.533333333333331,35.866666666666667,38.199999999999996,35.866666666666667,33.533333333333339,32.4,29.750000000000004,29.75,32.4,33.533333333333331,35.866666666666667,38.199999999999996,35.866666666666667,33.533333333333339,32.4,29.750000000000004]
[10,{"$f":"IF($D119<=$B$6,STDEV(OFFSET(D119,0,2*$B$11-D119+$B$12):OFFSET(D119,0,2*$B$11-1+$B$12))/C119,\"\")","v":6.9296241121695842E-2},{"$f":"IF($D119<=$B$6,AVERAGE(OFFSET(D119,0,2*$B$11-D119+$B$12):OFFSET(D119,0,2*$B$11-1+$B$12)),\"\")","v":30.129999999999995},10,{"$f":"E7+E17+E27+E37+E47+E57+E67+E77+E87+E97","v":1.9},{"$f":"F7+F17+F27+F37+F47+F57+F67+F77+F87+F97","v":2.9},3.9,4.55,5.2,6.2,7.2,6.8000000000000007,6.4,6.65,8.8000000000000007,10.35,11.9,12.1,12.3,13.75,15.2,15.350000000000001,15.5,17.083333333333336,20.566666666666663,23.45,23.666666666666664,22.533333333333331,21.4,22.3,23.2,22.900000000000002,22.6,24.633333333333333,28.566666666666663,30.9,30.566666666666663,29.183333333333334,27.8,29.1,30.4,29.1,27.799999999999997,29.18333333333333,32.466666666666661,33.799999999999997,32.466666666666669,29.183333333333334,27.8,29.1,30.4,29.1,27.799999999999997,29.18333333333333,32.466666666666661,33.799999999999997,32.466666666666669,29.183333333333334,27.8,29.1,30.4,29.1,27.799999999999997,29.18333333333333,32.466666666666661,33.799999999999997,32.466666666666669,29.183333333333334,27.8,{"$f":"BR7+BR17+BR27+BR37+BR47+BR57+BR67+BR77+BR87+BR97","v":29.1},30.4,29.1,27.799999999999997,29.18333333333333,32.466666666666661,33.799999999999997,32.466666666666669,29.183333333333334,27.8,29.1,30.4,29.1,27.799999999999997,29.18333333333333,32.466666666666661,33.799999999999997,32.466666666666669,29.183333333333334,27.8,29.1,30.4,29.1,27.799999999999997,29.18333333333333]
[11,{"$f":"IF($D120<=$B$6,STDEV(OFFSET(D120,0,2*$B$11-D120+$B$12):OFFSET(D120,0,2*$B$11-1+$B$12))/C120,\"\")","v":1.2381709675148086E-2},{"$f":"IF($D120<=$B$6,AVERAGE(OFFSET(D120,0,2*$B$11-D120+$B$12):OFFSET(D120,0,2*$B$11-1+$B$12)),\"\")","v":27.390909090909087},11,{"$f":"E7+E18+E29+E40+E51+E62+E73+E84+E95+E106","v":1.9},{"$f":"F7+F18+F29+F40+F51+F62+F73+F84+F95+F106","v":2.9},3.9,4.55,5.2,6.2,7.2,6.8000000000000007,6.4,6.65,6.9,9.35,10.9,11.45,11.649999999999999,12.75,14.2,15.75,15.9,16.833333333333336,18.416666666666664,20,21.116666666666664,21.333333333333329,20.549999999999997,20.2,20.75,21.75,22.85,23.45,24.833333333333336,25.866666666666667,26.9,27.766666666666662,27.733333333333331,27.349999999999998,27.400000000000002,26.95,26.95,27.4,27.349999999999998,27.733333333333334,27.766666666666666,26.9,27.766666666666662,27.733333333333331,27.349999999999998,27.400000000000002,26.95,26.95,27.4,27.349999999999998,27.733333333333334,27.766666666666666,26.9,27.766666666666662,27.733333333333331,27.349999999999998,27.400000000000002,26.95,26.95,27.4,27.349999999999998,27.733333333333334,27.766666666666666,{"$f":"BR7+BR18+BR29+BR40+BR51+BR62+BR73+BR84+BR95+BR106","v":26.9},27.766666666666662,27.733333333333331,27.349999999999998,27.400000000000002,26.95,26.95,27.4,27.349999999999998,27.733333333333334,27.766666666666666,26.9,27.766666666666662,27.733333333333331,27.349999999999998,27.400000000000002,26.95,26.95,27.4,27.349999999999998,27.733333333333334,27.766666666666666,26.9,27.766666666666662,27.733333333333331,27.349999999999998]
[12,{"$f":"IF($D121<=$B$6,STDEV(OFFSET(D121,0,2*$B$11-D121+$B$12):OFFSET(D121,0,2*$B$11-1+$B$12))/C121,\"\")","v":3.1563208570776623E-2},{"$f":"IF($D121<=$B$6,AVERAGE(OFFSET(D121,0,2*$B$11-D121+$B$12):OFFSET(D121,0,2*$B$11-1+$B$12)),\"\")","v":25.108333333333331},12,{"$f":"E7+E19+E31+E43+E55+E67+E79+E91+E103","v":1.9},{"$f":"F7+F19+F31+F43+F55+F67+F79+F91+F103","v":2.9},3.9,4.55,5.2,6.2,7.2,6.8000000000000007,6.4,6.65,6.9,7.45,9.9,10.45,11,12.1,13.2,14.75,16.3,17.233333333333334,18.166666666666664,19.75,18.666666666666664,17.883333333333333,19,19,19,19.649999999999999,20.3,22.3,24.3,24.683333333333334,25.066666666666663,26.4,25.066666666666663,24.683333333333334,26.2,25.2,24.199999999999996,24.2,24.2,25.2,26.2,24.683333333333334,25.066666666666663,26.4,25.066666666666663,24.683333333333334,26.2,25.2,24.199999999999996,24.2,24.2,25.2,26.2,24.683333333333334,25.066666666666663,26.4,25.066666666666663,24.683333333333334,26.2,25.2,24.199999999999996,24.2,24.2,{"$f":"BR7+BR19+BR31+BR43+BR55+BR67+BR79+BR91+BR103","v":25.2},26.2,24.683333333333334,25.066666666666663,26.4,25.066666666666663,24.683333333333334,26.2,25.2,24.199999999999996,24.2,24.2,25.2,26.2,24.683333333333334,25.066666666666663,26.4,25.066666666666663,24.683333333333334,26.2,25.2,24.199999999999996,24.2,24.2,25.2,26.2,24.683333333333334]
[13,{"$f":"IF($D122<=$B$6,STDEV(OFFSET(D122,0,2*$B$11-D122+$B$12):OFFSET(D122,0,2*$B$11-1+$B$12))/C122,\"\")","v":7.1101581714048831E-2},{"$f":"IF($D122<=$B$6,AVERAGE(OFFSET(D122,0,2*$B$11-D122+$B$12):OFFSET(D122,0,2*$B$11-1+$B$12)),\"\")","v":23.176923076923078},13,{"$f":"E7+E20+E33+E46+E59+E72+E85+E98","v":1.9},{"$f":"F7+F20+F33+F46+F59+F72+F85+F98","v":2.9},3.9,4.55,5.2,6.2,7.2,6.8000000000000007,6.4,6.65,6.9,7.45,8,9.4499999999999993,10,11.45,12.55,13.75,15.3,17.633333333333333,18.566666666666666,19.5,18.416666666666664,17.333333333333332,16.55,16.55,17.45,17.549999999999997,18.549999999999997,20.100000000000001,21.75,22.75,24.533333333333335,25.216666666666665,25.9,25.216666666666669,24.533333333333331,22.75,21.75,22,21.449999999999996,21.45,22,21.75,22.75,24.533333333333335,25.216666666666665,25.9,25.216666666666669,24.533333333333331,22.75,21.75,22,21.449999999999996,21.45,22,21.75,22.75,24.533333333333335,25.216666666666665,25.9,25.216666666666669,24.533333333333331,22.75,21.75,{"$f":"BR7+BR20+BR33+BR46+BR59+BR72+BR85+BR98","v":22},21.449999999999996,21.45,22,21.75,22.75,24.533333333333335,25.216666666666665,25.9,25.216666666666669,24.533333333333331,22.75,21.75,22,21.449999999999996,21.45,22,21.75,22.75,24.533333333333335,25.216666666666665,25.9,25.216666666666669,24.533333333333331,22.75,21.75,22,21.449999999999996]
[14,{"$f":"IF($D123<=$B$6,STDEV(OFFSET(D123,0,2*$B$11-D123+$B$12):OFFSET(D123,0,2*$B$11-1+$B$12))/C123,\"\")","v":0.13340006763989706},{"$f":"IF($D123<=$B$6,AVERAGE(OFFSET(D123,0,2*$B$11-D123+$B$12):OFFSET(D123,0,2*$B$11-1+$B$12)),\"\")","v":21.521428571428572},14,{"$f":"E7+E21+E35+E49+E63+E77+E91+E105","v":1.9},{"$f":"F7+F21+F35+F49+F63+F77+F91+F105","v":2.9},3.9,4.55,5.2,6.2,7.2,6.8000000000000007,6.4,6.65,6.9,7.45,8,7.55,9,10.45,11.9,13.100000000000001,14.3,16.633333333333333,18.966666666666665,19.899999999999999,18.166666666666664,17.083333333333332,16,16,16,15.1,16.099999999999998,18,19.899999999999999,20.55,21.2,23.283333333333335,25.366666666666664,26.7,25.366666666666667,23.283333333333331,21.200000000000003,20.55,19.899999999999999,18,18,18,19.899999999999999,20.55,21.2,23.283333333333335,25.366666666666664,26.7,25.366666666666667,23.283333333333331,21.200000000000003,20.55,19.899999999999999,18,18,18,19.899999999999999,20.55,21.2,23.283333333333335,25.366666666666664,26.7,25.366666666666667,{"$f":"BR7+BR21+BR35+BR49+BR63+BR77+BR91+BR105","v":23.283333333333331},21.200000000000003,20.55,19.899999999999999,18,18,18,19.899999999999999,20.55,21.2,23.283333333333335,25.366666666666664,26.7,25.366666666666667,23.283333333333331,21.200000000000003,20.55,19.899999999999999,18,18,18,19.899999999999999,20.55,21.2,23.283333333333335,25.366666666666664,26.7,25.366666666666667,23.283333333333331]
[15,{"$f":"IF($D124<=$B$6,STDEV(OFFSET(D124,0,2*$B$11-D124+$B$12):OFFSET(D124,0,2*$B$11-1+$B$12))/C124,\"\")","v":0.18173861113410797},{"$f":"IF($D124<=$B$6,AVERAGE(OFFSET(D124,0,2*$B$11-D124+$B$12):OFFSET(D124,0,2*$B$11-1+$B$12)),\"\")","v":20.086666666666666},15,{"$f":"E7+E22+E37+E52+E67+E82+E97","v":1.9},{"$f":"F7+F22+F37+F52+F67+F82+F97","v":2.9},3.9,4.55,5.2,6.2,7.2,6.8000000000000007,6.4,6.65,6.9,7.45,8,7.55,7.1,9.4499999999999993,10.9,12.450000000000001,13.649999999999999,15.633333333333333,17.966666666666665,20.3,18.566666666666666,16.833333333333332,15.75,15.450000000000001,15.45,15.55,14.649999999999999,14.649999999999999,17.45,18.349999999999998,19.350000000000001,20.3,22.033333333333335,24.766666666666666,27.5,24.766666666666666,22.033333333333331,20.299999999999997,19.350000000000001,18.350000000000001,17.45,14.649999999999999,14.649999999999999,17.45,18.349999999999998,19.350000000000001,20.3,22.033333333333335,24.766666666666666,27.5,24.766666666666666,22.033333333333331,20.299999999999997,19.350000000000001,18.350000000000001,17.45,14.649999999999999,14.649999999999999,17.45,18.349999999999998,19.350000000000001,20.3,22.033333333333335,{"$f":"BR7+BR22+BR37+BR52+BR67+BR82+BR97","v":24.766666666666666},27.5,24.766666666666666,22.033333333333331,20.299999999999997,19.350000000000001,18.350000000000001,17.45,14.649999999999999,14.649999999999999,17.45,18.349999999999998,19.350000000000001,20.3,22.033333333333335,24.766666666666666,27.5,24.766666666666666,22.033333333333331,20.299999999999997,19.350000000000001,18.350000000000001,17.45,14.649999999999999,14.649999999999999,17.45,18.349999999999998,19.350000000000001,20.3,22.033333333333335]
[16,{"$f":"IF($D125<=$B$6,STDEV(OFFSET(D125,0,2*$B$11-D125+$B$12):OFFSET(D125,0,2*$B$11-1+$B$12))/C125,\"\")","v":0.1938702239639605},{"$f":"IF($D125<=$B$6,AVERAGE(OFFSET(D125,0,2*$B$11-D125+$B$12):OFFSET(D125,0,2*$B$11-1+$B$12)),\"\")","v":18.831250000000001},16,{"$f":"E7+E23+E39+E55+E71+E87+E103","v":1.9},{"$f":"F7+F23+F39+F55+F71+F87+F103","v":2.9},3.9,4.55,5.2,6.2,7.2,6.8000000000000007,6.4,6.65,6.9,7.45,8,7.55,7.1,7.55,9.9,11.450000000000001,13,14.983333333333334,16.966666666666665,19.3,18.966666666666665,17.233333333333334,15.5,15.200000000000001,14.9,15,15.1,15.1,15.1,15,16.8,18.100000000000001,19.399999999999999,21.783333333333335,24.166666666666664,25.5,24.166666666666664,21.783333333333331,19.399999999999999,18.100000000000001,16.8,15,15.1,15.1,15.1,15,16.8,18.100000000000001,19.399999999999999,21.783333333333335,24.166666666666664,25.5,24.166666666666664,21.783333333333331,19.399999999999999,18.100000000000001,16.8,15,15.1,15.1,15.1,15,16.8,{"$f":"BR7+BR23+BR39+BR55+BR71+BR87+BR103","v":18.100000000000001},19.399999999999999,21.783333333333335,24.166666666666664,25.5,24.166666666666664,21.783333333333331,19.399999999999999,18.100000000000001,16.8,15,15.1,15.1,15.1,15,16.8,18.100000000000001,19.399999999999999,21.783333333333335,24.166666666666664,25.5,24.166666666666664,21.783333333333331,19.399999999999999,18.100000000000001,16.8,15,15.1,15.1,15.1,15]
[17,{"$f":"IF($D126<=$B$6,STDEV(OFFSET(D126,0,2*$B$11-D126+$B$12):OFFSET(D126,0,2*$B$11-1+$B$12))/C126,\"\")","v":0.19034907577308829},{"$f":"IF($D126<=$B$6,AVERAGE(OFFSET(D126,0,2*$B$11-D126+$B$12):OFFSET(D126,0,2*$B$11-1+$B$12)),\"\")","v":17.723529411764705},17,{"$f":"E7+E24+E41+E58+E75+E92","v":1.9},{"$f":"F7+F24+F41+F58+F75+F92","v":2.9},3.9,4.55,5.2,6.2,7.2,6.8000000000000007,6.4,6.65,6.9,7.45,8,7.55,7.1,7.55,8,10.450000000000001,12,14.333333333333334,16.316666666666666,18.3,17.966666666666665,17.633333333333333,15.9,14.950000000000001,14.65,14.45,14.55,15.55,15.55,14.55,14.45,14.65,16.850000000000001,18.8,21.533333333333331,22.516666666666666,23.5,22.516666666666666,21.533333333333331,18.8,16.850000000000001,14.65,14.45,14.55,15.55,15.55,14.55,14.45,14.65,16.850000000000001,18.8,21.533333333333331,22.516666666666666,23.5,22.516666666666666,21.533333333333331,18.8,16.850000000000001,14.65,14.45,14.55,15.55,15.55,{"$f":"BR7+BR24+BR41+BR58+BR75+BR92","v":14.55},14.45,14.65,16.850000000000001,18.8,21.533333333333331,22.516666666666666,23.5,22.516666666666666,21.533333333333331,18.8,16.850000000000001,14.65,14.45,14.55,15.55,15.55,14.55,14.45,14.65,16.850000000000001,18.8,21.533333333333331,22.516666666666666,23.5,22.516666666666666,21.533333333333331,18.8,16.850000000000001,14.65,14.45,14.55]
[18,{"$f":"IF($D127<=$B$6,STDEV(OFFSET(D127,0,2*$B$11-D127+$B$12):OFFSET(D127,0,2*$B$11-1+$B$12))/C127,\"\")","v":0.16714679622495104},{"$f":"IF($D127<=$B$6,AVERAGE(OFFSET(D127,0,2*$B$11-D127+$B$12):OFFSET(D127,0,2*$B$11-1+$B$12)),\"\")","v":16.738888888888891},18,{"$f":"E7+E25+E43+E61+E79+E97","v":1.9},{"$f":"F7+F25+F43+F61+F79+F97","v":2.9},3.9,4.55,5.2,6.2,7.2,6.8000000000000007,6.4,6.65,6.9,7.45,8,7.55,7.1,7.55,8,8.5500000000000007,11,13.333333333333334,15.666666666666666,17.649999999999999,16.966666666666665,16.633333333333333,16.3,15.350000000000001,14.4,14.2,14,15,16,15,14,14.2,14.4,15.350000000000001,18.2,19.533333333333331,20.866666666666664,22.2,20.866666666666667,19.533333333333331,18.2,15.350000000000001,14.4,14.2,14,15,16,15,14,14.2,14.4,15.350000000000001,18.2,19.533333333333331,20.866666666666664,22.2,20.866666666666667,19.533333333333331,18.2,15.350000000000001,14.4,14.2,14,{"$f":"BR7+BR25+BR43+BR61+BR79+BR97","v":15},16,15,14,14.2,14.4,15.350000000000001,18.2,19.533333333333331,20.866666666666664,22.2,20.866666666666667,19.533333333333331,18.2,15.350000000000001,14.4,14.2,14,15,16,15,14,14.2,14.4,{"$f":"CP7+CP25+CP43+CP61+CP79+CP97","v":15.350000000000001},18.2,19.533333333333331,20.866666666666664,22.2,20.866666666666667,19.533333333333331,18.2,15.350000000000001]
[19,{"$f":"IF($D128<=$B$6,STDEV(OFFSET(D128,0,2*$B$11-D128+$B$12):OFFSET(D128,0,2*$B$11-1+$B$12))/C128,\"\")","v":0.1303812881785367},{"$f":"IF($D128<=$B$6,AVERAGE(OFFSET(D128,0,2*$B$11-D128+$B$12):OFFSET(D128,0,2*$B$11-1+$B$12)),\"\")","v":15.857894736842104},19,{"$f":"E7+E26+E45+E64+E83+E102","v":1.9},{"$f":"F7+F26+F45+F64+F83+F102","v":2.9},3.9,4.55,5.2,6.2,7.2,6.8000000000000007,6.4,6.65,6.9,7.45,8,7.55,7.1,7.55,8,8.5500000000000007,9.1,12.333333333333334,14.666666666666666,17,16.316666666666666,15.633333333333333,15.3,15.75,14.8,13.95,13.75,14.45,15.45,15.45,14.45,13.75,13.95,14.8,15.75,15.3,17.533333333333331,19.216666666666665,20.9,19.216666666666665,17.533333333333331,15.3,15.75,14.8,13.95,13.75,14.45,15.45,15.45,14.45,13.75,13.95,14.8,15.75,15.3,17.533333333333331,19.216666666666665,20.9,19.216666666666665,17.533333333333331,15.3,15.75,14.8,{"$f":"BR7+BR26+BR45+BR64+BR83+BR102","v":13.95},13.75,14.45,15.45,15.45,14.45,13.75,13.95,14.8,15.75,15.3,17.533333333333331,19.216666666666665,20.9,19.216666666666665,17.533333333333331,15.3,15.75,14.8,13.95,13.75,14.45,15.45,15.45,14.45,13.75,13.95,14.8,15.75,15.3,17.533333333333331,19.216666666666665,20.9,19.216666666666665]
[20,{"$f":"IF($D129<=$B$6,STDEV(OFFSET(D129,0,2*$B$11-D129+$B$12):OFFSET(D129,0,2*$B$11-1+$B$12))/C129,\"\")","v":9.1549888093172424E-2},{"$f":"IF($D129<=$B$6,AVERAGE(OFFSET(D129,0,2*$B$11-D129+$B$12):OFFSET(D129,0,2*$B$11-1+$B$12)),\"\")","v":15.064999999999998},20,{"$f":"E7+E27+E47+E67+E87","v":1.9},{"$f":"F7+F27+F47+F67+F87","v":2.9},3.9,4.55,5.2,6.2,7.2,6.8000000000000007,6.4,6.65,6.9,7.45,8,7.55,7.1,7.55,8,8.5500000000000007,9.1,10.433333333333334,13.666666666666666,16,15.666666666666666,14.983333333333331,14.3,14.75,15.2,14.350000000000001,13.5,14.2,14.9,14.9,14.9,14.2,13.5,14.350000000000001,15.2,14.75,14.3,14.983333333333334,17.566666666666666,18.899999999999999,17.566666666666666,14.983333333333331,14.3,14.75,15.2,14.350000000000001,13.5,14.2,14.9,14.9,14.9,14.2,13.5,14.350000000000001,15.2,14.75,14.3,14.983333333333334,17.566666666666666,18.899999999999999,17.566666666666666,14.983333333333331,14.3,{"$f":"BR7+BR27+BR47+BR67+BR87","v":14.75},15.2,14.350000000000001,13.5,14.2,14.9,14.9,14.9,14.2,13.5,14.350000000000001,15.2,14.75,14.3,14.983333333333334,17.566666666666666,18.899999999999999,17.566666666666666,14.983333333333331,14.3,14.75,15.2,14.350000000000001,13.5,14.2,14.9,14.9,14.9,14.2,13.5,14.350000000000001,15.2,14.75,14.3,14.983333333333334]
[21,{"$f":"IF($D130<=$B$6,STDEV(OFFSET(D130,0,2*$B$11-D130+$B$12):OFFSET(D130,0,2*$B$11-1+$B$12))/C130,\"\")","v":4.8472654667185401E-2},{"$f":"IF($D130<=$B$6,AVERAGE(OFFSET(D130,0,2*$B$11-D130+$B$12):OFFSET(D130,0,2*$B$11-1+$B$12)),\"\")","v":14.347619047619048},21,{"$f":"E7+E28+E49+E70+E91","v":1.9},{"$f":"F7+F28+F49+F70+F91","v":2.9},3.9,4.55,5.2,6.2,7.2,6.8000000000000007,6.4,6.65,6.9,7.45,8,7.55,7.1,7.55,8,8.5500000000000007,9.1,10.433333333333334,11.766666666666666,15,14.666666666666666,14.333333333333332,13.649999999999999,13.75,14.2,14.75,13.9,13.95,14.65,14.350000000000001,14.350000000000001,14.65,13.95,13.9,14.75,14.2,13.75,13.649999999999999,14.333333333333334,14.666666666666666,16.899999999999999,14.666666666666666,14.333333333333332,13.649999999999999,13.75,14.2,14.75,13.9,13.95,14.65,14.350000000000001,14.350000000000001,14.65,13.95,13.9,14.75,14.2,13.75,13.649999999999999,14.333333333333334,14.666666666666666,16.899999999999999,14.666666666666666,{"$f":"BR7+BR28+BR49+BR70+BR91","v":14.333333333333332},13.649999999999999,13.75,14.2,14.75,13.9,13.95,14.65,14.350000000000001,14.350000000000001,14.65,13.95,13.9,14.75,14.2,13.75,13.649999999999999,14.333333333333334,14.666666666666666,16.899999999999999,14.666666666666666,14.333333333333332,13.649999999999999,13.75,14.2,14.75,13.9,13.95,14.65,14.350000000000001,14.350000000000001,14.65,13.95,13.9,14.75,14.2]
[22,{"$f":"IF($D131<=$B$6,STDEV(OFFSET(D131,0,2*$B$11-D131+$B$12):OFFSET(D131,0,2*$B$11-1+$B$12))/C131,\"\")","v":3.8076491415707167E-2},{"$f":"IF($D131<=$B$6,AVERAGE(OFFSET(D131,0,2*$B$11-D131+$B$12):OFFSET(D131,0,2*$B$11-1+$B$12)),\"\")","v":13.695454545454545},22,{"$f":"E7+E29+E51+E73+E95","v":1.9},{"$f":"F7+F29+F51+F73+F95","v":2.9},3.9,4.55,5.2,6.2,7.2,6.8000000000000007,6.4,6.65,6.9,7.45,8,7.55,7.1,7.55,8,8.5500000000000007,9.1,10.433333333333334,11.766666666666666,13.1,13.666666666666666,13.333333333333332,13,13.100000000000001,13.2,13.75,14.3,14.350000000000001,14.4,14.100000000000001,13.8,14.100000000000001,14.4,14.350000000000001,14.3,13.75,13.2,13.100000000000001,13,13.333333333333334,13.666666666666666,13.1,13.666666666666666,13.333333333333332,13,13.100000000000001,13.2,13.75,14.3,14.350000000000001,14.4,14.100000000000001,13.8,14.100000000000001,14.4,14.350000000000001,14.3,13.75,13.2,13.100000000000001,13,13.333333333333334,13.666666666666666,{"$f":"BR7+BR29+BR51+BR73+BR95","v":13.1},13.666666666666666,13.333333333333332,13,13.100000000000001,13.2,13.75,14.3,14.350000000000001,14.4,14.100000000000001,13.8,14.100000000000001,14.4,14.350000000000001,14.3,13.75,13.2,13.100000000000001,13,13.333333333333334,13.666666666666666,13.1,13.666666666666666,13.333333333333332,13,13.100000000000001,13.2,13.75,14.3,14.350000000000001,14.4,14.100000000000001,13.8,14.100000000000001,14.4,14.350000000000001]
[23,{"$f":"IF($D132<=$B$6,STDEV(OFFSET(D132,0,2*$B$11-D132+$B$12):OFFSET(D132,0,2*$B$11-1+$B$12))/C132,\"\")","v":7.5780616047736046E-2},{"$f":"IF($D132<=$B$6,AVERAGE(OFFSET(D132,0,2*$B$11-D132+$B$12):OFFSET(D132,0,2*$B$11-1+$B$12)),\"\")","v":13.1},23,{"$f":"E7+E30+E53+E76+E99","v":1.9},{"$f":"F7+F30+F53+F76+F99","v":2.9},3.9,4.55,5.2,6.2,7.2,6.8000000000000007,6.4,6.65,6.9,7.45,8,7.55,7.1,7.55,8,8.5500000000000007,9.1,10.433333333333334,11.766666666666666,13.1,11.766666666666666,12.333333333333332,12,12.450000000000001,12.55,12.75,13.3,14.75,14.8,13.850000000000001,13.55,13.55,13.850000000000001,14.8,14.75,13.3,12.75,12.55,12.450000000000001,12,12.333333333333334,11.766666666666666,13.1,11.766666666666666,12.333333333333332,12,12.450000000000001,12.55,12.75,13.3,14.75,14.8,13.850000000000001,13.55,13.55,13.850000000000001,14.8,14.75,13.3,12.75,12.55,12.450000000000001,12,{"$f":"BR7+BR30+BR53+BR76+BR99","v":12.333333333333334},11.766666666666666,13.1,11.766666666666666,12.333333333333332,12,12.450000000000001,12.55,12.75,13.3,14.75,14.8,13.850000000000001,13.55,13.55,13.850000000000001,14.8,14.75,13.3,12.75,12.55,12.450000000000001,12,12.333333333333334,11.766666666666666,13.1,11.766666666666666,12.333333333333332,12,12.450000000000001,12.55,12.75,13.3,14.75,14.8,13.850000000000001,13.55,13.55]
[24,{"$f":"IF($D133<=$B$6,STDEV(OFFSET(D133,0,2*$B$11-D133+$B$12):OFFSET(D133,0,2*$B$11-1+$B$12))/C133,\"\")","v":0.10952285372644893},{"$f":"IF($D133<=$B$6,AVERAGE(OFFSET(D133,0,2*$B$11-D133+$B$12):OFFSET(D133,0,2*$B$11-1+$B$12)),\"\")","v":12.554166666666667},24,{"$f":"E7+E31+E55+E79+E103","v":1.9},{"$f":"F7+F31+F55+F79+F103","v":2.9},3.9,4.55,5.2,6.2,7.2,6.8000000000000007,6.4,6.65,6.9,7.45,8,7.55,7.1,7.55,8,8.5500000000000007,9.1,10.433333333333334,11.766666666666666,13.1,11.766666666666666,10.433333333333332,11,11.450000000000001,11.9,12.1,12.3,13.75,15.2,14.25,13.3,13.3,13.3,14.25,15.2,13.75,12.3,12.1,11.9,11.450000000000001,11,10.433333333333334,11.766666666666666,13.1,11.766666666666666,10.433333333333332,11,11.450000000000001,11.9,12.1,12.3,13.75,15.2,14.25,13.3,13.3,13.3,14.25,15.2,13.75,12.3,12.1,11.9,{"$f":"BR7+BR31+BR55+BR79+BR103","v":11.450000000000001},11,10.433333333333334,11.766666666666666,13.1,11.766666666666666,10.433333333333332,11,11.450000000000001,11.9,12.1,12.3,13.75,15.2,14.25,13.3,13.3,13.3,14.25,15.2,13.75,12.3,12.1,11.9,11.450000000000001,11,10.433333333333334,11.766666666666666,13.1,11.766666666666666,10.433333333333332,11,11.450000000000001,11.9,12.1,12.3,13.75,15.2,14.25]
[25,{"$f":"IF($D134<=$B$6,STDEV(OFFSET(D134,0,2*$B$11-D134+$B$12):OFFSET(D134,0,2*$B$11-1+$B$12))/C134,\"\")","v":0.13537931254819668},{"$f":"IF($D134<=$B$6,AVERAGE(OFFSET(D134,0,2*$B$11-D134+$B$12):OFFSET(D134,0,2*$B$11-1+$B$12)),\"\")","v":12.051999999999998},25,{"$f":"E7+E32+E57+E82","v":1.9},{"$f":"F7+F32+F57+F82","v":2.9},3.9,4.55,5.2,6.2,7.2,6.8000000000000007,6.4,6.65,6.9,7.45,8,7.55,7.1,7.55,8,8.5500000000000007,9.1,10.433333333333334,11.766666666666666,13.1,11.766666666666666,10.433333333333332,9.1,10.450000000000001,10.9,11.45,11.649999999999999,12.75,14.2,14.65,13.700000000000001,13.05,13.05,13.700000000000001,14.65,14.2,12.75,11.649999999999999,11.45,10.9,10.450000000000001,9.1,10.433333333333334,11.766666666666666,13.1,11.766666666666666,10.433333333333332,9.1,10.450000000000001,10.9,11.45,11.649999999999999,12.75,14.2,14.65,13.700000000000001,13.05,13.05,13.700000000000001,14.65,14.2,12.75,11.649999999999999,{"$f":"BR7+BR32+BR57+BR82","v":11.45},10.9,10.450000000000001,9.1,10.433333333333334,11.766666666666666,13.1,11.766666666666666,10.433333333333332,9.1,10.450000000000001,10.9,11.45,11.649999999999999,12.75,14.2,14.65,13.700000000000001,13.05,13.05,13.700000000000001,14.65,14.2,12.75,11.649999999999999,11.45,10.9,10.450000000000001,9.1,10.433333333333334,11.766666666666666,13.1,11.766666666666666,10.433333333333332,9.1,8.5500000000000007,8,7.55,7.1,7.55]
[26,{"$f":"IF($D135<=$B$6,STDEV(OFFSET(D135,0,2*$B$11-D135+$B$12):OFFSET(D135,0,2*$B$11-1+$B$12))/C135,\"\")","v":0.15444645624596329},{"$f":"IF($D135<=$B$6,AVERAGE(OFFSET(D135,0,2*$B$11-D135+$B$12):OFFSET(D135,0,2*$B$11-1+$B$12)),\"\")","v":11.588461538461537},26,{"$f":"E7+E33+E59+E85","v":1.9},{"$f":"F7+F33+F59+F85","v":2.9},3.9,4.55,5.2,6.2,7.2,6.8000000000000007,6.4,6.65,6.9,7.45,8,7.55,7.1,7.55,8,8.5500000000000007,9.1,10.433333333333334,11.766666666666666,13.1,11.766666666666666,10.433333333333332,9.1,8.5500000000000007,9.9,10.45,11,12.1,13.2,13.65,14.100000000000001,13.450000000000001,12.8,13.450000000000001,14.100000000000001,13.65,13.2,12.1,11,10.45,9.9,8.5500000000000007,9.1,10.433333333333334,11.766666666666666,13.1,11.766666666666666,10.433333333333332,9.1,8.5500000000000007,9.9,10.45,11,12.1,13.2,13.65,14.100000000000001,13.450000000000001,12.8,13.450000000000001,14.100000000000001,13.65,13.2,{"$f":"BR7+BR33+BR59+BR85","v":12.1},11,10.45,9.9,8.5500000000000007,9.1,10.433333333333334,11.766666666666666,13.1,11.766666666666666,10.433333333333332,9.1,8.5500000000000007,9.9,10.45,11,12.1,13.2,13.65,14.100000000000001,13.450000000000001,12.8,13.450000000000001,14.100000000000001,13.65,13.2,12.1,11,10.45,9.9,8.5500000000000007,9.1,10.433333333333334,11.766666666666666,13.1,11.766666666666666,10.433333333333332,9.1,8.5500000000000007,8,7.55]
[27,{"$f":"IF($D136<=$B$6,STDEV(OFFSET(D136,0,2*$B$11-D136+$B$12):OFFSET(D136,0,2*$B$11-1+$B$12))/C136,\"\")","v":0.17126868063474709},{"$f":"IF($D136<=$B$6,AVERAGE(OFFSET(D136,0,2*$B$11-D136+$B$12):OFFSET(D136,0,2*$B$11-1+$B$12)),\"\")","v":11.159259259259258},27,{"$f":"E7+E34+E61+E88","v":1.9},{"$f":"F7+F34+F61+F88","v":2.9},3.9,4.55,5.2,6.2,7.2,6.8000000000000007,6.4,6.65,6.9,7.45,8,7.55,7.1,7.55,8,8.5500000000000007,9.1,10.433333333333334,11.766666666666666,13.1,11.766666666666666,10.433333333333332,9.1,8.5500000000000007,8,9.4499999999999993,10,11.45,12.55,12.65,13.100000000000001,13.850000000000001,13.200000000000001,13.200000000000001,13.850000000000001,13.100000000000001,12.65,12.55,11.45,10,9.4499999999999993,8,8.5500000000000007,9.1,10.433333333333334,11.766666666666666,13.1,11.766666666666666,10.433333333333332,9.1,8.5500000000000007,8,9.4499999999999993,10,11.45,12.55,12.65,13.100000000000001,13.850000000000001,13.200000000000001,13.200000000000001,13.850000000000001,13.100000000000001,{"$f":"BR7+BR34+BR61+BR88","v":12.65},12.55,11.45,10,9.4499999999999993,8,8.5500000000000007,9.1,10.433333333333334,11.766666666666666,13.1,11.766666666666666,10.433333333333332,9.1,8.5500000000000007,8,9.4499999999999993,10,11.45,12.55,12.65,13.100000000000001,13.850000000000001,13.200000000000001,13.200000000000001,13.850000000000001,13.100000000000001,12.65,12.55,11.45,10,9.4499999999999993,8,8.5500000000000007,9.1,10.433333333333334,11.766666666666666,13.1,11.766666666666666,10.433333333333332,9.1,8.5500000000000007]
[28,{"$f":"IF($D137<=$B$6,STDEV(OFFSET(D137,0,2*$B$11-D137+$B$12):OFFSET(D137,0,2*$B$11-1+$B$12))/C137,\"\")","v":0.18536546134848852},{"$f":"IF($D137<=$B$6,AVERAGE(OFFSET(D137,0,2*$B$11-D137+$B$12):OFFSET(D137,0,2*$B$11-1+$B$12)),\"\")","v":10.760714285714283},28,{"$f":"E7+E35+E63+E91","v":1.9},{"$f":"F7+F35+F63+F91","v":2.9},3.9,4.55,5.2,6.2,7.2,6.8000000000000007,6.4,6.65,6.9,7.45,8,7.55,7.1,7.55,8,8.5500000000000007,9.1,10.433333333333334,11.766666666666666,13.1,11.766666666666666,10.433333333333332,9.1,8.5500000000000007,8,7.55,9,10.45,11.9,12,12.100000000000001,12.850000000000001,13.600000000000001,13.600000000000001,13.600000000000001,12.850000000000001,12.100000000000001,12,11.9,10.45,9,7.55,8,8.5500000000000007,9.1,10.433333333333334,11.766666666666666,13.1,11.766666666666666,10.433333333333332,9.1,8.5500000000000007,8,7.55,9,10.45,11.9,12,12.100000000000001,12.850000000000001,13.600000000000001,13.600000000000001,13.600000000000001,{"$f":"BR7+BR35+BR63+BR91","v":12.850000000000001},12.100000000000001,12,11.9,10.45,9,7.55,8,8.5500000000000007,9.1,10.433333333333334,11.766666666666666,13.1,11.766666666666666,10.433333333333332,9.1,8.5500000000000007,8,7.55,9,10.45,11.9,12,12.100000000000001,12.850000000000001,13.600000000000001,13.600000000000001,13.600000000000001,12.850000000000001,12.100000000000001,12,11.9,10.45,9,7.55,8,8.5500000000000007,9.1,10.433333333333334,11.766666666666666,13.1,11.766666666666666,10.433333333333332]
[29,{"$f":"IF($D138<=$B$6,STDEV(OFFSET(D138,0,2*$B$11-D138+$B$12):OFFSET(D138,0,2*$B$11-1+$B$12))/C138,\"\")","v":0.19667735662984145},{"$f":"IF($D138<=$B$6,AVERAGE(OFFSET(D138,0,2*$B$11-D138+$B$12):OFFSET(D138,0,2*$B$11-1+$B$12)),\"\")","v":10.389655172413791},29,{"$f":"E7+E36+E65+E94","v":1.9},{"$f":"F7+F36+F65+F94","v":2.9},3.9,4.55,5.2,6.2,7.2,6.8000000000000007,6.4,6.65,6.9,7.45,8,7.55,7.1,7.55,8,8.5500000000000007,9.1,10.433333333333334,11.766666666666666,13.1,11.766666666666666,10.433333333333332,9.1,8.5500000000000007,8,7.55,7.1,9.4499999999999993,10.9,11.35,11.45,11.850000000000001,12.600000000000001,14,14,12.600000000000001,11.850000000000001,11.45,11.35,10.9,9.4499999999999993,7.1,7.55,8,8.5500000000000007,9.1,10.433333333333334,11.766666666666666,13.1,11.766666666666666,10.433333333333332,9.1,8.5500000000000007,8,7.55,7.1,9.4499999999999993,10.9,11.35,11.45,11.850000000000001,12.600000000000001,14,{"$f":"BR7+BR36+BR65+BR94","v":14},12.600000000000001,11.850000000000001,11.45,11.35,10.9,9.4499999999999993,7.1,7.55,8,8.5500000000000007,9.1,10.433333333333334,11.766666666666666,13.1,11.766666666666666,10.433333333333332,9.1,8.5500000000000007,8,7.55,7.1,9.4499999999999993,10.9,11.35,11.45,11.850000000000001,12.600000000000001,14,14,12.600000000000001,11.850000000000001,11.45,11.35,10.9,9.4499999999999993,7.1,7.55,8,8.5500000000000007,9.1,10.433333333333334,11.766666666666666,13.1]
[30,{"$f":"IF($D139<=$B$6,STDEV(OFFSET(D139,0,2*$B$11-D139+$B$12):OFFSET(D139,0,2*$B$11-1+$B$12))/C139,\"\")","v":0.20061775229237325},{"$f":"IF($D139<=$B$6,AVERAGE(OFFSET(D139,0,2*$B$11-D139+$B$12):OFFSET(D139,0,2*$B$11-1+$B$12)),\"\")","v":10.043333333333333},30,{"$f":"E7+E37+E67+E97","v":1.9},{"$f":"F7+F37+F67+F97","v":2.9},3.9,4.55,5.2,6.2,7.2,6.8000000000000007,6.4,6.65,6.9,7.45,8,7.55,7.1,7.55,8,8.5500000000000007,9.1,10.433333333333334,11.766666666666666,13.1,11.766666666666666,10.433333333333332,9.1,8.5500000000000007,8,7.55,7.1,7.55,9.9,10.35,10.8,11.2,11.600000000000001,13,14.4,13,11.600000000000001,11.2,10.8,10.35,9.9,7.55,7.1,7.55,8,8.5500000000000007,9.1,10.433333333333334,11.766666666666666,13.1,11.766666666666666,10.433333333333332,9.1,8.5500000000000007,8,7.55,7.1,7.55,9.9,10.35,10.8,11.2,11.600000000000001,{"$f":"BR7+BR37+BR67+BR97","v":13},14.4,13,11.600000000000001,11.2,10.8,10.35,9.9,7.55,7.1,7.55,8,8.5500000000000007,9.1,10.433333333333334,11.766666666666666,13.1,11.766666666666666,10.433333333333332,9.1,8.5500000000000007,8,7.55,7.1,7.55,9.9,10.35,10.8,11.2,11.600000000000001,13,14.4,13,11.600000000000001,11.2,10.8,10.35,9.9,7.55,7.1,7.55,8,8.5500000000000007,9.1,10.433333333333334]
[31,{"$f":"IF($D140<=$B$6,STDEV(OFFSET(D140,0,2*$B$11-D140+$B$12):OFFSET(D140,0,2*$B$11-1+$B$12))/C140,\"\")","v":0.19781544547445712},{"$f":"IF($D140<=$B$6,AVERAGE(OFFSET(D140,0,2*$B$11-D140+$B$12):OFFSET(D140,0,2*$B$11-1+$B$12)),\"\")","v":9.7193548387096804},31,{"$f":"E7+E38+E69+E100","v":1.9},{"$f":"F7+F38+F69+F100","v":2.9},3.9,4.55,5.2,6.2,7.2,6.8000000000000007,6.4,6.65,6.9,7.45,8,7.55,7.1,7.55,8,8.5500000000000007,9.1,10.433333333333334,11.766666666666666,13.1,11.766666666666666,10.433333333333332,9.1,8.5500000000000007,8,7.55,7.1,7.55,8,9.35,9.8000000000000007,10.55,10.95,12,13.4,13.4,12,10.95,10.55,9.8000000000000007,9.35,8,7.55,7.1,7.55,8,8.5500000000000007,9.1,10.433333333333334,11.766666666666666,13.1,11.766666666666666,10.433333333333332,9.1,8.5500000000000007,8,7.55,7.1,7.55,8,9.35,9.8000000000000007,10.55,{"$f":"BR7+BR38+BR69+BR100","v":10.95},12,13.4,13.4,12,10.95,10.55,9.8000000000000007,9.35,8,7.55,7.1,7.55,8,8.5500000000000007,9.1,10.433333333333334,11.766666666666666,13.1,11.766666666666666,10.433333333333332,9.1,8.5500000000000007,8,7.55,7.1,7.55,8,9.35,9.8000000000000007,10.55,10.95,12,13.4,13.4,12,10.95,10.55,9.8000000000000007,9.35,8,7.55,7.1,7.55,8,8.5500000000000007]
[32,{"$f":"IF($D141<=$B$6,STDEV(OFFSET(D141,0,2*$B$11-D141+$B$12):OFFSET(D141,0,2*$B$11-1+$B$12))/C141,\"\")","v":0.1957885085683698},{"$f":"IF($D141<=$B$6,AVERAGE(OFFSET(D141,0,2*$B$11-D141+$B$12):OFFSET(D141,0,2*$B$11-1+$B$12)),\"\")","v":9.4156250000000039},32,{"$f":"E7+E39+E71+E103","v":1.9},{"$f":"F7+F39+F71+F103","v":2.9},3.9,4.55,5.2,6.2,7.2,6.8000000000000007,6.4,6.65,6.9,7.45,8,7.55,7.1,7.55,8,8.5500000000000007,9.1,10.433333333333334,11.766666666666666,13.1,11.766666666666666,10.433333333333332,9.1,8.5500000000000007,8,7.55,7.1,7.55,8,7.45,8.8000000000000007,9.5500000000000007,10.3,11.350000000000001,12.4,12.4,12.4,11.350000000000001,10.3,9.5500000000000007,8.8000000000000007,7.45,8,7.55,7.1,7.55,8,8.5500000000000007,9.1,10.433333333333334,11.766666666666666,13.1,11.766666666666666,10.433333333333332,9.1,8.5500000000000007,8,7.55,7.1,7.55,8,7.45,8.8000000000000007,{"$f":"BR7+BR39+BR71+BR103","v":9.5500000000000007},10.3,11.350000000000001,12.4,12.4,12.4,11.350000000000001,10.3,9.5500000000000007,8.8000000000000007,7.45,8,7.55,7.1,7.55,8,8.5500000000000007,9.1,10.433333333333334,11.766666666666666,13.1,11.766666666666666,10.433333333333332,9.1,8.5500000000000007,8,7.55,7.1,7.55,8,7.45,8.8000000000000007,9.5500000000000007,10.3,11.350000000000001,12.4,12.4,12.4,11.350000000000001,10.3,9.5500000000000007,8.8000000000000007,7.45,8,7.55,7.1,7.55]
[33,{"$f":"IF($D142<=$B$6,STDEV(OFFSET(D142,0,2*$B$11-D142+$B$12):OFFSET(D142,0,2*$B$11-1+$B$12))/C142,\"\")","v":0.19588428715866946},{"$f":"IF($D142<=$B$6,AVERAGE(OFFSET(D142,0,2*$B$11-D142+$B$12):OFFSET(D142,0,2*$B$11-1+$B$12)),\"\")","v":9.1303030303030308},33,{"$f":"E7+E40+E73+E106","v":1.9},{"$f":"F7+F40+F73+F106","v":2.9},3.9,4.55,5.2,6.2,7.2,6.8000000000000007,6.4,6.65,6.9,7.45,8,7.55,7.1,7.55,8,8.5500000000000007,9.1,10.433333333333334,11.766666666666666,13.1,11.766666666666666,10.433333333333332,9.1,8.5500000000000007,8,7.55,7.1,7.55,8,7.45,6.9,8.5500000000000007,9.3000000000000007,10.700000000000001,11.75,11.4,11.4,11.75,10.700000000000001,9.3000000000000007,8.5500000000000007,6.9,7.45,8,7.55,7.1,7.55,8,8.5500000000000007,9.1,10.433333333333334,11.766666666666666,13.1,11.766666666666666,10.433333333333332,9.1,8.5500000000000007,8,7.55,7.1,7.55,8,7.45,{"$f":"BR7+BR40+BR73+BR106","v":6.9},8.5500000000000007,9.3000000000000007,10.700000000000001,11.75,11.4,11.4,11.75,10.700000000000001,9.3000000000000007,8.5500000000000007,6.9,7.45,8,7.55,7.1,7.55,8,8.5500000000000007,9.1,10.433333333333334,11.766666666666666,13.1,11.766666666666666,10.433333333333332,9.1,8.5500000000000007,8,7.55,7.1,7.55,8,7.45,6.9,8.5500000000000007,9.3000000000000007,10.700000000000001,11.75,11.4,11.4,11.75,10.700000000000001,9.3000000000000007,8.5500000000000007,6.9,7.45,8,7.55]
[34,{"$f":"IF($D143<=$B$6,STDEV(OFFSET(D143,0,2*$B$11-D143+$B$12):OFFSET(D143,0,2*$B$11-1+$B$12))/C143,\"\")","v":0.1956179710715836},{"$f":"IF($D143<=$B$6,AVERAGE(OFFSET(D143,0,2*$B$11-D143+$B$12):OFFSET(D143,0,2*$B$11-1+$B$12)),\"\")","v":8.8617647058823525},34,{"$f":"E7+E41+E75","v":1.9},{"$f":"F7+F41+F75","v":2.9},3.9,4.55,5.2,6.2,7.2,6.8000000000000007,6.4,6.65,6.9,7.45,8,7.55,7.1,7.55,8,8.5500000000000007,9.1,10.433333333333334,11.766666666666666,13.1,11.766666666666666,10.433333333333332,9.1,8.5500000000000007,8,7.55,7.1,7.55,8,7.45,6.9,6.65,8.3000000000000007,9.7000000000000011,11.1,10.75,10.4,10.75,11.1,9.7000000000000011,8.3000000000000007,6.65,6.9,7.45,8,7.55,7.1,7.55,8,8.5500000000000007,9.1,10.433333333333334,11.766666666666666,13.1,11.766666666666666,10.433333333333332,9.1,8.5500000000000007,8,7.55,7.1,7.55,8,{"$f":"BR7+BR41+BR75","v":7.45},6.9,6.65,8.3000000000000007,9.7000000000000011,11.1,10.75,10.4,10.75,11.1,9.7000000000000011,8.3000000000000007,6.65,6.9,7.45,8,7.55,7.1,7.55,8,8.5500000000000007,9.1,10.433333333333334,11.766666666666666,13.1,11.766666666666666,10.433333333333332,9.1,8.5500000000000007,8,7.55,7.1,7.55,8,7.45,6.9,6.65,6.4,6.8000000000000007,7.2,6.2,5.2,4.55,3.9,2.9,1.9,0,0,0]
[35,{"$f":"IF($D144<=$B$6,STDEV(OFFSET(D144,0,2*$B$11-D144+$B$12):OFFSET(D144,0,2*$B$11-1+$B$12))/C144,\"\")","v":0.19443471830815831},{"$f":"IF($D144<=$B$6,AVERAGE(OFFSET(D144,0,2*$B$11-D144+$B$12):OFFSET(D144,0,2*$B$11-1+$B$12)),\"\")","v":8.6085714285714285},35,{"$f":"E7+E42+E77","v":1.9},{"$f":"F7+F42+F77","v":2.9},3.9,4.55,5.2,6.2,7.2,6.8000000000000007,6.4,6.65,6.9,7.45,8,7.55,7.1,7.55,8,8.5500000000000007,9.1,10.433333333333334,11.766666666666666,13.1,11.766666666666666,10.433333333333332,9.1,8.5500000000000007,8,7.55,7.1,7.55,8,7.45,6.9,6.65,6.4,8.7000000000000011,10.1,10.1,9.75,9.75,10.1,10.1,8.7000000000000011,6.4,6.65,6.9,7.45,8,7.55,7.1,7.55,8,8.5500000000000007,9.1,10.433333333333334,11.766666666666666,13.1,11.766666666666666,10.433333333333332,9.1,8.5500000000000007,8,7.55,7.1,7.55,{"$f":"BR7+BR42+BR77","v":8},7.45,6.9,6.65,6.4,8.7000000000000011,10.1,10.1,9.75,9.75,10.1,10.1,8.7000000000000011,6.4,6.65,6.9,7.45,8,7.55,7.1,7.55,8,8.5500000000000007,9.1,10.433333333333334,11.766666666666666,13.1,11.766666666666666,10.433333333333332,9.1,8.5500000000000007,8,7.55,7.1,7.55,8,7.45,6.9,6.65,6.4,6.8000000000000007,7.2,6.2,5.2,4.55,3.9,2.9,1.9,0,0]
[36,{"$f":"IF($D145<=$B$6,STDEV(OFFSET(D145,0,2*$B$11-D145+$B$12):OFFSET(D145,0,2*$B$11-1+$B$12))/C145,\"\")","v":0.19150112653070089},{"$f":"IF($D145<=$B$6,AVERAGE(OFFSET(D145,0,2*$B$11-D145+$B$12):OFFSET(D145,0,2*$B$11-1+$B$12)),\"\")","v":8.3694444444444471},36,{"$f":"E7+E43+E79","v":1.9},{"$f":"F7+F43+F79","v":2.9},3.9,4.55,5.2,6.2,7.2,6.8000000000000007,6.4,6.65,6.9,7.45,8,7.55,7.1,7.55,8,8.5500000000000007,9.1,10.433333333333334,11.766666666666666,13.1,11.766666666666666,10.433333333333332,9.1,8.5500000000000007,8,7.55,7.1,7.55,8,7.45,6.9,6.65,6.4,6.8000000000000007,9.1,9.1,9.1,9.1,9.1,9.1,9.1,6.8000000000000007,6.4,6.65,6.9,7.45,8,7.55,7.1,7.55,8,8.5500000000000007,9.1,10.433333333333334,11.766666666666666,13.1,11.766666666666666,10.433333333333332,9.1,8.5500000000000007,8,7.55,7.1,{"$f":"BR7+BR43+BR79","v":7.55},8,7.45,6.9,6.65,6.4,6.8000000000000007,9.1,9.1,9.1,9.1,9.1,9.1,9.1,6.8000000000000007,6.4,6.65,6.9,7.45,8,7.55,7.1,7.55,8,8.5500000000000007,9.1,10.433333333333334,11.766666666666666,13.1,11.766666666666666,10.433333333333332,9.1,8.5500000000000007,8,7.55,7.1,7.55,8,7.45,6.9,6.65,6.4,6.8000000000000007,7.2,6.2,5.2,4.55,3.9,2.9,1.9,0]
[37,{"$f":"IF($D146<=$B$6,STDEV(OFFSET(D146,0,2*$B$11-D146+$B$12):OFFSET(D146,0,2*$B$11-1+$B$12))/C146,\"\")","v":0.19125143198924008},{"$f":"IF($D146<=$B$6,AVERAGE(OFFSET(D146,0,2*$B$11-D146+$B$12):OFFSET(D146,0,2*$B$11-1+$B$12)),\"\")","v":8.1432432432432442},37,{"$f":"E$7+E44+E81","v":1.9},{"$f":"F$7+F44+F81","v":2.9},3.9,4.55,5.2,6.2,7.2,6.8000000000000007,6.4,6.65,6.9,7.45,8,7.55,7.1,7.55,8,8.5500000000000007,9.1,10.433333333333334,11.766666666666666,13.1,11.766666666666666,10.433333333333332,9.1,8.5500000000000007,8,7.55,7.1,7.55,8,7.45,6.9,6.65,6.4,6.8000000000000007,7.2,8.1,8.1,8.4499999999999993,8.4499999999999993,8.1,8.1,7.2,6.8000000000000007,6.4,6.65,6.9,7.45,8,7.55,7.1,7.55,8,8.5500000000000007,9.1,10.433333333333334,11.766666666666666,13.1,11.766666666666666,10.433333333333332,9.1,8.5500000000000007,8,7.55,{"$f":"BR$7+BR44+BR81","v":7.1},7.55,8,7.45,6.9,6.65,6.4,6.8000000000000007,7.2,8.1,8.1,8.4499999999999993,8.4499999999999993,8.1,8.1,7.2,6.8000000000000007,6.4,6.65,6.9,7.45,8,7.55,7.1,7.55,8,8.5500000000000007,9.1,10.433333333333334,11.766666666666666,13.1,11.766666666666666,10.433333333333332,9.1,8.5500000000000007,8,7.55,7.1,7.55,8,7.45,6.9,6.65,6.4,6.8000000000000007,7.2,6.2,5.2,4.55,3.9,2.9,1.9]
[38,{"$f":"IF($D147<=$B$6,STDEV(OFFSET(D147,0,2*$B$11-D147+$B$12):OFFSET(D147,0,2*$B$11-1+$B$12))/C147,\"\")","v":0.20334775868326188},{"$f":"IF($D147<=$B$6,AVERAGE(OFFSET(D147,0,2*$B$11-D147+$B$12):OFFSET(D147,0,2*$B$11-1+$B$12)),\"\")","v":7.9289473684210545},38,{"$f":"E$7+E45+E83","v":1.9},{"$f":"F$7+F45+F83","v":2.9},3.9,4.55,5.2,6.2,7.2,6.8000000000000007,6.4,6.65,6.9,7.45,8,7.55,7.1,7.55,8,8.5500000000000007,9.1,10.433333333333334,11.766666666666666,13.1,11.766666666666666,10.433333333333332,9.1,8.5500000000000007,8,7.55,7.1,7.55,8,7.45,6.9,6.65,6.4,6.8000000000000007,7.2,6.2,7.1,7.4499999999999993,7.8,7.4499999999999993,7.1,6.2,7.2,6.8000000000000007,6.4,6.65,6.9,7.45,8,7.55,7.1,7.55,8,8.5500000000000007,9.1,10.433333333333334,11.766666666666666,13.1,11.766666666666666,10.433333333333332,9.1,8.5500000000000007,8,{"$f":"BR$7+BR45+BR83","v":7.55},7.1,7.55,8,7.45,6.9,6.65,6.4,6.8000000000000007,7.2,6.2,7.1,7.4499999999999993,7.8,7.4499999999999993,7.1,6.2,7.2,6.8000000000000007,6.4,6.65,6.9,7.45,8,7.55,7.1,7.55,8,8.5500000000000007,9.1,10.433333333333334,11.766666666666666,13.1,11.766666666666666,10.433333333333332,9.1,8.5500000000000007,8,7.55,7.1,7.55,8,7.45,6.9,6.65,6.4,6.8000000000000007,7.2,6.2,5.2,4.55,3.9,2.9]
[39,{"$f":"IF($D148<=$B$6,STDEV(OFFSET(D148,0,2*$B$11-D148+$B$12):OFFSET(D148,0,2*$B$11-1+$B$12))/C148,\"\")","v":0.22472755010063244},{"$f":"IF($D148<=$B$6,AVERAGE(OFFSET(D148,0,2*$B$11-D148+$B$12):OFFSET(D148,0,2*$B$11-1+$B$12)),\"\")","v":7.7256410256410248},39,{"$f":"E$7+E46+E85","v":1.9},{"$f":"F$7+F46+F85","v":2.9},3.9,4.55,5.2,6.2,7.2,6.8000000000000007,6.4,6.65,6.9,7.45,8,7.55,7.1,7.55,8,8.5500000000000007,9.1,10.433333333333334,11.766666666666666,13.1,11.766666666666666,10.433333333333332,9.1,8.5500000000000007,8,7.55,7.1,7.55,8,7.45,6.9,6.65,6.4,6.8000000000000007,7.2,6.2,5.2,6.4499999999999993,6.8,6.8,6.4499999999999993,5.2,6.2,7.2,6.8000000000000007,6.4,6.65,6.9,7.45,8,7.55,7.1,7.55,8,8.5500000000000007,9.1,10.433333333333334,11.766666666666666,13.1,11.766666666666666,10.433333333333332,9.1,8.5500000000000007,{"$f":"BR$7+BR46+BR85","v":8},7.55,7.1,7.55,8,7.45,6.9,6.65,6.4,6.8000000000000007,7.2,6.2,5.2,6.4499999999999993,6.8,6.8,6.4499999999999993,5.2,6.2,7.2,6.8000000000000007,6.4,6.65,6.9,7.45,8,7.55,7.1,7.55,8,8.5500000000000007,9.1,10.433333333333334,11.766666666666666,13.1,11.766666666666666,10.433333333333332,9.1,8.5500000000000007,8,7.55,7.1,7.55,8,7.45,6.9,6.65,6.4,6.8000000000000007,7.2,6.2,5.2,4.55,3.9]
[40,{"$f":"IF($D149<=$B$6,STDEV(OFFSET(D149,0,2*$B$11-D149+$B$12):OFFSET(D149,0,2*$B$11-1+$B$12))/C149,\"\")","v":0.25097000459166507},{"$f":"IF($D149<=$B$6,AVERAGE(OFFSET(D149,0,2*$B$11-D149+$B$12):OFFSET(D149,0,2*$B$11-1+$B$12)),\"\")","v":7.5325000000000006},40,{"$f":"E$7+E47+E87","v":1.9},{"$f":"F$7+F47+F87","v":2.9},3.9,4.55,5.2,6.2,7.2,6.8000000000000007,6.4,6.65,6.9,7.45,8,7.55,7.1,7.55,8,8.5500000000000007,9.1,10.433333333333334,11.766666666666666,13.1,11.766666666666666,10.433333333333332,9.1,8.5500000000000007,8,7.55,7.1,7.55,8,7.45,6.9,6.65,6.4,6.8000000000000007,7.2,6.2,5.2,4.55,5.8,5.8,5.8,4.55,5.2,6.2,7.2,6.8000000000000007,6.4,6.65,6.9,7.45,8,7.55,7.1,7.55,8,8.5500000000000007,9.1,10.433333333333334,11.766666666666666,13.1,11.766666666666666,10.433333333333332,9.1,{"$f":"BR$7+BR47+BR87","v":8.5500000000000007},8,7.55,7.1,7.55,8,7.45,6.9,6.65,6.4,6.8000000000000007,7.2,6.2,5.2,4.55,5.8,5.8,5.8,4.55,5.2,6.2,7.2,6.8000000000000007,6.4,6.65,6.9,7.45,8,7.55,7.1,7.55,8,8.5500000000000007,9.1,10.433333333333334,11.766666666666666,13.1,11.766666666666666,10.433333333333332,9.1,8.5500000000000007,8,7.55,7.1,7.55,8,7.45,6.9,6.65,6.4,6.8000000000000007,7.2,6.2,5.2,4.55]
[41,{"$f":"IF($D150<=$B$6,STDEV(OFFSET(D150,0,2*$B$11-D150+$B$12):OFFSET(D150,0,2*$B$11-1+$B$12))/C150,\"\")","v":0.28078576092544977},{"$f":"IF($D150<=$B$6,AVERAGE(OFFSET(D150,0,2*$B$11-D150+$B$12):OFFSET(D150,0,2*$B$11-1+$B$12)),\"\")","v":7.348780487804877},41,{"$f":"E$7+E48+E89","v":1.9},{"$f":"F$7+F48+F89","v":2.9},3.9,4.55,5.2,6.2,7.2,6.8000000000000007,6.4,6.65,6.9,7.45,8,7.55,7.1,7.55,8,8.5500000000000007,9.1,10.433333333333334,11.766666666666666,13.1,11.766666666666666,10.433333333333332,9.1,8.5500000000000007,8,7.55,7.1,7.55,8,7.45,6.9,6.65,6.4,6.8000000000000007,7.2,6.2,5.2,4.55,3.9,4.8,4.8,3.9,4.55,5.2,6.2,7.2,6.8000000000000007,6.4,6.65,6.9,7.45,8,7.55,7.1,7.55,8,8.5500000000000007,9.1,10.433333333333334,11.766666666666666,13.1,11.766666666666666,10.433333333333332,{"$f":"BR$7+BR48+BR89","v":9.1},8.5500000000000007,8,7.55,7.1,7.55,8,7.45,6.9,6.65,6.4,6.8000000000000007,7.2,6.2,5.2,4.55,3.9,4.8,4.8,3.9,4.55,5.2,6.2,7.2,6.8000000000000007,6.4,6.65,6.9,7.45,8,7.55,7.1,7.55,8,8.5500000000000007,9.1,10.433333333333334,11.766666666666666,13.1,11.766666666666666,10.433333333333332,9.1,8.5500000000000007,8,7.55,7.1,7.55,8,7.45,6.9,6.65,6.4,6.8000000000000007,7.2,6.2,5.2]
[42,{"$f":"IF($D151<=$B$6,STDEV(OFFSET(D151,0,2*$B$11-D151+$B$12):OFFSET(D151,0,2*$B$11-1+$B$12))/C151,\"\")","v":0.31412893825174903},{"$f":"IF($D151<=$B$6,AVERAGE(OFFSET(D151,0,2*$B$11-D151+$B$12):OFFSET(D151,0,2*$B$11-1+$B$12)),\"\")","v":7.1738095238095223},42,{"$f":"E$7+E49+E91","v":1.9},{"$f":"F$7+F49+F91","v":2.9},3.9,4.55,5.2,6.2,7.2,6.8000000000000007,6.4,6.65,6.9,7.45,8,7.55,7.1,7.55,8,8.5500000000000007,9.1,10.433333333333334,11.766666666666666,13.1,11.766666666666666,10.433333333333332,9.1,8.5500000000000007,8,7.55,7.1,7.55,8,7.45,6.9,6.65,6.4,6.8000000000000007,7.2,6.2,5.2,4.55,3.9,2.9,3.8,2.9,3.9,4.55,5.2,6.2,7.2,6.8000000000000007,6.4,6.65,6.9,7.45,8,7.55,7.1,7.55,8,8.5500000000000007,9.1,10.433333333333334,11.766666666666666,13.1,11.766666666666666,{"$f":"BR$7+BR49+BR91","v":10.433333333333332},9.1,8.5500000000000007,8,7.55,7.1,7.55,8,7.45,6.9,6.65,6.4,6.8000000000000007,7.2,6.2,5.2,4.55,3.9,2.9,3.8,2.9,3.9,4.55,5.2,6.2,7.2,6.8000000000000007,6.4,6.65,6.9,7.45,8,7.55,7.1,7.55,8,8.5500000000000007,9.1,10.433333333333334,11.766666666666666,13.1,11.766666666666666,10.433333333333332,9.1,8.5500000000000007,8,7.55,7.1,7.55,8,7.45,6.9,6.65,6.4,6.8000000000000007,7.2,6.2]
[43,{"$f":"IF($D152<=$B$6,STDEV(OFFSET(D152,0,2*$B$11-D152+$B$12):OFFSET(D152,0,2*$B$11-1+$B$12))/C152,\"\")","v":0.34906204364898019},{"$f":"IF($D152<=$B$6,AVERAGE(OFFSET(D152,0,2*$B$11-D152+$B$12):OFFSET(D152,0,2*$B$11-1+$B$12)),\"\")","v":7.0069767441860442},43,{"$f":"E$7+E50+E93","v":1.9},{"$f":"F$7+F50+F93","v":2.9},3.9,4.55,5.2,6.2,7.2,6.8000000000000007,6.4,6.65,6.9,7.45,8,7.55,7.1,7.55,8,8.5500000000000007,9.1,10.433333333333334,11.766666666666666,13.1,11.766666666666666,10.433333333333332,9.1,8.5500000000000007,8,7.55,7.1,7.55,8,7.45,6.9,6.65,6.4,6.8000000000000007,7.2,6.2,5.2,4.55,3.9,2.9,1.9,1.9,2.9,3.9,4.55,5.2,6.2,7.2,6.8000000000000007,6.4,6.65,6.9,7.45,8,7.55,7.1,7.55,8,8.5500000000000007,9.1,10.433333333333334,11.766666666666666,13.1,{"$f":"BR$7+BR50+BR93","v":11.766666666666666},10.433333333333332,9.1,8.5500000000000007,8,7.55,7.1,7.55,8,7.45,6.9,6.65,6.4,6.8000000000000007,7.2,6.2,5.2,4.55,3.9,2.9,1.9,1.9,2.9,3.9,4.55,5.2,6.2,7.2,6.8000000000000007,6.4,6.65,6.9,7.45,8,7.55,7.1,7.55,8,8.5500000000000007,9.1,10.433333333333334,11.766666666666666,13.1,11.766666666666666,10.433333333333332,9.1,8.5500000000000007,8,7.55,7.1,7.55,8,7.45,6.9,6.65,6.4,6.8000000000000007,7.2]
[44,{"$f":"IF($D153<=$B$6,STDEV(OFFSET(D153,0,2*$B$11-D153+$B$12):OFFSET(D153,0,2*$B$11-1+$B$12))/C153,\"\")","v":""},{"$f":"IF($D153<=$B$6,AVERAGE(OFFSET(D153,0,2*$B$11-D153+$B$12):OFFSET(D153,0,2*$B$11-1+$B$12)),\"\")","v":""},44,{"$f":"E$7+E51+E95","v":1.9},{"$f":"F$7+F51+F95","v":2.9},3.9,4.55,5.2,6.2,7.2,6.8000000000000007,6.4,6.65,6.9,7.45,8,7.55,7.1,7.55,8,8.5500000000000007,9.1,10.433333333333334,11.766666666666666,13.1,11.766666666666666,10.433333333333332,9.1,8.5500000000000007,8,7.55,7.1,7.55,8,7.45,6.9,6.65,6.4,6.8000000000000007,7.2,6.2,5.2,4.55,3.9,2.9,1.9,0,1.9,2.9,3.9,4.55,5.2,6.2,7.2,6.8000000000000007,6.4,6.65,6.9,7.45,8,7.55,7.1,7.55,8,8.5500000000000007,9.1,10.433333333333334,11.766666666666666,{"$f":"BR$7+BR51+BR95","v":13.1},11.766666666666666,10.433333333333332,9.1,8.5500000000000007,8,7.55,7.1,7.55,8,7.45,6.9,6.65,6.4,6.8000000000000007,7.2,6.2,5.2,4.55,3.9,2.9,1.9,0,1.9,2.9,3.9,4.55,5.2,6.2,7.2,6.8000000000000007,6.4,6.65,6.9,7.45,8,7.55,7.1,7.55,8,8.5500000000000007,9.1,10.433333333333334,11.766666666666666,13.1,11.766666666666666,10.433333333333332,9.1,8.5500000000000007,8,7.55,7.1,7.55,8,7.45,6.9,6.65,6.4,6.8000000000000007]
[45,{"$f":"IF($D154<=$B$6,STDEV(OFFSET(D154,0,2*$B$11-D154+$B$12):OFFSET(D154,0,2*$B$11-1+$B$12))/C154,\"\")","v":""},{"$f":"IF($D154<=$B$6,AVERAGE(OFFSET(D154,0,2*$B$11-D154+$B$12):OFFSET(D154,0,2*$B$11-1+$B$12)),\"\")","v":""},45,{"$f":"E$7+E52+E97","v":1.9},{"$f":"F$7+F52+F97","v":2.9},3.9,4.55,5.2,6.2,7.2,6.8000000000000007,6.4,6.65,6.9,7.45,8,7.55,7.1,7.55,8,8.5500000000000007,9.1,10.433333333333334,11.766666666666666,13.1,11.766666666666666,10.433333333333332,9.1,8.5500000000000007,8,7.55,7.1,7.55,8,7.45,6.9,6.65,6.4,6.8000000000000007,7.2,6.2,5.2,4.55,3.9,2.9,1.9,0,0,1.9,2.9,3.9,4.55,5.2,6.2,7.2,6.8000000000000007,6.4,6.65,6.9,7.45,8,7.55,7.1,7.55,8,8.5500000000000007,9.1,10.433333333333334,{"$f":"BR$7+BR52+BR97","v":11.766666666666666},13.1,11.766666666666666,10.433333333333332,9.1,8.5500000000000007,8,7.55,7.1,7.55,8,7.45,6.9,6.65,6.4,6.8000000000000007,7.2,6.2,5.2,4.55,3.9,2.9,1.9,0,0,1.9,2.9,3.9,4.55,5.2,6.2,7.2,6.8000000000000007,6.4,6.65,6.9,7.45,8,7.55,7.1,7.55,8,8.5500000000000007,9.1,10.433333333333334,11.766666666666666,13.1,11.766666666666666,10.433333333333332,9.1,8.5500000000000007,8,7.55,7.1,7.55,8,7.45,6.9,6.65,6.4]
[46,{"$f":"IF($D155<=$B$6,STDEV(OFFSET(D155,0,2*$B$11-D155+$B$12):OFFSET(D155,0,2*$B$11-1+$B$12))/C155,\"\")","v":""},{"$f":"IF($D155<=$B$6,AVERAGE(OFFSET(D155,0,2*$B$11-D155+$B$12):OFFSET(D155,0,2*$B$11-1+$B$12)),\"\")","v":""},46,{"$f":"E$7+E53+E99","v":1.9},{"$f":"F$7+F53+F99","v":2.9},3.9,4.55,5.2,6.2,7.2,6.8000000000000007,6.4,6.65,6.9,7.45,8,7.55,7.1,7.55,8,8.5500000000000007,9.1,10.433333333333334,11.766666666666666,13.1,11.766666666666666,10.433333333333332,9.1,8.5500000000000007,8,7.55,7.1,7.55,8,7.45,6.9,6.65,6.4,6.8000000000000007,7.2,6.2,5.2,4.55,3.9,2.9,1.9,0,0,0,1.9,2.9,3.9,4.55,5.2,6.2,7.2,6.8000000000000007,6.4,6.65,6.9,7.45,8,7.55,7.1,7.55,8,8.5500000000000007,9.1,{"$f":"BR$7+BR53+BR99","v":10.433333333333334},11.766666666666666,13.1,11.766666666666666,10.433333333333332,9.1,8.5500000000000007,8,7.55,7.1,7.55,8,7.45,6.9,6.65,6.4,6.8000000000000007,7.2,6.2,5.2,4.55,3.9,2.9,1.9,0,0,0,1.9,2.9,3.9,4.55,5.2,6.2,7.2,6.8000000000000007,6.4,6.65,6.9,7.45,8,7.55,7.1,7.55,8,8.5500000000000007,9.1,10.433333333333334,11.766666666666666,13.1,11.766666666666666,10.433333333333332,9.1,8.5500000000000007,8,7.55,7.1,7.55,8,7.45,6.9,6.65]
[47,{"$f":"IF($D156<=$B$6,STDEV(OFFSET(D156,0,2*$B$11-D156+$B$12):OFFSET(D156,0,2*$B$11-1+$B$12))/C156,\"\")","v":""},{"$f":"IF($D156<=$B$6,AVERAGE(OFFSET(D156,0,2*$B$11-D156+$B$12):OFFSET(D156,0,2*$B$11-1+$B$12)),\"\")","v":""},47,{"$f":"E$7+E54+E101","v":1.9},{"$f":"F$7+F54+F101","v":2.9},3.9,4.55,5.2,6.2,7.2,6.8000000000000007,6.4,6.65,6.9,7.45,8,7.55,7.1,7.55,8,8.5500000000000007,9.1,10.433333333333334,11.766666666666666,13.1,11.766666666666666,10.433333333333332,9.1,8.5500000000000007,8,7.55,7.1,7.55,8,7.45,6.9,6.65,6.4,6.8000000000000007,7.2,6.2,5.2,4.55,3.9,2.9,1.9,0,0,0,0,1.9,2.9,3.9,4.55,5.2,6.2,7.2,6.8000000000000007,6.4,6.65,6.9,7.45,8,7.55,7.1,7.55,8,8.5500000000000007,{"$f":"BR$7+BR54+BR101","v":9.1},10.433333333333334,11.766666666666666,13.1,11.766666666666666,10.433333333333332,9.1,8.5500000000000007,8,7.55,7.1,7.55,8,7.45,6.9,6.65,6.4,6.8000000000000007,7.2,6.2,5.2,4.55,3.9,2.9,1.9,0,0,0,0,1.9,2.9,3.9,4.55,5.2,6.2,7.2,6.8000000000000007,6.4,6.65,6.9,7.45,8,7.55,7.1,7.55,8,8.5500000000000007,9.1,10.433333333333334,11.766666666666666,13.1,11.766666666666666,10.433333333333332,9.1,8.5500000000000007,8,7.55,7.1,7.55,8,7.45,6.9]
[48,{"$f":"IF($D157<=$B$6,STDEV(OFFSET(D157,0,2*$B$11-D157+$B$12):OFFSET(D157,0,2*$B$11-1+$B$12))/C157,\"\")","v":""},{"$f":"IF($D157<=$B$6,AVERAGE(OFFSET(D157,0,2*$B$11-D157+$B$12):OFFSET(D157,0,2*$B$11-1+$B$12)),\"\")","v":""},48,{"$f":"E$7+E55+E103","v":1.9},{"$f":"F$7+F55+F103","v":2.9},3.9,4.55,5.2,6.2,7.2,6.8000000000000007,6.4,6.65,6.9,7.45,8,7.55,7.1,7.55,8,8.5500000000000007,9.1,10.433333333333334,11.766666666666666,13.1,11.766666666666666,10.433333333333332,9.1,8.5500000000000007,8,7.55,7.1,7.55,8,7.45,6.9,6.65,6.4,6.8000000000000007,7.2,6.2,5.2,4.55,3.9,2.9,1.9,0,0,0,0,0,1.9,2.9,3.9,4.55,5.2,6.2,7.2,6.8000000000000007,6.4,6.65,6.9,7.45,8,7.55,7.1,7.55,8,{"$f":"BR$7+BR55+BR103","v":8.5500000000000007},9.1,10.433333333333334,11.766666666666666,13.1,11.766666666666666,10.433333333333332,9.1,8.5500000000000007,8,7.55,7.1,7.55,8,7.45,6.9,6.65,6.4,6.8000000000000007,7.2,6.2,5.2,4.55,3.9,2.9,1.9,0,0,0,0,0,1.9,2.9,3.9,4.55,5.2,6.2,7.2,6.8000000000000007,6.4,6.65,6.9,7.45,8,7.55,7.1,7.55,8,8.5500000000000007,9.1,10.433333333333334,11.766666666666666,13.1,11.766666666666666,10.433333333333332,9.1,8.5500000000000007,8,7.55,7.1,7.55,8,7.45]
[49,{"$f":"IF($D158<=$B$6,STDEV(OFFSET(D158,0,2*$B$11-D158+$B$12):OFFSET(D158,0,2*$B$11-1+$B$12))/C158,\"\")","v":""},{"$f":"IF($D158<=$B$6,AVERAGE(OFFSET(D158,0,2*$B$11-D158+$B$12):OFFSET(D158,0,2*$B$11-1+$B$12)),\"\")","v":""},49,{"$f":"E$7+E56+E105","v":1.9},{"$f":"F$7+F56+F105","v":2.9},3.9,4.55,5.2,6.2,7.2,6.8000000000000007,6.4,6.65,6.9,7.45,8,7.55,7.1,7.55,8,8.5500000000000007,9.1,10.433333333333334,11.766666666666666,13.1,11.766666666666666,10.433333333333332,9.1,8.5500000000000007,8,7.55,7.1,7.55,8,7.45,6.9,6.65,6.4,6.8000000000000007,7.2,6.2,5.2,4.55,3.9,2.9,1.9,0,0,0,0,0,0,1.9,2.9,3.9,4.55,5.2,6.2,7.2,6.8000000000000007,6.4,6.65,6.9,7.45,8,7.55,7.1,7.55,{"$f":"BR$7+BR56+BR105","v":8},8.5500000000000007,9.1,10.433333333333334,11.766666666666666,13.1,11.766666666666666,10.433333333333332,9.1,8.5500000000000007,8,7.55,7.1,7.55,8,7.45,6.9,6.65,6.4,6.8000000000000007,7.2,6.2,5.2,4.55,3.9,2.9,1.9,0,0,0,0,0,0,1.9,2.9,3.9,4.55,5.2,6.2,7.2,6.8000000000000007,6.4,6.65,6.9,7.45,8,7.55,7.1,7.55,8,8.5500000000000007,9.1,10.433333333333334,11.766666666666666,13.1,11.766666666666666,10.433333333333332,9.1,8.5500000000000007,8,7.55,7.1,7.55,8]
[50,{"$f":"IF($D159<=$B$6,STDEV(OFFSET(D159,0,2*$B$11-D159+$B$12):OFFSET(D159,0,2*$B$11-1+$B$12))/C159,\"\")","v":""},{"$f":"IF($D159<=$B$6,AVERAGE(OFFSET(D159,0,2*$B$11-D159+$B$12):OFFSET(D159,0,2*$B$11-1+$B$12)),\"\")","v":""},{"$f":"D56","v":50},{"$f":"E$7+E57","v":1.9},2.9,3.9,4.55,5.2,6.2,7.2,6.8000000000000007,6.4,6.65,6.9,7.45,8,7.55,7.1,7.55,8,8.5500000000000007,9.1,10.433333333333334,11.766666666666666,13.1,11.766666666666666,10.433333333333332,9.1,8.5500000000000007,8,7.55,7.1,7.55,8,7.45,{"$f":"AK$7+AK57","v":6.9},6.65,6.4,6.8000000000000007,7.2,6.2,5.2,4.55,3.9,2.9,1.9,0,0,0,0,0,0,0,1.9,2.9,3.9,4.55,5.2,6.2,7.2,6.8000000000000007,6.4,6.65,6.9,7.45,8,7.55,7.1,7.55,8,8.5500000000000007,9.1,10.433333333333334,11.766666666666666,13.1,11.766666666666666,10.433333333333332,9.1,8.5500000000000007,8,7.55,7.1,7.55,8,7.45,6.9,6.65,6.4,6.8000000000000007,7.2,6.2,5.2,4.55,3.9,2.9,1.9,0,0,0,{"$f":"CW$7+CW57","v":0},0,0,0,0,0,0,0,0,0,0,0,0,0,0,0,0,0,0,0,0,0,0,0,0,0,0,0,0,0,0,0,0,0]
[51,{"$f":"IF($D160<=$B$6,STDEV(OFFSET(D160,0,2*$B$11-D160+$B$12):OFFSET(D160,0,2*$B$11-1+$B$12))/C160,\"\")","v":""},{"$f":"IF($D160<=$B$6,AVERAGE(OFFSET(D160,0,2*$B$11-D160+$B$12):OFFSET(D160,0,2*$B$11-1+$B$12)),\"\")","v":""},{"$f":"D57","v":51},{"$f":"E$7+E58","v":1.9},2.9,3.9,4.55,5.2,6.2,7.2,6.8000000000000007,6.4,6.65,6.9,7.45,8,7.55,7.1,7.55,{"$f":"U$7+U58","v":8},8.5500000000000007,9.1,10.433333333333334,11.766666666666666,13.1,11.766666666666666,10.433333333333332,9.1,8.5500000000000007,8,7.55,7.1,7.55,8,7.45,6.9,6.65,6.4,6.8000000000000007,7.2,6.2,5.2,4.55,3.9,2.9,1.9,0,0,0,0,0,0,0,0,1.9,2.9,3.9,4.55,5.2,6.2,7.2,6.8000000000000007,6.4,6.65,6.9,7.45,8,7.55,7.1,7.55,8,8.5500000000000007,9.1,10.433333333333334,11.766666666666666,13.1,11.766666666666666,10.433333333333332,9.1,8.5500000000000007,8,7.55,7.1,7.55,8,7.45,6.9,6.65,6.4,6.8000000000000007,7.2,6.2,5.2,4.55,3.9,2.9,1.9,0,0,0,0,0,0,0,0,0,0,0,0,0,0,0,0,0,0,0,0,0,0,0,0,0,0,0,0,0,0,0,0,0,0,0,0,{"$f":"EE$7+EE58","v":0}]
[52,{"$f":"IF($D161<=$B$6,STDEV(OFFSET(D161,0,2*$B$11-D161+$B$12):OFFSET(D161,0,2*$B$11-1+$B$12))/C161,\"\")","v":""},{"$f":"IF($D161<=$B$6,AVERAGE(OFFSET(D161,0,2*$B$11-D161+$B$12):OFFSET(D161,0,2*$B$11-1+$B$12)),\"\")","v":""},52,1.9,2.9,3.9,4.55,5.2,6.2,7.2,6.8000000000000007,6.4,6.65,6.9,7.45,8,7.55,7.1,7.55,8,8.5500000000000007,9.1,10.433333333333334,11.766666666666666,13.1,11.766666666666666,10.433333333333332,9.1,8.5500000000000007,8,7.55,7.1,7.55,8,7.45,6.9,6.65,6.4,6.8000000000000007,7.2,6.2,5.2,4.55,3.9,2.9,1.9,0,0,0,0,0,0,0,0,0,1.9,2.9,3.9,4.55,5.2,6.2,7.2,6.8000000000000007,6.4,6.65,6.9,7.45,8,7.55,7.1,7.55,8,8.5500000000000007,9.1,10.433333333333334,11.766666666666666,13.1,11.766666666666666,10.433333333333332,9.1,8.5500000000000007,8,7.55,7.1,7.55,8,7.45,6.9,6.65,6.4,6.8000000000000007,7.2,6.2,5.2,4.55,3.9,2.9,1.9,0,0,0,0,0,0,0,0,0,0,0,0,0,0,0,0,0,0,0,0,0,0,0,0,0,0,0,0,0,0,0,0,0,0,0,0,0]
[53,{"$f":"IF($D162<=$B$6,STDEV(OFFSET(D162,0,2*$B$11-D162+$B$12):OFFSET(D162,0,2*$B$11-1+$B$12))/C162,\"\")","v":""},{"$f":"IF($D162<=$B$6,AVERAGE(OFFSET(D162,0,2*$B$11-D162+$B$12):OFFSET(D162,0,2*$B$11-1+$B$12)),\"\")","v":""},53,1.9,{"$f":"F$7+F60","v":2.9},3.9,4.55,5.2,6.2,7.2,6.8000000000000007,6.4,6.65,6.9,7.45,8,7.55,7.1,7.55,8,8.5500000000000007,9.1,10.433333333333334,11.766666666666666,13.1,11.766666666666666,10.433333333333332,9.1,8.5500000000000007,8,7.55,7.1,7.55,8,7.45,6.9,6.65,6.4,6.8000000000000007,7.2,6.2,5.2,4.55,3.9,2.9,1.9,0,0,0,0,0,0,0,0,0,0,1.9,2.9,3.9,4.55,5.2,6.2,7.2,6.8000000000000007,6.4,6.65,6.9,7.45,{"$f":"BR$7+BR60","v":8},7.55,7.1,7.55,8,8.5500000000000007,9.1,10.433333333333334,11.766666666666666,13.1,11.766666666666666,10.433333333333332,9.1,8.5500000000000007,8,7.55,7.1,7.55,8,7.45,6.9,6.65,6.4,6.8000000000000007,7.2,6.2,5.2,4.55,3.9,2.9,1.9,0,0,0,0,0,0,0,0,0,0,0,0,0,0,0,0,0,0,0,0,0,0,0,0,0,0,0,0,0,0,0,0,0,{"$f":"ED$7+ED60","v":0},0,0,0]
[54,{"$f":"IF($D163<=$B$6,STDEV(OFFSET(D163,0,2*$B$11-D163+$B$12):OFFSET(D163,0,2*$B$11-1+$B$12))/C163,\"\")","v":""},{"$f":"IF($D163<=$B$6,AVERAGE(OFFSET(D163,0,2*$B$11-D163+$B$12):OFFSET(D163,0,2*$B$11-1+$B$12)),\"\")","v":""},54,1.9,{"$f":"F$7+F61","v":2.9},3.9,4.55,5.2,6.2,7.2,6.8000000000000007,6.4,6.65,6.9,7.45,8,7.55,7.1,7.55,8,8.5500000000000007,9.1,10.433333333333334,11.766666666666666,13.1,11.766666666666666,10.433333333333332,9.1,8.5500000000000007,8,7.55,7.1,7.55,8,7.45,6.9,6.65,6.4,6.8000000000000007,7.2,6.2,5.2,4.55,3.9,2.9,1.9,0,0,0,0,0,0,0,0,0,0,0,1.9,2.9,3.9,4.55,5.2,6.2,7.2,6.8000000000000007,6.4,6.65,6.9,{"$f":"BR$7+BR61","v":7.45},8,7.55,7.1,7.55,8,8.5500000000000007,9.1,10.433333333333334,11.766666666666666,13.1,11.766666666666666,10.433333333333332,9.1,8.5500000000000007,8,7.55,7.1,7.55,8,7.45,6.9,6.65,6.4,6.8000000000000007,7.2,6.2,5.2,4.55,3.9,2.9,1.9,0,0,0,0,0,0,0,0,0,0,0,0,0,0,0,0,0,0,0,0,0,0,0,0,0,0,0,0,0,0,0,0,{"$f":"ED$7+ED61","v":0},0,0,0,{"$f":"EH$7+EH61","v":0}]
[55,{"$f":"IF($D164<=$B$6,STDEV(OFFSET(D164,0,2*$B$11-D164+$B$12):OFFSET(D164,0,2*$B$11-1+$B$12))/C164,\"\")","v":""},{"$f":"IF($D164<=$B$6,AVERAGE(OFFSET(D164,0,2*$B$11-D164+$B$12):OFFSET(D164,0,2*$B$11-1+$B$12)),\"\")","v":""},55,1.9,{"$f":"F$7+F62","v":2.9},3.9,4.55,5.2,6.2,7.2,6.8000000000000007,6.4,6.65,6.9,7.45,8,7.55,7.1,7.55,8,8.5500000000000007,9.1,10.433333333333334,11.766666666666666,13.1,11.766666666666666,10.433333333333332,9.1,8.5500000000000007,8,7.55,7.1,7.55,8,7.45,6.9,6.65,6.4,6.8000000000000007,7.2,6.2,5.2,4.55,3.9,2.9,1.9,0,0,0,0,0,0,0,0,0,0,0,0,1.9,2.9,3.9,4.55,5.2,6.2,7.2,6.8000000000000007,6.4,6.65,{"$f":"BR$7+BR62","v":6.9},7.45,8,7.55,7.1,7.55,8,8.5500000000000007,9.1,10.433333333333334,11.766666666666666,13.1,11.766666666666666,10.433333333333332,9.1,8.5500000000000007,8,7.55,7.1,7.55,8,7.45,6.9,6.65,6.4,6.8000000000000007,7.2,6.2,5.2,4.55,3.9,2.9,1.9,0,0,0,0,0,0,0,0,0,0,0,0,0,0,0,0,0,0,0,0,0,0,0,0,0,0,0,0,0,0,0,{"$f":"ED$7+ED62","v":0},0,0,0,{"$f":"EH$7+EH62","v":0},0]
[56,{"$f":"IF($D165<=$B$6,STDEV(OFFSET(D165,0,2*$B$11-D165+$B$12):OFFSET(D165,0,2*$B$11-1+$B$12))/C165,\"\")","v":""},{"$f":"IF($D165<=$B$6,AVERAGE(OFFSET(D165,0,2*$B$11-D165+$B$12):OFFSET(D165,0,2*$B$11-1+$B$12)),\"\")","v":""},56,1.9,{"$f":"F$7+F63","v":2.9},3.9,4.55,5.2,6.2,7.2,6.8000000000000007,6.4,6.65,6.9,7.45,8,7.55,7.1,7.55,8,8.5500000000000007,9.1,10.433333333333334,11.766666666666666,13.1,11.766666666666666,10.433333333333332,9.1,8.5500000000000007,8,7.55,7.1,7.55,8,7.45,6.9,6.65,6.4,6.8000000000000007,7.2,6.2,5.2,4.55,3.9,2.9,1.9,0,0,0,0,0,0,0,0,0,0,0,0,0,1.9,2.9,3.9,4.55,5.2,6.2,7.2,6.8000000000000007,6.4,{"$f":"BR$7+BR63","v":6.65},6.9,7.45,8,7.55,7.1,7.55,8,8.5500000000000007,9.1,10.433333333333334,11.766666666666666,13.1,11.766666666666666,10.433333333333332,9.1,8.5500000000000007,8,7.55,7.1,7.55,8,7.45,6.9,6.65,6.4,6.8000000000000007,7.2,6.2,5.2,4.55,3.9,2.9,1.9,0,0,0,0,0,0,0,0,0,0,0,0,0,0,0,0,0,0,0,0,0,0,0,0,0,0,0,0,0,0,{"$f":"ED$7+ED63","v":0},0,0,0,{"$f":"EH$7+EH63","v":0},0,{"$f":"EJ$7+EJ63","v":0}]
[57,{"$f":"IF($D166<=$B$6,STDEV(OFFSET(D166,0,2*$B$11-D166+$B$12):OFFSET(D166,0,2*$B$11-1+$B$12))/C166,\"\")","v":""},{"$f":"IF($D166<=$B$6,AVERAGE(OFFSET(D166,0,2*$B$11-D166+$B$12):OFFSET(D166,0,2*$B$11-1+$B$12)),\"\")","v":""},57,1.9,{"$f":"F$7+F64","v":2.9},3.9,4.55,5.2,6.2,7.2,6.8000000000000007,6.4,6.65,6.9,7.45,8,7.55,7.1,7.55,8,8.5500000000000007,9.1,10.433333333333334,11.766666666666666,13.1,11.766666666666666,10.433333333333332,9.1,8.5500000000000007,8,7.55,7.1,7.55,8,7.45,6.9,6.65,6.4,6.8000000000000007,7.2,6.2,5.2,4.55,3.9,2.9,1.9,0,0,0,0,0,0,0,0,0,0,0,0,0,0,1.9,2.9,3.9,4.55,5.2,6.2,7.2,6.8000000000000007,{"$f":"BR$7+BR64","v":6.4},6.65,6.9,7.45,8,7.55,7.1,7.55,8,8.5500000000000007,9.1,10.433333333333334,11.766666666666666,13.1,11.766666666666666,10.433333333333332,9.1,8.5500000000000007,8,7.55,7.1,7.55,8,7.45,6.9,6.65,6.4,6.8000000000000007,7.2,6.2,5.2,4.55,3.9,2.9,1.9,0,0,0,0,0,0,0,0,0,0,0,0,0,0,0,0,0,0,0,0,0,0,0,0,0,0,0,0,0,{"$f":"ED$7+ED64","v":0},0,0,0,{"$f":"EH$7+EH64","v":0},0,{"$f":"EJ$7+EJ64","v":0},0]
[58,{"$f":"IF($D167<=$B$6,STDEV(OFFSET(D167,0,2*$B$11-D167+$B$12):OFFSET(D167,0,2*$B$11-1+$B$12))/C167,\"\")","v":""},{"$f":"IF($D167<=$B$6,AVERAGE(OFFSET(D167,0,2*$B$11-D167+$B$12):OFFSET(D167,0,2*$B$11-1+$B$12)),\"\")","v":""},58,1.9,{"$f":"F$7+F65","v":2.9},3.9,4.55,5.2,6.2,7.2,6.8000000000000007,6.4,6.65,6.9,7.45,8,7.55,7.1,7.55,8,8.5500000000000007,9.1,10.433333333333334,11.766666666666666,13.1,11.766666666666666,10.433333333333332,9.1,8.5500000000000007,8,7.55,7.1,7.55,8,7.45,6.9,6.65,6.4,6.8000000000000007,7.2,6.2,5.2,4.55,3.9,2.9,1.9,0,0,0,0,0,0,0,0,0,0,0,0,0,0,0,1.9,2.9,3.9,4.55,5.2,6.2,7.2,{"$f":"BR$7+BR65","v":6.8000000000000007},6.4,6.65,6.9,7.45,8,7.55,7.1,7.55,8,8.5500000000000007,9.1,10.433333333333334,11.766666666666666,13.1,11.766666666666666,10.433333333333332,9.1,8.5500000000000007,8,7.55,7.1,7.55,8,7.45,6.9,6.65,6.4,6.8000000000000007,7.2,6.2,5.2,4.55,3.9,2.9,1.9,0,0,0,0,0,0,0,0,0,0,0,0,0,0,0,0,0,0,0,0,0,0,0,0,0,0,0,0,{"$f":"ED$7+ED65","v":0},0,0,0,{"$f":"EH$7+EH65","v":0},0,{"$f":"EJ$7+EJ65","v":0},0,{"$f":"EL$7+EL65","v":0}]
[59,{"$f":"IF($D168<=$B$6,STDEV(OFFSET(D168,0,2*$B$11-D168+$B$12):OFFSET(D168,0,2*$B$11-1+$B$12))/C168,\"\")","v":""},{"$f":"IF($D168<=$B$6,AVERAGE(OFFSET(D168,0,2*$B$11-D168+$B$12):OFFSET(D168,0,2*$B$11-1+$B$12)),\"\")","v":""},59,1.9,{"$f":"F$7+F66","v":2.9},3.9,4.55,5.2,6.2,7.2,6.8000000000000007,6.4,6.65,6.9,7.45,8,7.55,7.1,7.55,8,8.5500000000000007,9.1,10.433333333333334,11.766666666666666,13.1,11.766666666666666,10.433333333333332,9.1,8.5500000000000007,8,7.55,7.1,7.55,8,7.45,6.9,6.65,6.4,6.8000000000000007,7.2,6.2,5.2,4.55,3.9,2.9,1.9,0,0,0,0,0,0,0,0,0,0,0,0,0,0,0,0,1.9,2.9,3.9,4.55,5.2,6.2,{"$f":"BR$7+BR66","v":7.2},6.8000000000000007,6.4,6.65,6.9,7.45,8,7.55,7.1,7.55,8,8.5500000000000007,9.1,10.433333333333334,11.766666666666666,13.1,11.766666666666666,10.433333333333332,9.1,8.5500000000000007,8,7.55,7.1,7.55,8,7.45,6.9,6.65,6.4,6.8000000000000007,7.2,6.2,5.2,4.55,3.9,2.9,1.9,0,0,0,0,0,0,0,0,0,0,0,0,0,0,0,0,0,0,0,0,0,0,0,0,0,0,0,{"$f":"ED$7+ED66","v":0},0,0,0,{"$f":"EH$7+EH66","v":0},0,{"$f":"EJ$7+EJ66","v":0},0,{"$f":"EL$7+EL66","v":0},0]
[60,{"$f":"IF($D169<=$B$6,STDEV(OFFSET(D169,0,2*$B$11-D169+$B$12):OFFSET(D169,0,2*$B$11-1+$B$12))/C169,\"\")","v":""},{"$f":"IF($D169<=$B$6,AVERAGE(OFFSET(D169,0,2*$B$11-D169+$B$12):OFFSET(D169,0,2*$B$11-1+$B$12)),\"\")","v":""},60,1.9,{"$f":"F$7+F67","v":2.9},3.9,4.55,5.2,6.2,7.2,6.8000000000000007,6.4,6.65,6.9,7.45,8,7.55,7.1,7.55,8,8.5500000000000007,9.1,10.433333333333334,11.766666666666666,13.1,11.766666666666666,10.433333333333332,9.1,8.5500000000000007,8,7.55,7.1,7.55,8,7.45,6.9,6.65,6.4,6.8000000000000007,7.2,6.2,5.2,4.55,3.9,2.9,1.9,0,0,0,0,0,0,0,0,0,0,0,0,0,0,0,0,0,1.9,2.9,3.9,4.55,5.2,{"$f":"BR$7+BR67","v":6.2},7.2,6.8000000000000007,6.4,6.65,6.9,7.45,8,7.55,7.1,7.55,8,8.5500000000000007,9.1,10.433333333333334,11.766666666666666,13.1,11.766666666666666,10.433333333333332,9.1,8.5500000000000007,8,7.55,7.1,7.55,8,7.45,6.9,6.65,6.4,6.8000000000000007,7.2,6.2,5.2,4.55,3.9,2.9,1.9,0,0,0,0,0,0,0,0,0,0,0,0,0,0,0,0,0,0,0,0,0,0,0,0,0,0,{"$f":"ED$7+ED67","v":0},0,0,0,{"$f":"EH$7+EH67","v":0},0,{"$f":"EJ$7+EJ67","v":0},0,{"$f":"EL$7+EL67","v":0},0,{"$f":"EN$7+EN67","v":0}]
[61,{"$f":"IF($D170<=$B$6,STDEV(OFFSET(D170,0,2*$B$11-D170+$B$12):OFFSET(D170,0,2*$B$11-1+$B$12))/C170,\"\")","v":""},{"$f":"IF($D170<=$B$6,AVERAGE(OFFSET(D170,0,2*$B$11-D170+$B$12):OFFSET(D170,0,2*$B$11-1+$B$12)),\"\")","v":""},61,1.9,{"$f":"F$7+F68","v":2.9},3.9,4.55,5.2,6.2,7.2,6.8000000000000007,6.4,6.65,6.9,7.45,8,7.55,7.1,7.55,8,8.5500000000000007,9.1,10.433333333333334,11.766666666666666,13.1,11.766666666666666,10.433333333333332,9.1,8.5500000000000007,8,7.55,7.1,7.55,8,7.45,6.9,6.65,6.4,6.8000000000000007,7.2,6.2,5.2,4.55,3.9,2.9,1.9,0,0,0,0,0,0,0,0,0,0,0,0,0,0,0,0,0,0,1.9,2.9,3.9,4.55,{"$f":"BR$7+BR68","v":5.2},6.2,7.2,6.8000000000000007,6.4,6.65,6.9,7.45,8,7.55,7.1,7.55,8,8.5500000000000007,9.1,10.433333333333334,11.766666666666666,13.1,11.766666666666666,10.433333333333332,9.1,8.5500000000000007,8,7.55,7.1,7.55,8,7.45,6.9,6.65,6.4,6.8000000000000007,7.2,6.2,5.2,4.55,3.9,2.9,1.9,0,0,0,0,0,0,0,0,0,0,0,0,0,0,0,0,0,0,0,0,0,0,0,0,0,{"$f":"ED$7+ED68","v":0},0,0,0,{"$f":"EH$7+EH68","v":0},0,{"$f":"EJ$7+EJ68","v":0},0,{"$f":"EL$7+EL68","v":0},0,{"$f":"EN$7+EN68","v":0},0]
[62,{"$f":"IF($D171<=$B$6,STDEV(OFFSET(D171,0,2*$B$11-D171+$B$12):OFFSET(D171,0,2*$B$11-1+$B$12))/C171,\"\")","v":""},{"$f":"IF($D171<=$B$6,AVERAGE(OFFSET(D171,0,2*$B$11-D171+$B$12):OFFSET(D171,0,2*$B$11-1+$B$12)),\"\")","v":""},62,1.9,{"$f":"F$7+F69","v":2.9},3.9,4.55,5.2,6.2,7.2,6.8000000000000007,6.4,6.65,6.9,7.45,8,7.55,7.1,7.55,8,8.5500000000000007,9.1,10.433333333333334,11.766666666666666,13.1,11.766666666666666,10.433333333333332,9.1,8.5500000000000007,8,7.55,7.1,7.55,8,7.45,6.9,6.65,6.4,6.8000000000000007,7.2,6.2,5.2,4.55,3.9,2.9,1.9,0,0,0,0,0,0,0,0,0,0,0,0,0,0,0,0,0,0,0,1.9,2.9,3.9,{"$f":"BR$7+BR69","v":4.55},5.2,6.2,7.2,6.8000000000000007,6.4,6.65,6.9,7.45,8,7.55,7.1,7.55,8,8.5500000000000007,9.1,10.433333333333334,11.766666666666666,13.1,11.766666666666666,10.433333333333332,9.1,8.5500000000000007,8,7.55,7.1,7.55,8,7.45,6.9,6.65,6.4,6.8000000000000007,7.2,6.2,5.2,4.55,3.9,2.9,1.9,0,0,0,0,0,0,0,0,0,0,0,0,0,0,0,0,0,0,0,0,0,0,0,0,{"$f":"ED$7+ED69","v":0},0,0,0,{"$f":"EH$7+EH69","v":0},0,{"$f":"EJ$7+EJ69","v":0},0,{"$f":"EL$7+EL69","v":0},0,{"$f":"EN$7+EN69","v":0},0,{"$f":"EP$7+EP69","v":0}]
[63,{"$f":"IF($D172<=$B$6,STDEV(OFFSET(D172,0,2*$B$11-D172+$B$12):OFFSET(D172,0,2*$B$11-1+$B$12))/C172,\"\")","v":""},{"$f":"IF($D172<=$B$6,AVERAGE(OFFSET(D172,0,2*$B$11-D172+$B$12):OFFSET(D172,0,2*$B$11-1+$B$12)),\"\")","v":""},63,1.9,{"$f":"F$7+F70","v":2.9},3.9,4.55,5.2,6.2,7.2,6.8000000000000007,6.4,6.65,6.9,7.45,8,7.55,7.1,7.55,8,8.5500000000000007,9.1,10.433333333333334,11.766666666666666,13.1,11.766666666666666,10.433333333333332,9.1,8.5500000000000007,8,7.55,7.1,7.55,8,7.45,6.9,6.65,6.4,6.8000000000000007,7.2,6.2,5.2,4.55,3.9,2.9,1.9,0,0,0,0,0,0,0,0,0,0,0,0,0,0,0,0,0,0,0,0,1.9,2.9,{"$f":"BR$7+BR70","v":3.9},4.55,5.2,6.2,7.2,6.8000000000000007,6.4,6.65,6.9,7.45,8,7.55,7.1,7.55,8,8.5500000000000007,9.1,10.433333333333334,11.766666666666666,13.1,11.766666666666666,10.433333333333332,9.1,8.5500000000000007,8,7.55,7.1,7.55,8,7.45,6.9,6.65,6.4,6.8000000000000007,7.2,6.2,5.2,4.55,3.9,2.9,1.9,0,0,0,0,0,0,0,0,0,0,0,0,0,0,0,0,0,0,0,0,0,0,0,{"$f":"ED$7+ED70","v":0},0,0,0,{"$f":"EH$7+EH70","v":0},0,{"$f":"EJ$7+EJ70","v":0},0,{"$f":"EL$7+EL70","v":0},0,{"$f":"EN$7+EN70","v":0},0,{"$f":"EP$7+EP70","v":0},0]
[64,{"$f":"IF($D173<=$B$6,STDEV(OFFSET(D173,0,2*$B$11-D173+$B$12):OFFSET(D173,0,2*$B$11-1+$B$12))/C173,\"\")","v":""},{"$f":"IF($D173<=$B$6,AVERAGE(OFFSET(D173,0,2*$B$11-D173+$B$12):OFFSET(D173,0,2*$B$11-1+$B$12)),\"\")","v":""},64,1.9,{"$f":"F$7+F71","v":2.9},3.9,4.55,5.2,6.2,7.2,6.8000000000000007,6.4,6.65,6.9,7.45,8,7.55,7.1,7.55,8,8.5500000000000007,9.1,10.433333333333334,11.766666666666666,13.1,11.766666666666666,10.433333333333332,9.1,8.5500000000000007,8,7.55,7.1,7.55,8,7.45,6.9,6.65,6.4,6.8000000000000007,7.2,6.2,5.2,4.55,3.9,2.9,1.9,0,0,0,0,0,0,0,0,0,0,0,0,0,0,0,0,0,0,0,0,0,1.9,{"$f":"BR$7+BR71","v":2.9},3.9,4.55,5.2,6.2,7.2,6.8000000000000007,6.4,6.65,6.9,7.45,8,7.55,7.1,7.55,8,8.5500000000000007,9.1,10.433333333333334,11.766666666666666,13.1,11.766666666666666,10.433333333333332,9.1,8.5500000000000007,8,7.55,7.1,7.55,8,7.45,6.9,6.65,6.4,6.8000000000000007,7.2,6.2,5.2,4.55,3.9,2.9,1.9,0,0,0,0,0,0,0,0,0,0,0,0,0,0,0,0,0,0,0,0,0,0,{"$f":"ED$7+ED71","v":0},0,0,0,{"$f":"EH$7+EH71","v":0},0,{"$f":"EJ$7+EJ71","v":0},0,{"$f":"EL$7+EL71","v":0},0,{"$f":"EN$7+EN71","v":0},0,{"$f":"EP$7+EP71","v":0},0,{"$f":"ER$7+ER71","v":0}]
[65,{"$f":"IF($D174<=$B$6,STDEV(OFFSET(D174,0,2*$B$11-D174+$B$12):OFFSET(D174,0,2*$B$11-1+$B$12))/C174,\"\")","v":""},{"$f":"IF($D174<=$B$6,AVERAGE(OFFSET(D174,0,2*$B$11-D174+$B$12):OFFSET(D174,0,2*$B$11-1+$B$12)),\"\")","v":""},65,1.9,{"$f":"F$7+F72","v":2.9},3.9,4.55,5.2,6.2,7.2,6.8000000000000007,6.4,6.65,6.9,7.45,8,7.55,7.1,7.55,8,8.5500000000000007,9.1,10.433333333333334,11.766666666666666,13.1,11.766666666666666,10.433333333333332,9.1,8.5500000000000007,8,7.55,7.1,7.55,8,7.45,6.9,6.65,6.4,6.8000000000000007,7.2,6.2,5.2,4.55,3.9,2.9,1.9,0,0,0,0,0,0,0,0,0,0,0,0,0,0,0,0,0,0,0,0,0,0,{"$f":"BR$7+BR72","v":1.9},2.9,3.9,4.55,5.2,6.2,7.2,6.8000000000000007,6.4,6.65,6.9,7.45,8,7.55,7.1,7.55,8,8.5500000000000007,9.1,10.433333333333334,11.766666666666666,13.1,11.766666666666666,10.433333333333332,9.1,8.5500000000000007,8,7.55,7.1,7.55,8,7.45,6.9,6.65,6.4,6.8000000000000007,7.2,6.2,5.2,4.55,3.9,2.9,1.9,0,0,0,0,0,0,0,0,0,0,0,0,0,0,0,0,0,0,0,0,0,{"$f":"ED$7+ED72","v":0},0,0,0,{"$f":"EH$7+EH72","v":0},0,{"$f":"EJ$7+EJ72","v":0},0,{"$f":"EL$7+EL72","v":0},0,{"$f":"EN$7+EN72","v":0},0,{"$f":"EP$7+EP72","v":0},0,{"$f":"ER$7+ER72","v":0},0]
[66,{"$f":"IF($D175<=$B$6,STDEV(OFFSET(D175,0,2*$B$11-D175+$B$12):OFFSET(D175,0,2*$B$11-1+$B$12))/C175,\"\")","v":""},{"$f":"IF($D175<=$B$6,AVERAGE(OFFSET(D175,0,2*$B$11-D175+$B$12):OFFSET(D175,0,2*$B$11-1+$B$12)),\"\")","v":""},66,1.9,{"$f":"F$7+F73","v":2.9},3.9,4.55,5.2,6.2,7.2,6.8000000000000007,6.4,6.65,6.9,7.45,8,7.55,7.1,7.55,8,8.5500000000000007,9.1,10.433333333333334,11.766666666666666,13.1,11.766666666666666,10.433333333333332,9.1,8.5500000000000007,8,7.55,7.1,7.55,8,7.45,6.9,6.65,6.4,6.8000000000000007,7.2,6.2,5.2,4.55,3.9,2.9,1.9,0,0,0,0,0,0,0,0,0,0,0,0,0,0,0,0,0,0,0,0,0,0,{"$f":"BR$7+BR73","v":0},1.9,2.9,3.9,4.55,5.2,6.2,7.2,6.8000000000000007,6.4,6.65,6.9,7.45,8,7.55,7.1,7.55,8,8.5500000000000007,9.1,10.433333333333334,11.766666666666666,13.1,11.766666666666666,10.433333333333332,9.1,8.5500000000000007,8,7.55,7.1,7.55,8,7.45,6.9,6.65,6.4,6.8000000000000007,7.2,6.2,5.2,4.55,3.9,2.9,1.9,0,0,0,0,0,0,0,0,0,0,0,0,0,0,0,0,0,0,0,0,{"$f":"ED$7+ED73","v":0},0,0,0,{"$f":"EH$7+EH73","v":0},0,{"$f":"EJ$7+EJ73","v":0},0,{"$f":"EL$7+EL73","v":0},0,{"$f":"EN$7+EN73","v":0},0,{"$f":"EP$7+EP73","v":0},0,{"$f":"ER$7+ER73","v":0},0,{"$f":"ET$7+ET73","v":0}]
[67,{"$f":"IF($D176<=$B$6,STDEV(OFFSET(D176,0,2*$B$11-D176+$B$12):OFFSET(D176,0,2*$B$11-1+$B$12))/C176,\"\")","v":""},{"$f":"IF($D176<=$B$6,AVERAGE(OFFSET(D176,0,2*$B$11-D176+$B$12):OFFSET(D176,0,2*$B$11-1+$B$12)),\"\")","v":""},67,1.9,{"$f":"F$7+F74","v":2.9},3.9,4.55,5.2,6.2,7.2,6.8000000000000007,6.4,6.65,6.9,7.45,8,7.55,7.1,7.55,8,8.5500000000000007,9.1,10.433333333333334,11.766666666666666,13.1,11.766666666666666,10.433333333333332,9.1,8.5500000000000007,8,7.55,7.1,7.55,8,7.45,6.9,6.65,6.4,6.8000000000000007,7.2,6.2,5.2,4.55,3.9,2.9,1.9,0,0,0,0,0,0,0,0,0,0,0,0,0,0,0,0,0,0,0,0,0,0,{"$f":"BR$7+BR74","v":0},0,1.9,2.9,3.9,4.55,5.2,6.2,7.2,6.8000000000000007,6.4,6.65,6.9,7.45,8,7.55,7.1,7.55,8,8.5500000000000007,9.1,10.433333333333334,11.766666666666666,13.1,11.766666666666666,10.433333333333332,9.1,8.5500000000000007,8,7.55,7.1,7.55,8,7.45,6.9,6.65,6.4,6.8000000000000007,7.2,6.2,5.2,4.55,3.9,2.9,1.9,0,0,0,0,0,0,0,0,0,0,0,0,0,0,0,0,0,0,0,{"$f":"ED$7+ED74","v":0},0,0,0,{"$f":"EH$7+EH74","v":0},0,{"$f":"EJ$7+EJ74","v":0},0,{"$f":"EL$7+EL74","v":0},0,{"$f":"EN$7+EN74","v":0},0,{"$f":"EP$7+EP74","v":0},0,{"$f":"ER$7+ER74","v":0},0,{"$f":"ET$7+ET74","v":0},0]
[68,{"$f":"IF($D177<=$B$6,STDEV(OFFSET(D177,0,2*$B$11-D177+$B$12):OFFSET(D177,0,2*$B$11-1+$B$12))/C177,\"\")","v":""},{"$f":"IF($D177<=$B$6,AVERAGE(OFFSET(D177,0,2*$B$11-D177+$B$12):OFFSET(D177,0,2*$B$11-1+$B$12)),\"\")","v":""},68,1.9,{"$f":"F$7+F75","v":2.9},3.9,4.55,5.2,6.2,7.2,6.8000000000000007,6.4,6.65,6.9,7.45,8,7.55,7.1,7.55,8,8.5500000000000007,9.1,10.433333333333334,11.766666666666666,13.1,11.766666666666666,10.433333333333332,9.1,8.5500000000000007,8,7.55,7.1,7.55,8,7.45,6.9,6.65,6.4,6.8000000000000007,7.2,6.2,5.2,4.55,3.9,2.9,1.9,0,0,0,0,0,0,0,0,0,0,0,0,0,0,0,0,0,0,0,0,0,0,{"$f":"BR$7+BR75","v":0},0,0,1.9,2.9,3.9,4.55,5.2,6.2,7.2,6.8000000000000007,6.4,6.65,6.9,7.45,8,7.55,7.1,7.55,8,8.5500000000000007,9.1,10.433333333333334,11.766666666666666,13.1,11.766666666666666,10.433333333333332,9.1,8.5500000000000007,8,7.55,7.1,7.55,8,7.45,6.9,6.65,6.4,6.8000000000000007,7.2,6.2,5.2,4.55,3.9,2.9,1.9,0,0,0,0,0,0,0,0,0,0,0,0,0,0,0,0,0,0,{"$f":"ED$7+ED75","v":0},0,0,0,{"$f":"EH$7+EH75","v":0},0,{"$f":"EJ$7+EJ75","v":0},0,{"$f":"EL$7+EL75","v":0},0,{"$f":"EN$7+EN75","v":0},0,{"$f":"EP$7+EP75","v":0},0,{"$f":"ER$7+ER75","v":0},0,0,0,{"$f":"EV$7+EV75","v":0}]
[69,{"$f":"IF($D178<=$B$6,STDEV(OFFSET(D178,0,2*$B$11-D178+$B$12):OFFSET(D178,0,2*$B$11-1+$B$12))/C178,\"\")","v":""},{"$f":"IF($D178<=$B$6,AVERAGE(OFFSET(D178,0,2*$B$11-D178+$B$12):OFFSET(D178,0,2*$B$11-1+$B$12)),\"\")","v":""},69,1.9,{"$f":"F$7+F76","v":2.9},3.9,4.55,5.2,6.2,7.2,6.8000000000000007,6.4,6.65,6.9,7.45,8,7.55,7.1,7.55,8,8.5500000000000007,9.1,10.433333333333334,11.766666666666666,13.1,11.766666666666666,10.433333333333332,9.1,8.5500000000000007,8,7.55,7.1,7.55,8,7.45,6.9,6.65,6.4,6.8000000000000007,7.2,6.2,5.2,4.55,3.9,2.9,1.9,0,0,0,0,0,0,0,0,0,0,0,0,0,0,0,0,0,0,0,0,0,0,{"$f":"BR$7+BR76","v":0},0,0,0,1.9,2.9,3.9,4.55,5.2,6.2,7.2,6.8000000000000007,6.4,6.65,6.9,7.45,8,7.55,7.1,7.55,8,8.5500000000000007,9.1,10.433333333333334,11.766666666666666,13.1,11.766666666666666,10.433333333333332,9.1,8.5500000000000007,8,7.55,7.1,7.55,8,7.45,6.9,6.65,6.4,6.8000000000000007,7.2,6.2,5.2,4.55,3.9,2.9,1.9,0,0,0,0,0,0,0,0,0,0,0,0,0,0,0,0,0,{"$f":"ED$7+ED76","v":0},0,0,0,{"$f":"EH$7+EH76","v":0},0,{"$f":"EJ$7+EJ76","v":0},0,{"$f":"EL$7+EL76","v":0},0,{"$f":"EN$7+EN76","v":0},0,{"$f":"EP$7+EP76","v":0},0,{"$f":"ER$7+ER76","v":0},0,0,0,0,{"$f":"EW$7+EW76","v":0}]
[70,{"$f":"IF($D179<=$B$6,STDEV(OFFSET(D179,0,2*$B$11-D179+$B$12):OFFSET(D179,0,2*$B$11-1+$B$12))/C179,\"\")","v":""},{"$f":"IF($D179<=$B$6,AVERAGE(OFFSET(D179,0,2*$B$11-D179+$B$12):OFFSET(D179,0,2*$B$11-1+$B$12)),\"\")","v":""},70,1.9,{"$f":"F$7+F77","v":2.9},3.9,4.55,5.2,6.2,7.2,6.8000000000000007,6.4,6.65,6.9,7.45,8,7.55,7.1,7.55,8,8.5500000000000007,9.1,10.433333333333334,11.766666666666666,13.1,11.766666666666666,10.433333333333332,9.1,8.5500000000000007,8,7.55,7.1,7.55,8,7.45,6.9,6.65,6.4,6.8000000000000007,7.2,6.2,5.2,4.55,3.9,2.9,1.9,0,0,0,0,0,0,0,0,0,0,0,0,0,0,0,0,0,0,0,0,0,0,{"$f":"BR$7+BR77","v":0},0,0,0,0,1.9,2.9,3.9,4.55,5.2,6.2,7.2,6.8000000000000007,6.4,6.65,6.9,7.45,8,7.55,7.1,7.55,8,8.5500000000000007,9.1,10.433333333333334,11.766666666666666,13.1,11.766666666666666,10.433333333333332,9.1,8.5500000000000007,8,7.55,7.1,7.55,8,7.45,6.9,6.65,6.4,6.8000000000000007,7.2,6.2,5.2,4.55,3.9,2.9,1.9,0,0,0,0,0,0,0,0,0,0,0,0,0,0,0,0,{"$f":"ED$7+ED77","v":0},0,0,0,{"$f":"EH$7+EH77","v":0},0,{"$f":"EJ$7+EJ77","v":0},0,{"$f":"EL$7+EL77","v":0},0,{"$f":"EN$7+EN77","v":0},0,{"$f":"EP$7+EP77","v":0},0,{"$f":"ER$7+ER77","v":0},0,0,0,0,0,{"$f":"EX$7+EX77","v":0}]
[71,{"$f":"IF($D180<=$B$6,STDEV(OFFSET(D180,0,2*$B$11-D180+$B$12):OFFSET(D180,0,2*$B$11-1+$B$12))/C180,\"\")","v":""},{"$f":"IF($D180<=$B$6,AVERAGE(OFFSET(D180,0,2*$B$11-D180+$B$12):OFFSET(D180,0,2*$B$11-1+$B$12)),\"\")","v":""},71,1.9,{"$f":"F$7+F78","v":2.9},3.9,4.55,5.2,6.2,7.2,6.8000000000000007,6.4,6.65,6.9,7.45,8,7.55,7.1,7.55,8,8.5500000000000007,9.1,10.433333333333334,11.766666666666666,13.1,11.766666666666666,10.433333333333332,9.1,8.5500000000000007,8,7.55,7.1,7.55,8,7.45,6.9,6.65,6.4,6.8000000000000007,7.2,6.2,5.2,4.55,3.9,2.9,1.9,0,0,0,0,0,0,0,0,0,0,0,0,0,0,0,0,0,0,0,0,0,0,{"$f":"BR$7+BR78","v":0},0,0,0,0,0,1.9,2.9,3.9,4.55,5.2,6.2,7.2,6.8000000000000007,6.4,6.65,6.9,7.45,8,7.55,7.1,7.55,8,8.5500000000000007,9.1,10.433333333333334,11.766666666666666,13.1,11.766666666666666,10.433333333333332,9.1,8.5500000000000007,8,7.55,7.1,7.55,8,7.45,6.9,6.65,6.4,6.8000000000000007,7.2,6.2,5.2,4.55,3.9,2.9,1.9,0,0,0,0,0,0,0,0,0,0,0,0,0,0,0,{"$f":"ED$7+ED78","v":0},0,0,0,{"$f":"EH$7+EH78","v":0},0,{"$f":"EJ$7+EJ78","v":0},0,{"$f":"EL$7+EL78","v":0},0,{"$f":"EN$7+EN78","v":0},0,{"$f":"EP$7+EP78","v":0},0,{"$f":"ER$7+ER78","v":0},0,0,0,0,0,0,{"$f":"EY$7+EY78","v":0}]
[72,{"$f":"IF($D181<=$B$6,STDEV(OFFSET(D181,0,2*$B$11-D181+$B$12):OFFSET(D181,0,2*$B$11-1+$B$12))/C181,\"\")","v":""},{"$f":"IF($D181<=$B$6,AVERAGE(OFFSET(D181,0,2*$B$11-D181+$B$12):OFFSET(D181,0,2*$B$11-1+$B$12)),\"\")","v":""},72,1.9,{"$f":"F$7+F79","v":2.9},3.9,4.55,5.2,6.2,7.2,6.8000000000000007,6.4,6.65,6.9,7.45,8,7.55,7.1,7.55,8,8.5500000000000007,9.1,10.433333333333334,11.766666666666666,13.1,11.766666666666666,10.433333333333332,9.1,8.5500000000000007,8,7.55,7.1,7.55,8,7.45,6.9,6.65,6.4,6.8000000000000007,7.2,6.2,5.2,4.55,3.9,2.9,1.9,0,0,0,0,0,0,0,0,0,0,0,0,0,0,0,0,0,0,0,0,0,0,{"$f":"BR$7+BR79","v":0},0,0,0,0,0,0,1.9,2.9,3.9,4.55,5.2,6.2,7.2,6.8000000000000007,6.4,6.65,6.9,7.45,8,7.55,7.1,7.55,8,8.5500000000000007,9.1,10.433333333333334,11.766666666666666,13.1,11.766666666666666,10.433333333333332,9.1,8.5500000000000007,8,7.55,7.1,7.55,8,7.45,6.9,6.65,6.4,6.8000000000000007,7.2,6.2,5.2,4.55,3.9,2.9,1.9,0,0,0,0,0,0,0,0,0,0,0,0,0,0,{"$f":"ED$7+ED79","v":0},0,0,0,{"$f":"EH$7+EH79","v":0},0,{"$f":"EJ$7+EJ79","v":0},0,{"$f":"EL$7+EL79","v":0},0,{"$f":"EN$7+EN79","v":0},0,{"$f":"EP$7+EP79","v":0},0,{"$f":"ER$7+ER79","v":0},0,0,0,0,0,0,0,{"$f":"EZ$7+EZ79","v":0}]
[73,{"$f":"IF($D182<=$B$6,STDEV(OFFSET(D182,0,2*$B$11-D182+$B$12):OFFSET(D182,0,2*$B$11-1+$B$12))/C182,\"\")","v":""},{"$f":"IF($D182<=$B$6,AVERAGE(OFFSET(D182,0,2*$B$11-D182+$B$12):OFFSET(D182,0,2*$B$11-1+$B$12)),\"\")","v":""},73,1.9,{"$f":"F$7+F80","v":2.9},3.9,4.55,5.2,6.2,7.2,6.8000000000000007,6.4,6.65,6.9,7.45,8,7.55,7.1,7.55,8,8.5500000000000007,9.1,10.433333333333334,11.766666666666666,13.1,11.766666666666666,10.433333333333332,9.1,8.5500000000000007,8,7.55,7.1,7.55,8,7.45,6.9,6.65,6.4,6.8000000000000007,7.2,6.2,5.2,4.55,3.9,2.9,1.9,0,0,0,0,0,0,0,0,0,0,0,0,0,0,0,0,0,0,0,0,0,0,{"$f":"BR$7+BR80","v":0},0,0,0,0,0,0,0,1.9,2.9,3.9,4.55,5.2,6.2,7.2,6.8000000000000007,6.4,6.65,6.9,7.45,8,7.55,7.1,7.55,8,8.5500000000000007,9.1,10.433333333333334,11.766666666666666,13.1,11.766666666666666,10.433333333333332,9.1,8.5500000000000007,8,7.55,7.1,7.55,8,7.45,6.9,6.65,6.4,6.8000000000000007,7.2,6.2,5.2,4.55,3.9,2.9,1.9,0,0,0,0,0,0,0,0,0,0,0,0,0,{"$f":"ED$7+ED80","v":0},0,0,0,{"$f":"EH$7+EH80","v":0},0,{"$f":"EJ$7+EJ80","v":0},0,{"$f":"EL$7+EL80","v":0},0,{"$f":"EN$7+EN80","v":0},0,{"$f":"EP$7+EP80","v":0},0,{"$f":"ER$7+ER80","v":0},0,0,0,0,0,0,0,0,{"$f":"FA$7+FA80","v":0}]
[74,{"$f":"IF($D183<=$B$6,STDEV(OFFSET(D183,0,2*$B$11-D183+$B$12):OFFSET(D183,0,2*$B$11-1+$B$12))/C183,\"\")","v":""},{"$f":"IF($D183<=$B$6,AVERAGE(OFFSET(D183,0,2*$B$11-D183+$B$12):OFFSET(D183,0,2*$B$11-1+$B$12)),\"\")","v":""},74,1.9,{"$f":"F$7+F81","v":2.9},3.9,4.55,5.2,6.2,7.2,6.8000000000000007,6.4,6.65,6.9,7.45,8,7.55,7.1,7.55,8,8.5500000000000007,9.1,10.433333333333334,11.766666666666666,13.1,11.766666666666666,10.433333333333332,9.1,8.5500000000000007,8,7.55,7.1,7.55,8,7.45,6.9,6.65,6.4,6.8000000000000007,7.2,6.2,5.2,4.55,3.9,2.9,1.9,0,0,0,0,0,0,0,0,0,0,0,0,0,0,0,0,0,0,0,0,0,0,{"$f":"BR$7+BR81","v":0},0,0,0,0,0,0,0,0,1.9,2.9,3.9,4.55,5.2,6.2,7.2,6.8000000000000007,6.4,6.65,6.9,7.45,8,7.55,7.1,7.55,8,8.5500000000000007,9.1,10.433333333333334,11.766666666666666,13.1,11.766666666666666,10.433333333333332,9.1,8.5500000000000007,8,7.55,7.1,7.55,8,7.45,6.9,6.65,6.4,6.8000000000000007,7.2,6.2,5.2,4.55,3.9,2.9,1.9,0,0,0,0,0,0,0,0,0,0,0,0,{"$f":"ED$7+ED81","v":0},0,0,0,{"$f":"EH$7+EH81","v":0},0,{"$f":"EJ$7+EJ81","v":0},0,{"$f":"EL$7+EL81","v":0},0,{"$f":"EN$7+EN81","v":0},0,{"$f":"EP$7+EP81","v":0},0,{"$f":"ER$7+ER81","v":0},0,0,0,0,0,0,0,0,0,{"$f":"FB$7+FB81","v":0}]
[75,{"$f":"IF($D184<=$B$6,STDEV(OFFSET(D184,0,2*$B$11-D184+$B$12):OFFSET(D184,0,2*$B$11-1+$B$12))/C184,\"\")","v":""},{"$f":"IF($D184<=$B$6,AVERAGE(OFFSET(D184,0,2*$B$11-D184+$B$12):OFFSET(D184,0,2*$B$11-1+$B$12)),\"\")","v":""},75,1.9,{"$f":"F$7+F82","v":2.9},3.9,4.55,5.2,6.2,7.2,6.8000000000000007,6.4,6.65,6.9,7.45,8,7.55,7.1,7.55,8,8.5500000000000007,9.1,10.433333333333334,11.766666666666666,13.1,11.766666666666666,10.433333333333332,9.1,8.5500000000000007,8,7.55,7.1,7.55,8,7.45,6.9,6.65,6.4,6.8000000000000007,7.2,6.2,5.2,4.55,3.9,2.9,1.9,0,0,0,0,0,0,0,0,0,0,0,0,0,0,0,0,0,0,0,0,0,0,{"$f":"BR$7+BR82","v":0},0,0,0,0,0,0,0,0,0,1.9,2.9,3.9,4.55,5.2,6.2,7.2,6.8000000000000007,6.4,6.65,6.9,7.45,8,7.55,7.1,7.55,8,8.5500000000000007,9.1,10.433333333333334,11.766666666666666,13.1,11.766666666666666,10.433333333333332,9.1,8.5500000000000007,8,7.55,7.1,7.55,8,7.45,6.9,6.65,6.4,6.8000000000000007,7.2,6.2,5.2,4.55,3.9,2.9,1.9,0,0,0,0,0,0,0,0,0,0,0,{"$f":"ED$7+ED82","v":0},0,0,0,{"$f":"EH$7+EH82","v":0},0,{"$f":"EJ$7+EJ82","v":0},0,{"$f":"EL$7+EL82","v":0},0,{"$f":"EN$7+EN82","v":0},0,{"$f":"EP$7+EP82","v":0},0,{"$f":"ER$7+ER82","v":0},0,0,0,0,0,0,0,0,0,0,{"$f":"FC$7+FC82","v":0}]
[76,{"$f":"IF($D185<=$B$6,STDEV(OFFSET(D185,0,2*$B$11-D185+$B$12):OFFSET(D185,0,2*$B$11-1+$B$12))/C185,\"\")","v":""},{"$f":"IF($D185<=$B$6,AVERAGE(OFFSET(D185,0,2*$B$11-D185+$B$12):OFFSET(D185,0,2*$B$11-1+$B$12)),\"\")","v":""},76,1.9,{"$f":"F$7+F83","v":2.9},3.9,4.55,5.2,6.2,7.2,6.8000000000000007,6.4,6.65,6.9,7.45,8,7.55,7.1,7.55,8,8.5500000000000007,9.1,10.433333333333334,11.766666666666666,13.1,11.766666666666666,10.433333333333332,9.1,8.5500000000000007,8,7.55,7.1,7.55,8,7.45,6.9,6.65,6.4,6.8000000000000007,7.2,6.2,5.2,4.55,3.9,2.9,1.9,0,0,0,0,0,0,0,0,0,0,0,0,0,0,0,0,0,0,0,0,0,0,{"$f":"BR$7+BR83","v":0},0,0,0,0,0,0,0,0,0,0,1.9,2.9,3.9,4.55,5.2,6.2,7.2,6.8000000000000007,6.4,6.65,6.9,7.45,8,7.55,7.1,7.55,8,8.5500000000000007,9.1,10.433333333333334,11.766666666666666,13.1,11.766666666666666,10.433333333333332,9.1,8.5500000000000007,8,7.55,7.1,7.55,8,7.45,6.9,6.65,6.4,6.8000000000000007,7.2,6.2,5.2,4.55,3.9,2.9,1.9,0,0,0,0,0,0,0,0,0,0,{"$f":"ED$7+ED83","v":0},0,0,0,{"$f":"EH$7+EH83","v":0},0,{"$f":"EJ$7+EJ83","v":0},0,{"$f":"EL$7+EL83","v":0},0,{"$f":"EN$7+EN83","v":0},0,{"$f":"EP$7+EP83","v":0},0,{"$f":"ER$7+ER83","v":0},0,0,0,0,0,0,0,0,0,0,0,{"$f":"FD$7+FD83","v":0}]
[77,{"$f":"IF($D186<=$B$6,STDEV(OFFSET(D186,0,2*$B$11-D186+$B$12):OFFSET(D186,0,2*$B$11-1+$B$12))/C186,\"\")","v":""},{"$f":"IF($D186<=$B$6,AVERAGE(OFFSET(D186,0,2*$B$11-D186+$B$12):OFFSET(D186,0,2*$B$11-1+$B$12)),\"\")","v":""},77,1.9,{"$f":"F$7+F84","v":2.9},3.9,4.55,5.2,6.2,7.2,6.8000000000000007,6.4,6.65,6.9,7.45,8,7.55,7.1,7.55,8,8.5500000000000007,9.1,10.433333333333334,11.766666666666666,13.1,11.766666666666666,10.433333333333332,9.1,8.5500000000000007,8,7.55,7.1,7.55,8,7.45,6.9,6.65,6.4,6.8000000000000007,7.2,6.2,5.2,4.55,3.9,2.9,1.9,0,0,0,0,0,0,0,0,0,0,0,0,0,0,0,0,0,0,0,0,0,0,{"$f":"BR$7+BR84","v":0},0,0,0,0,0,0,0,0,0,0,0,1.9,2.9,3.9,4.55,5.2,6.2,7.2,6.8000000000000007,6.4,6.65,6.9,7.45,8,7.55,7.1,7.55,8,8.5500000000000007,9.1,10.433333333333334,11.766666666666666,13.1,11.766666666666666,10.433333333333332,9.1,8.5500000000000007,8,7.55,7.1,7.55,8,7.45,6.9,6.65,6.4,6.8000000000000007,7.2,6.2,5.2,4.55,3.9,2.9,1.9,0,0,0,0,0,0,0,0,0,{"$f":"ED$7+ED84","v":0},0,0,0,{"$f":"EH$7+EH84","v":0},0,{"$f":"EJ$7+EJ84","v":0},0,{"$f":"EL$7+EL84","v":0},0,{"$f":"EN$7+EN84","v":0},0,{"$f":"EP$7+EP84","v":0},0,{"$f":"ER$7+ER84","v":0},0,0,0,0,0,0,0,0,0,0,0,0,{"$f":"FE$7+FE84","v":0}]
[78,{"$f":"IF($D187<=$B$6,STDEV(OFFSET(D187,0,2*$B$11-D187+$B$12):OFFSET(D187,0,2*$B$11-1+$B$12))/C187,\"\")","v":""},{"$f":"IF($D187<=$B$6,AVERAGE(OFFSET(D187,0,2*$B$11-D187+$B$12):OFFSET(D187,0,2*$B$11-1+$B$12)),\"\")","v":""},78,1.9,{"$f":"F$7+F85","v":2.9},3.9,4.55,5.2,6.2,7.2,6.8000000000000007,6.4,6.65,6.9,7.45,8,7.55,7.1,7.55,8,8.5500000000000007,9.1,10.433333333333334,11.766666666666666,13.1,11.766666666666666,10.433333333333332,9.1,8.5500000000000007,8,7.55,7.1,7.55,8,7.45,6.9,6.65,6.4,6.8000000000000007,7.2,6.2,5.2,4.55,3.9,2.9,1.9,0,0,0,0,0,0,0,0,0,0,0,0,0,0,0,0,0,0,0,0,0,0,{"$f":"BR$7+BR85","v":0},0,0,0,0,0,0,0,0,0,0,0,0,1.9,2.9,3.9,4.55,5.2,6.2,7.2,6.8000000000000007,6.4,6.65,6.9,7.45,8,7.55,7.1,7.55,8,8.5500000000000007,9.1,10.433333333333334,11.766666666666666,13.1,11.766666666666666,10.433333333333332,9.1,8.5500000000000007,8,7.55,7.1,7.55,8,7.45,6.9,6.65,6.4,6.8000000000000007,7.2,6.2,5.2,4.55,3.9,2.9,1.9,0,0,0,0,0,0,0,0,{"$f":"ED$7+ED85","v":0},0,0,0,{"$f":"EH$7+EH85","v":0},0,{"$f":"EJ$7+EJ85","v":0},0,{"$f":"EL$7+EL85","v":0},0,{"$f":"EN$7+EN85","v":0},0,{"$f":"EP$7+EP85","v":0},0,{"$f":"ER$7+ER85","v":0},0,0,0,0,0,0,0,0,0,0,0,0,{"$f":"FE$7+FE85","v":0},{"$f":"FF$7+FF85","v":0}]
[79,{"$f":"IF($D188<=$B$6,STDEV(OFFSET(D188,0,2*$B$11-D188+$B$12):OFFSET(D188,0,2*$B$11-1+$B$12))/C188,\"\")","v":""},{"$f":"IF($D188<=$B$6,AVERAGE(OFFSET(D188,0,2*$B$11-D188+$B$12):OFFSET(D188,0,2*$B$11-1+$B$12)),\"\")","v":""},{"$f":"D85","v":79},1.9,{"$f":"F$7+F86","v":2.9},3.9,4.55,5.2,6.2,7.2,6.8000000000000007,6.4,6.65,6.9,7.45,8,7.55,7.1,7.55,8,8.5500000000000007,9.1,10.433333333333334,11.766666666666666,13.1,11.766666666666666,10.433333333333332,9.1,8.5500000000000007,8,7.55,7.1,7.55,8,7.45,6.9,6.65,6.4,6.8000000000000007,7.2,6.2,5.2,4.55,3.9,2.9,1.9,0,0,0,0,0,0,0,0,0,0,0,0,0,0,0,0,0,0,0,0,0,0,{"$f":"BR$7+BR86","v":0},0,0,0,0,0,0,0,0,0,0,0,0,0,1.9,2.9,3.9,4.55,5.2,6.2,7.2,6.8000000000000007,6.4,6.65,6.9,7.45,8,7.55,7.1,7.55,8,8.5500000000000007,9.1,10.433333333333334,11.766666666666666,13.1,11.766666666666666,10.433333333333332,9.1,8.5500000000000007,8,7.55,7.1,7.55,8,7.45,6.9,6.65,6.4,6.8000000000000007,7.2,6.2,5.2,4.55,3.9,2.9,1.9,0,0,0,0,0,0,0,{"$f":"ED$7+ED86","v":0},0,0,0,{"$f":"EH$7+EH86","v":0},0,{"$f":"EJ$7+EJ86","v":0},0,{"$f":"EL$7+EL86","v":0},0,{"$f":"EN$7+EN86","v":0},0,{"$f":"EP$7+EP86","v":0},0,{"$f":"ER$7+ER86","v":0},0,0,0,0,0,0,0,0,0,0,0,0,{"$f":"FE$7+FE86","v":0},{"$f":"FF$7+FF86","v":0},{"$f":"FG$7+FG86","v":0}]
[80,{"$f":"IF($D189<=$B$6,STDEV(OFFSET(D189,0,2*$B$11-D189+$B$12):OFFSET(D189,0,2*$B$11-1+$B$12))/C189,\"\")","v":""},{"$f":"IF($D189<=$B$6,AVERAGE(OFFSET(D189,0,2*$B$11-D189+$B$12):OFFSET(D189,0,2*$B$11-1+$B$12)),\"\")","v":""},80,1.9,{"$f":"F$7+F87","v":2.9},3.9,4.55,5.2,6.2,7.2,6.8000000000000007,6.4,6.65,6.9,7.45,8,7.55,7.1,7.55,8,8.5500000000000007,9.1,10.433333333333334,11.766666666666666,13.1,11.766666666666666,10.433333333333332,9.1,8.5500000000000007,8,7.55,7.1,7.55,8,7.45,6.9,6.65,6.4,6.8000000000000007,7.2,6.2,5.2,4.55,3.9,2.9,1.9,0,0,0,0,0,0,0,0,0,0,0,0,0,0,0,0,0,0,0,0,0,0,{"$f":"BR$7+BR87","v":0},0,0,0,0,0,0,0,0,0,0,0,0,0,0,1.9,2.9,3.9,4.55,5.2,6.2,7.2,6.8000000000000007,6.4,6.65,6.9,7.45,8,7.55,7.1,7.55,8,8.5500000000000007,9.1,10.433333333333334,11.766666666666666,13.1,11.766666666666666,10.433333333333332,9.1,8.5500000000000007,8,7.55,7.1,7.55,8,7.45,6.9,6.65,6.4,6.8000000000000007,7.2,6.2,5.2,4.55,3.9,2.9,1.9,0,0,0,0,0,0,{"$f":"ED$7+ED87","v":0},0,0,0,{"$f":"EH$7+EH87","v":0},0,{"$f":"EJ$7+EJ87","v":0},0,{"$f":"EL$7+EL87","v":0},0,{"$f":"EN$7+EN87","v":0},0,{"$f":"EP$7+EP87","v":0},0,{"$f":"ER$7+ER87","v":0},0,0,0,0,0,0,0,0,0,0,0,0,{"$f":"FE$7+FE87","v":0},{"$f":"FF$7+FF87","v":0},{"$f":"FG$7+FG87","v":0},{"$f":"FH$7+FH87","v":0}]
[81,{"$f":"IF($D190<=$B$6,STDEV(OFFSET(D190,0,2*$B$11-D190+$B$12):OFFSET(D190,0,2*$B$11-1+$B$12))/C190,\"\")","v":""},{"$f":"IF($D190<=$B$6,AVERAGE(OFFSET(D190,0,2*$B$11-D190+$B$12):OFFSET(D190,0,2*$B$11-1+$B$12)),\"\")","v":""},81,1.9,{"$f":"F$7+F88","v":2.9},3.9,4.55,5.2,6.2,7.2,6.8000000000000007,6.4,6.65,6.9,7.45,8,7.55,7.1,7.55,8,8.5500000000000007,9.1,10.433333333333334,11.766666666666666,13.1,11.766666666666666,10.433333333333332,9.1,8.5500000000000007,8,7.55,7.1,7.55,8,7.45,6.9,6.65,6.4,6.8000000000000007,7.2,6.2,5.2,4.55,3.9,2.9,1.9,0,0,0,0,0,0,0,0,0,0,0,0,0,0,0,0,0,0,0,0,0,0,{"$f":"BR$7+BR88","v":0},0,0,0,0,0,0,0,0,0,0,0,0,0,0,0,1.9,2.9,3.9,4.55,5.2,6.2,7.2,6.8000000000000007,6.4,6.65,6.9,7.45,8,7.55,7.1,7.55,8,8.5500000000000007,9.1,10.433333333333334,11.766666666666666,13.1,11.766666666666666,10.433333333333332,9.1,8.5500000000000007,8,7.55,7.1,7.55,8,7.45,6.9,6.65,6.4,6.8000000000000007,7.2,6.2,5.2,4.55,3.9,2.9,1.9,0,0,0,0,0,{"$f":"ED$7+ED88","v":0},0,0,0,{"$f":"EH$7+EH88","v":0},0,{"$f":"EJ$7+EJ88","v":0},0,{"$f":"EL$7+EL88","v":0},0,{"$f":"EN$7+EN88","v":0},0,{"$f":"EP$7+EP88","v":0},0,{"$f":"ER$7+ER88","v":0},0,0,0,0,0,0,0,0,0,0,0,0,{"$f":"FE$7+FE88","v":0},{"$f":"FF$7+FF88","v":0},{"$f":"FG$7+FG88","v":0},{"$f":"FH$7+FH88","v":0},{"$f":"FI$7+FI88","v":0}]
[]
[null,null,null,"Plot",{"$f":"VLOOKUP('Spread Patterns'!$B$2,$A$110:$DC$159,COLUMN(E1))","v":1.9},{"$f":"VLOOKUP('Spread Patterns'!$B$2,$A$110:$DC$159,COLUMN(F1))","v":2.9},{"$f":"VLOOKUP('Spread Patterns'!$B$2,$A$110:$DC$159,COLUMN(G1))","v":3.9},{"$f":"VLOOKUP('Spread Patterns'!$B$2,$A$110:$DC$159,COLUMN(H1))","v":4.55},{"$f":"VLOOKUP('Spread Patterns'!$B$2,$A$110:$DC$159,COLUMN(I1))","v":5.2},{"$f":"VLOOKUP('Spread Patterns'!$B$2,$A$110:$DC$159,COLUMN(J1))","v":6.2},{"$f":"VLOOKUP('Spread Patterns'!$B$2,$A$110:$DC$159,COLUMN(K1))","v":7.2},{"$f":"VLOOKUP('Spread Patterns'!$B$2,$A$110:$DC$159,COLUMN(L1))","v":6.8000000000000007},{"$f":"VLOOKUP('Spread Patterns'!$B$2,$A$110:$DC$159,COLUMN(M1))","v":6.4},{"$f":"VLOOKUP('Spread Patterns'!$B$2,$A$110:$DC$159,COLUMN(N1))","v":6.65},{"$f":"VLOOKUP('Spread Patterns'!$B$2,$A$110:$DC$159,COLUMN(O1))","v":6.9},{"$f":"VLOOKUP('Spread Patterns'!$B$2,$A$110:$DC$159,COLUMN(P1))","v":7.45},{"$f":"VLOOKUP('Spread Patterns'!$B$2,$A$110:$DC$159,COLUMN(Q1))","v":8},{"$f":"VLOOKUP('Spread Patterns'!$B$2,$A$110:$DC$159,COLUMN(R1))","v":7.55},{"$f":"VLOOKUP('Spread Patterns'!$B$2,$A$110:$DC$159,COLUMN(S1))","v":7.1},{"$f":"VLOOKUP('Spread Patterns'!$B$2,$A$110:$DC$159,COLUMN(T1))","v":7.55},{"$f":"VLOOKUP('Spread Patterns'!$B$2,$A$110:$DC$159,COLUMN(U1))","v":8},{"$f":"VLOOKUP('Spread Patterns'!$B$2,$A$110:$DC$159,COLUMN(V1))","v":8.5500000000000007},{"$f":"VLOOKUP('Spread Patterns'!$B$2,$A$110:$DC$159,COLUMN(W1))","v":9.1},{"$f":"VLOOKUP('Spread Patterns'!$B$2,$A$110:$DC$159,COLUMN(X1))","v":10.433333333333334},{"$f":"VLOOKUP('Spread Patterns'!$B$2,$A$110:$DC$159,COLUMN(Y1))","v":11.766666666666666},{"$f":"VLOOKUP('Spread Patterns'!$B$2,$A$110:$DC$159,COLUMN(Z1))","v":13.1},{"$f":"VLOOKUP('Spread Patterns'!$B$2,$A$110:$DC$159,COLUMN(AA1))","v":11.766666666666666},{"$f":"VLOOKUP('Spread Patterns'!$B$2,$A$110:$DC$159,COLUMN(AB1))","v":10.433333333333332},{"$f":"VLOOKUP('Spread Patterns'!$B$2,$A$110:$DC$159,COLUMN(AC1))","v":9.1},{"$f":"VLOOKUP('Spread Patterns'!$B$2,$A$110:$DC$159,COLUMN(AD1))","v":8.5500000000000007},{"$f":"VLOOKUP('Spread Patterns'!$B$2,$A$110:$DC$159,COLUMN(AE1))","v":8},{"$f":"VLOOKUP('Spread Patterns'!$B$2,$A$110:$DC$159,COLUMN(AF1))","v":7.55},{"$f":"VLOOKUP('Spread Patterns'!$B$2,$A$110:$DC$159,COLUMN(AG1))","v":7.1},{"$f":"VLOOKUP('Spread Patterns'!$B$2,$A$110:$DC$159,COLUMN(AH1))","v":7.55},{"$f":"VLOOKUP('Spread Patterns'!$B$2,$A$110:$DC$159,COLUMN(AI1))","v":8},{"$f":"VLOOKUP('Spread Patterns'!$B$2,$A$110:$DC$159,COLUMN(AJ1))","v":7.45},{"$f":"VLOOKUP('Spread Patterns'!$B$2,$A$110:$DC$159,COLUMN(AK1))","v":6.9},{"$f":"VLOOKUP('Spread Patterns'!$B$2,$A$110:$DC$159,COLUMN(AL1))","v":6.65},{"$f":"VLOOKUP('Spread Patterns'!$B$2,$A$110:$DC$159,COLUMN(AM1))","v":6.4},{"$f":"VLOOKUP('Spread Patterns'!$B$2,$A$110:$DC$159,COLUMN(AN1))","v":6.8000000000000007},{"$f":"VLOOKUP('Spread Patterns'!$B$2,$A$110:$DC$159,COLUMN(AO1))","v":7.2},{"$f":"VLOOKUP('Spread Patterns'!$B$2,$A$110:$DC$159,COLUMN(AP1))","v":6.2},{"$f":"VLOOKUP('Spread Patterns'!$B$2,$A$110:$DC$159,COLUMN(AQ1))","v":5.2},{"$f":"VLOOKUP('Spread Patterns'!$B$2,$A$110:$DC$159,COLUMN(AR1))","v":6.4499999999999993},{"$f":"VLOOKUP('Spread Patterns'!$B$2,$A$110:$DC$159,COLUMN(AS1))","v":6.8},{"$f":"VLOOKUP('Spread Patterns'!$B$2,$A$110:$DC$159,COLUMN(AT1))","v":6.8},{"$f":"VLOOKUP('Spread Patterns'!$B$2,$A$110:$DC$159,COLUMN(AU1))","v":6.4499999999999993},{"$f":"VLOOKUP('Spread Patterns'!$B$2,$A$110:$DC$159,COLUMN(AV1))","v":5.2},{"$f":"VLOOKUP('Spread Patterns'!$B$2,$A$110:$DC$159,COLUMN(AW1))","v":6.2},{"$f":"VLOOKUP('Spread Patterns'!$B$2,$A$110:$DC$159,COLUMN(AX1))","v":7.2},{"$f":"VLOOKUP('Spread Patterns'!$B$2,$A$110:$DC$159,COLUMN(AY1))","v":6.8000000000000007},{"$f":"VLOOKUP('Spread Patterns'!$B$2,$A$110:$DC$159,COLUMN(AZ1))","v":6.4},{"$f":"VLOOKUP('Spread Patterns'!$B$2,$A$110:$DC$159,COLUMN(BA1))","v":6.65},{"$f":"VLOOKUP('Spread Patterns'!$B$2,$A$110:$DC$159,COLUMN(BB1))","v":6.9},{"$f":"VLOOKUP('Spread Patterns'!$B$2,$A$110:$DC$159,COLUMN(BC1))","v":7.45},{"$f":"VLOOKUP('Spread Patterns'!$B$2,$A$110:$DC$159,COLUMN(BD1))","v":8},{"$f":"VLOOKUP('Spread Patterns'!$B$2,$A$110:$DC$159,COLUMN(BE1))","v":7.55},{"$f":"VLOOKUP('Spread Patterns'!$B$2,$A$110:$DC$159,COLUMN(BF1))","v":7.1},{"$f":"VLOOKUP('Spread Patterns'!$B$2,$A$110:$DC$159,COLUMN(BG1))","v":7.55},{"$f":"VLOOKUP('Spread Patterns'!$B$2,$A$110:$DC$159,COLUMN(BH1))","v":8},{"$f":"VLOOKUP('Spread Patterns'!$B$2,$A$110:$DC$159,COLUMN(BI1))","v":8.5500000000000007},{"$f":"VLOOKUP('Spread Patterns'!$B$2,$A$110:$DC$159,COLUMN(BJ1))","v":9.1},{"$f":"VLOOKUP('Spread Patterns'!$B$2,$A$110:$DC$159,COLUMN(BK1))","v":10.433333333333334},{"$f":"VLOOKUP('Spread Patterns'!$B$2,$A$110:$DC$159,COLUMN(BL1))","v":11.766666666666666},{"$f":"VLOOKUP('Spread Patterns'!$B$2,$A$110:$DC$159,COLUMN(BM1))","v":13.1},{"$f":"VLOOKUP('Spread Patterns'!$B$2,$A$110:$DC$159,COLUMN(BN1))","v":11.766666666666666},{"$f":"VLOOKUP('Spread Patterns'!$B$2,$A$110:$DC$159,COLUMN(BO1))","v":10.433333333333332},{"$f":"VLOOKUP('Spread Patterns'!$B$2,$A$110:$DC$159,COLUMN(BP1))","v":9.1},{"$f":"VLOOKUP('Spread Patterns'!$B$2,$A$110:$DC$159,COLUMN(BQ1))","v":8.5500000000000007},{"$f":"VLOOKUP('Spread Patterns'!$B$2,$A$110:$DC$159,COLUMN(BR1))","v":8},{"$f":"VLOOKUP('Spread Patterns'!$B$2,$A$110:$DC$159,COLUMN(BS1))","v":7.55},{"$f":"VLOOKUP('Spread Patterns'!$B$2,$A$110:$DC$159,COLUMN(BT1))","v":7.1},{"$f":"VLOOKUP('Spread Patterns'!$B$2,$A$110:$DC$159,COLUMN(BU1))","v":7.55},{"$f":"VLOOKUP('Spread Patterns'!$B$2,$A$110:$DC$159,COLUMN(BV1))","v":8},{"$f":"VLOOKUP('Spread Patterns'!$B$2,$A$110:$DC$159,COLUMN(BW1))","v":7.45},{"$f":"VLOOKUP('Spread Patterns'!$B$2,$A$110:$DC$159,COLUMN(BX1))","v":6.9},{"$f":"VLOOKUP('Spread Patterns'!$B$2,$A$110:$DC$159,COLUMN(BY1))","v":6.65},{"$f":"VLOOKUP('Spread Patterns'!$B$2,$A$110:$DC$159,COLUMN(BZ1))","v":6.4},{"$f":"VLOOKUP('Spread Patterns'!$B$2,$A$110:$DC$159,COLUMN(CA1))","v":6.8000000000000007},{"$f":"VLOOKUP('Spread Patterns'!$B$2,$A$110:$DC$159,COLUMN(CB1))","v":7.2},{"$f":"VLOOKUP('Spread Patterns'!$B$2,$A$110:$DC$159,COLUMN(CC1))","v":6.2},{"$f":"VLOOKUP('Spread Patterns'!$B$2,$A$110:$DC$159,COLUMN(CD1))","v":5.2},{"$f":"VLOOKUP('Spread Patterns'!$B$2,$A$110:$DC$159,COLUMN(CE1))","v":6.4499999999999993},{"$f":"VLOOKUP('Spread Patterns'!$B$2,$A$110:$DC$159,COLUMN(CF1))","v":6.8},{"$f":"VLOOKUP('Spread Patterns'!$B$2,$A$110:$DC$159,COLUMN(CG1))","v":6.8},{"$f":"VLOOKUP('Spread Patterns'!$B$2,$A$110:$DC$159,COLUMN(CH1))","v":6.4499999999999993},{"$f":"VLOOKUP('Spread Patterns'!$B$2,$A$110:$DC$159,COLUMN(CI1))","v":5.2},{"$f":"VLOOKUP('Spread Patterns'!$B$2,$A$110:$DC$159,COLUMN(CJ1))","v":6.2},{"$f":"VLOOKUP('Spread Patterns'!$B$2,$A$110:$DC$159,COLUMN(CK1))","v":7.2},{"$f":"VLOOKUP('Spread Patterns'!$B$2,$A$110:$DC$159,COLUMN(CL1))","v":6.8000000000000007},{"$f":"VLOOKUP('Spread Patterns'!$B$2,$A$110:$DC$159,COLUMN(CM1))","v":6.4},{"$f":"VLOOKUP('Spread Patterns'!$B$2,$A$110:$DC$159,COLUMN(CN1))","v":6.65},{"$f":"VLOOKUP('Spread Patterns'!$B$2,$A$110:$DC$159,COLUMN(CO1))","v":6.9},{"$f":"VLOOKUP('Spread Patterns'!$B$2,$A$110:$DC$159,COLUMN(CP1))","v":7.45},{"$f":"VLOOKUP('Spread Patterns'!$B$2,$A$110:$DC$159,COLUMN(CQ1))","v":8},{"$f":"VLOOKUP('Spread Patterns'!$B$2,$A$110:$DC$159,COLUMN(CR1))","v":7.55},{"$f":"VLOOKUP('Spread Patterns'!$B$2,$A$110:$DC$159,COLUMN(CS1))","v":7.1},{"$f":"VLOOKUP('Spread Patterns'!$B$2,$A$110:$DC$159,COLUMN(CT1))","v":7.55},{"$f":"VLOOKUP('Spread Patterns'!$B$2,$A$110:$DC$159,COLUMN(CU1))","v":8},{"$f":"VLOOKUP('Spread Patterns'!$B$2,$A$110:$DC$159,COLUMN(CV1))","v":8.5500000000000007},{"$f":"VLOOKUP('Spread Patterns'!$B$2,$A$110:$DC$159,COLUMN(CW1))","v":9.1},{"$f":"VLOOKUP('Spread Patterns'!$B$2,$A$110:$DC$159,COLUMN(CX1))","v":10.433333333333334},{"$f":"VLOOKUP('Spread Patterns'!$B$2,$A$110:$DC$159,COLUMN(CY1))","v":11.766666666666666},{"$f":"VLOOKUP('Spread Patterns'!$B$2,$A$110:$DC$159,COLUMN(CZ1))","v":13.1},{"$f":"VLOOKUP('Spread Patterns'!$B$2,$A$110:$DC$159,COLUMN(DA1))","v":11.766666666666666},{"$f":"VLOOKUP('Spread Patterns'!$B$2,$A$110:$DC$159,COLUMN(DB1))","v":10.433333333333332},{"$f":"VLOOKUP('Spread Patterns'!$B$2,$A$110:$DC$159,COLUMN(DC1))","v":9.1}]
[]
[]
[null,null,null,null,1,2,3,4,5,6,7,8,9,10,11,12,13,14,15,16,17,18,19,20,21,22,23,24,25,26,27,28,29,30,31,32,33,34,35,36,37,38,39,40,41,42,43,44,45,46,47,48,49,50,51,52,53,54,55,56,57,58,59,60,61,62,63,64,65,66,67,68,69,70,71,72,73,74,75,76,77,78,79,80,81]
[null,null,null,null,{"$f":"IF(E195<=$B$10,OFFSET(home!$Q$18,$B$10-(E195-1),0),0)","v":1.9},{"$f":"IF(F195<=$B$10,OFFSET(home!$Q$18,$B$10-(F195-1),0),0)","v":2.9},{"$f":"IF(G195<=$B$10,OFFSET(home!$Q$18,$B$10-(G195-1),0),0)","v":3.9},{"$f":"IF(H195<=$B$10,OFFSET(home!$Q$18,$B$10-(H195-1),0),0)","v":4.55},{"$f":"IF(I195<=$B$10,OFFSET(home!$Q$18,$B$10-(I195-1),0),0)","v":5.2},{"$f":"IF(J195<=$B$10,OFFSET(home!$Q$18,$B$10-(J195-1),0),0)","v":6.2},{"$f":"IF(K195<=$B$10,OFFSET(home!$Q$18,$B$10-(K195-1),0),0)","v":7.2},{"$f":"IF(L195<=$B$10,OFFSET(home!$Q$18,$B$10-(L195-1),0),0)","v":6.8000000000000007},{"$f":"IF(M195<=$B$10,OFFSET(home!$Q$18,$B$10-(M195-1),0),0)","v":6.4},{"$f":"IF(N195<=$B$10,OFFSET(home!$Q$18,$B$10-(N195-1),0),0)","v":6.65},{"$f":"IF(O195<=$B$10,OFFSET(home!$Q$18,$B$10-(O195-1),0),0)","v":6.9},{"$f":"IF(P195<=$B$10,OFFSET(home!$Q$18,$B$10-(P195-1),0),0)","v":7.45},{"$f":"IF(Q195<=$B$10,OFFSET(home!$Q$18,$B$10-(Q195-1),0),0)","v":8},{"$f":"IF(R195<=$B$10,OFFSET(home!$Q$18,$B$10-(R195-1),0),0)","v":7.55},{"$f":"IF(S195<=$B$10,OFFSET(home!$Q$18,$B$10-(S195-1),0),0)","v":7.1},{"$f":"IF(T195<=$B$10,OFFSET(home!$Q$18,$B$10-(T195-1),0),0)","v":7.55},{"$f":"IF(U195<=$B$10,OFFSET(home!$Q$18,$B$10-(U195-1),0),0)","v":8},{"$f":"IF(V195<=$B$10,OFFSET(home!$Q$18,$B$10-(V195-1),0),0)","v":8.5500000000000007},{"$f":"IF(W195<=$B$10,OFFSET(home!$Q$18,$B$10-(W195-1),0),0)","v":9.1},{"$f":"IF(X195<=$B$10,OFFSET(home!$Q$18,$B$10-(X195-1),0),0)","v":10.433333333333332},{"$f":"IF(Y195<=$B$10,OFFSET(home!$Q$18,$B$10-(Y195-1),0),0)","v":11.766666666666666},{"$f":"IF(Z195<=$B$10,OFFSET(home!$Q$18,$B$10-(Z195-1),0),0)","v":13.1},{"$f":"IF(AA195<=$B$10,OFFSET(home!$Q$18,$B$10-(AA195-1),0),0)","v":11.766666666666666},{"$f":"IF(AB195<=$B$10,OFFSET(home!$Q$18,$B$10-(AB195-1),0),0)","v":10.433333333333334},{"$f":"IF(AC195<=$B$10,OFFSET(home!$Q$18,$B$10-(AC195-1),0),0)","v":9.1},{"$f":"IF(AD195<=$B$10,OFFSET(home!$Q$18,$B$10-(AD195-1),0),0)","v":8.5500000000000007},{"$f":"IF(AE195<=$B$10,OFFSET(home!$Q$18,$B$10-(AE195-1),0),0)","v":8},{"$f":"IF(AF195<=$B$10,OFFSET(home!$Q$18,$B$10-(AF195-1),0),0)","v":7.55},{"$f":"IF(AG195<=$B$10,OFFSET(home!$Q$18,$B$10-(AG195-1),0),0)","v":7.1},{"$f":"IF(AH195<=$B$10,OFFSET(home!$Q$18,$B$10-(AH195-1),0),0)","v":7.55},{"$f":"IF(AI195<=$B$10,OFFSET(home!$Q$18,$B$10-(AI195-1),0),0)","v":8},{"$f":"IF(AJ195<=$B$10,OFFSET(home!$Q$18,$B$10-(AJ195-1),0),0)","v":7.45},{"$f":"IF(AK195<=$B$10,OFFSET(home!$Q$18,$B$10-(AK195-1),0),0)","v":6.9},{"$f":"IF(AL195<=$B$10,OFFSET(home!$Q$18,$B$10-(AL195-1),0),0)","v":6.65},{"$f":"IF(AM195<=$B$10,OFFSET(home!$Q$18,$B$10-(AM195-1),0),0)","v":6.4},{"$f":"IF(AN195<=$B$10,OFFSET(home!$Q$18,$B$10-(AN195-1),0),0)","v":6.8000000000000007},{"$f":"IF(AO195<=$B$10,OFFSET(home!$Q$18,$B$10-(AO195-1),0),0)","v":7.2},{"$f":"IF(AP195<=$B$10,OFFSET(home!$Q$18,$B$10-(AP195-1),0),0)","v":6.2},{"$f":"IF(AQ195<=$B$10,OFFSET(home!$Q$18,$B$10-(AQ195-1),0),0)","v":5.2},{"$f":"IF(AR195<=$B$10,OFFSET(home!$Q$18,$B$10-(AR195-1),0),0)","v":4.55},{"$f":"IF(AS195<=$B$10,OFFSET(home!$Q$18,$B$10-(AS195-1),0),0)","v":3.9},{"$f":"IF(AT195<=$B$10,OFFSET(home!$Q$18,$B$10-(AT195-1),0),0)","v":2.9},{"$f":"IF(AU195<=$B$10,OFFSET(home!$Q$18,$B$10-(AU195-1),0),0)","v":1.9},{"$f":"IF(AV195<=$B$10,OFFSET(home!$Q$18,$B$10-(AV195-1),0),0)","v":0},{"$f":"IF(AW195<=$B$10,OFFSET(home!$Q$18,$B$10-(AW195-1),0),0)","v":0},{"$f":"IF(AX195<=$B$10,OFFSET(home!$Q$18,$B$10-(AX195-1),0),0)","v":0},{"$f":"IF(AY195<=$B$10,OFFSET(home!$Q$18,$B$10-(AY195-1),0),0)","v":0},{"$f":"IF(AZ195<=$B$10,OFFSET(home!$Q$18,$B$10-(AZ195-1),0),0)","v":0},{"$f":"IF(BA195<=$B$10,OFFSET(home!$Q$18,$B$10-(BA195-1),0),0)","v":0},{"$f":"IF(BB195<=$B$10,OFFSET(home!$Q$18,$B$10-(BB195-1),0),0)","v":0},{"$f":"IF(BC195<=$B$10,OFFSET(home!$Q$18,$B$10-(BC195-1),0),0)","v":0},{"$f":"IF(BD195<=$B$10,OFFSET(home!$Q$18,$B$10-(BD195-1),0),0)","v":0},{"$f":"IF(BE195<=$B$10,OFFSET(home!$Q$18,$B$10-(BE195-1),0),0)","v":0},{"$f":"IF(BF195<=$B$10,OFFSET(home!$Q$18,$B$10-(BF195-1),0),0)","v":0},{"$f":"IF(BG195<=$B$10,OFFSET(home!$Q$18,$B$10-(BG195-1),0),0)","v":0},{"$f":"IF(BH195<=$B$10,OFFSET(home!$Q$18,$B$10-(BH195-1),0),0)","v":0},{"$f":"IF(BI195<=$B$10,OFFSET(home!$Q$18,$B$10-(BI195-1),0),0)","v":0},{"$f":"IF(BJ195<=$B$10,OFFSET(home!$Q$18,$B$10-(BJ195-1),0),0)","v":0},{"$f":"IF(BK195<=$B$10,OFFSET(home!$Q$18,$B$10-(BK195-1),0),0)","v":0},{"$f":"IF(BL195<=$B$10,OFFSET(home!$Q$18,$B$10-(BL195-1),0),0)","v":0},{"$f":"IF(BM195<=$B$10,OFFSET(home!$Q$18,$B$10-(BM195-1),0),0)","v":0},{"$f":"IF(BN195<=$B$10,OFFSET(home!$Q$18,$B$10-(BN195-1),0),0)","v":0},{"$f":"IF(BO195<=$B$10,OFFSET(home!$Q$18,$B$10-(BO195-1),0),0)","v":0},{"$f":"IF(BP195<=$B$10,OFFSET(home!$Q$18,$B$10-(BP195-1),0),0)","v":0},{"$f":"IF(BQ195<=$B$10,OFFSET(home!$Q$18,$B$10-(BQ195-1),0),0)","v":0},{"$f":"IF(BR195<=$B$10,OFFSET(home!$Q$18,$B$10-(BR195-1),0),0)","v":0},{"$f":"IF(BS195<=$B$10,OFFSET(home!$Q$18,$B$10-(BS195-1),0),0)","v":0},{"$f":"IF(BT195<=$B$10,OFFSET(home!$Q$18,$B$10-(BT195-1),0),0)","v":0},{"$f":"IF(BU195<=$B$10,OFFSET(home!$Q$18,$B$10-(BU195-1),0),0)","v":0},{"$f":"IF(BV195<=$B$10,OFFSET(home!$Q$18,$B$10-(BV195-1),0),0)","v":0},{"$f":"IF(BW195<=$B$10,OFFSET(home!$Q$18,$B$10-(BW195-1),0),0)","v":0},{"$f":"IF(BX195<=$B$10,OFFSET(home!$Q$18,$B$10-(BX195-1),0),0)","v":0},{"$f":"IF(BY195<=$B$10,OFFSET(home!$Q$18,$B$10-(BY195-1),0),0)","v":0},{"$f":"IF(BZ195<=$B$10,OFFSET(home!$Q$18,$B$10-(BZ195-1),0),0)","v":0},{"$f":"IF(CA195<=$B$10,OFFSET(home!$Q$18,$B$10-(CA195-1),0),0)","v":0},{"$f":"IF(CB195<=$B$10,OFFSET(home!$Q$18,$B$10-(CB195-1),0),0)","v":0},{"$f":"IF(CC195<=$B$10,OFFSET(home!$Q$18,$B$10-(CC195-1),0),0)","v":0},{"$f":"IF(CD195<=$B$10,OFFSET(home!$Q$18,$B$10-(CD195-1),0),0)","v":0},{"$f":"IF(CE195<=$B$10,OFFSET(home!$Q$18,$B$10-(CE195-1),0),0)","v":0},{"$f":"IF(CF195<=$B$10,OFFSET(home!$Q$18,$B$10-(CF195-1),0),0)","v":0},{"$f":"IF(CG195<=$B$10,OFFSET(home!$Q$18,$B$10-(CG195-1),0),0)","v":0}]
[]
[]
[]
[]
[null,null,null,1,{"$f":"E196","v":1.9},{"$f":"F196","v":2.9},3.9,4.55,5.2,6.2,7.2,6.8000000000000007,6.4,6.65,6.9,7.45,8,7.55,7.1,7.55,8,8.5500000000000007,9.1,10.433333333333332,11.766666666666666,13.1,11.766666666666666,10.433333333333334,9.1,8.5500000000000007,8,7.55,7.1,7.55,8,7.45,6.9,6.65,6.4,6.8000000000000007,7.2,6.2,5.2,4.55,3.9,2.9,1.9,0,0,0,0,0,0,0,0,0,0,0,0,0,0,0,0,0,0,0,0,0,0,{"$f":"BR196","v":0},0,0,0,0,0,0,0,0,0,0,0,0,0,0,0]
[null,null,null,2,null,{"$f":"E196","v":1.9},{"$f":"F196","v":2.9},{"$f":"G196","v":3.9},{"$f":"H196","v":4.55},{"$f":"I196","v":5.2},{"$f":"J196","v":6.2},{"$f":"K196","v":7.2},{"$f":"L196","v":6.8000000000000007},{"$f":"M196","v":6.4},{"$f":"N196","v":6.65},{"$f":"O196","v":6.9},{"$f":"P196","v":7.45},{"$f":"Q196","v":8},{"$f":"R196","v":7.55},{"$f":"S196","v":7.1},{"$f":"T196","v":7.55},{"$f":"U196","v":8},{"$f":"V196","v":8.5500000000000007},{"$f":"W196","v":9.1},{"$f":"X196","v":10.433333333333332},{"$f":"Y196","v":11.766666666666666},{"$f":"Z196","v":13.1},{"$f":"AA196","v":11.766666666666666},{"$f":"AB196","v":10.433333333333334},{"$f":"AC196","v":9.1},{"$f":"AD196","v":8.5500000000000007},{"$f":"AE196","v":8},{"$f":"AF196","v":7.55},{"$f":"AG196","v":7.1},{"$f":"AH196","v":7.55},{"$f":"AI196","v":8},{"$f":"AJ196","v":7.45},{"$f":"AK196","v":6.9},{"$f":"AL196","v":6.65},{"$f":"AM196","v":6.4},{"$f":"AN196","v":6.8000000000000007},{"$f":"AO196","v":7.2},{"$f":"AP196","v":6.2},{"$f":"AQ196","v":5.2},{"$f":"AR196","v":4.55},{"$f":"AS196","v":3.9},{"$f":"AT196","v":2.9},{"$f":"AU196","v":1.9},{"$f":"AV196","v":0},{"$f":"AW196","v":0},{"$f":"AX196","v":0},{"$f":"AY196","v":0},{"$f":"AZ196","v":0},{"$f":"BA196","v":0},{"$f":"BB196","v":0},{"$f":"BC196","v":0},{"$f":"BD196","v":0},{"$f":"BE196","v":0},{"$f":"BF196","v":0},{"$f":"BG196","v":0},{"$f":"BH196","v":0},{"$f":"BI196","v":0},{"$f":"BJ196","v":0},{"$f":"BK196","v":0},{"$f":"BL196","v":0},{"$f":"BM196","v":0},{"$f":"BN196","v":0},{"$f":"BO196","v":0},{"$f":"BP196","v":0},{"$f":"BQ196","v":0},{"$f":"BR196","v":0},{"$f":"BS196","v":0},{"$f":"BT196","v":0},{"$f":"BU196","v":0},{"$f":"BV196","v":0},{"$f":"BW196","v":0},{"$f":"BX196","v":0},{"$f":"BY196","v":0},{"$f":"BZ196","v":0},{"$f":"CA196","v":0},{"$f":"CB196","v":0},{"$f":"CC196","v":0},{"$f":"CD196","v":0},{"$f":"CE196","v":0},{"$f":"CF196","v":0},{"$f":"CG196","v":0}]
[null,null,null,3,null,null,{"$f":"E196","v":1.9},{"$f":"F196","v":2.9},{"$f":"G196","v":3.9},{"$f":"H196","v":4.55},{"$f":"I196","v":5.2},{"$f":"J196","v":6.2},{"$f":"K196","v":7.2},{"$f":"L196","v":6.8000000000000007},{"$f":"M196","v":6.4},{"$f":"N196","v":6.65},{"$f":"O196","v":6.9},{"$f":"P196","v":7.45},{"$f":"Q196","v":8},{"$f":"R196","v":7.55},{"$f":"S196","v":7.1},{"$f":"T196","v":7.55},{"$f":"U196","v":8},{"$f":"V196","v":8.5500000000000007},{"$f":"W196","v":9.1},{"$f":"X196","v":10.433333333333332},{"$f":"Y196","v":11.766666666666666},{"$f":"Z196","v":13.1},{"$f":"AA196","v":11.766666666666666},{"$f":"AB196","v":10.433333333333334},{"$f":"AC196","v":9.1},{"$f":"AD196","v":8.5500000000000007},{"$f":"AE196","v":8},{"$f":"AF196","v":7.55},{"$f":"AG196","v":7.1},{"$f":"AH196","v":7.55},{"$f":"AI196","v":8},{"$f":"AJ196","v":7.45},{"$f":"AK196","v":6.9},{"$f":"AL196","v":6.65},{"$f":"AM196","v":6.4},{"$f":"AN196","v":6.8000000000000007},{"$f":"AO196","v":7.2},{"$f":"AP196","v":6.2},{"$f":"AQ196","v":5.2},{"$f":"AR196","v":4.55},{"$f":"AS196","v":3.9},{"$f":"AT196","v":2.9},{"$f":"AU196","v":1.9},{"$f":"AV196","v":0},{"$f":"AW196","v":0},{"$f":"AX196","v":0},{"$f":"AY196","v":0},{"$f":"AZ196","v":0},{"$f":"BA196","v":0},{"$f":"BB196","v":0},{"$f":"BC196","v":0},{"$f":"BD196","v":0},{"$f":"BE196","v":0},{"$f":"BF196","v":0},{"$f":"BG196","v":0},{"$f":"BH196","v":0},{"$f":"BI196","v":0},{"$f":"BJ196","v":0},{"$f":"BK196","v":0},{"$f":"BL196","v":0},{"$f":"BM196","v":0},{"$f":"BN196","v":0},{"$f":"BO196","v":0},{"$f":"BP196","v":0},{"$f":"BQ196","v":0},{"$f":"BR196","v":0},{"$f":"BS196","v":0},{"$f":"BT196","v":0},{"$f":"BU196","v":0},{"$f":"BV196","v":0},{"$f":"BW196","v":0},{"$f":"BX196","v":0},{"$f":"BY196","v":0},{"$f":"BZ196","v":0},{"$f":"CA196","v":0},{"$f":"CB196","v":0},{"$f":"CC196","v":0},{"$f":"CD196","v":0},{"$f":"CE196","v":0},{"$f":"CF196","v":0},{"$f":"CG196","v":0}]
[null,null,null,4,null,null,null,{"$f":"E196","v":1.9},{"$f":"F196","v":2.9},{"$f":"G196","v":3.9},{"$f":"H196","v":4.55},{"$f":"I196","v":5.2},{"$f":"J196","v":6.2},{"$f":"K196","v":7.2},{"$f":"L196","v":6.8000000000000007},{"$f":"M196","v":6.4},{"$f":"N196","v":6.65},{"$f":"O196","v":6.9},{"$f":"P196","v":7.45},{"$f":"Q196","v":8},{"$f":"R196","v":7.55},{"$f":"S196","v":7.1},{"$f":"T196","v":7.55},{"$f":"U196","v":8},{"$f":"V196","v":8.5500000000000007},{"$f":"W196","v":9.1},{"$f":"X196","v":10.433333333333332},{"$f":"Y196","v":11.766666666666666},{"$f":"Z196","v":13.1},{"$f":"AA196","v":11.766666666666666},{"$f":"AB196","v":10.433333333333334},{"$f":"AC196","v":9.1},{"$f":"AD196","v":8.5500000000000007},{"$f":"AE196","v":8},{"$f":"AF196","v":7.55},{"$f":"AG196","v":7.1},{"$f":"AH196","v":7.55},{"$f":"AI196","v":8},{"$f":"AJ196","v":7.45},{"$f":"AK196","v":6.9},{"$f":"AL196","v":6.65},{"$f":"AM196","v":6.4},{"$f":"AN196","v":6.8000000000000007},{"$f":"AO196","v":7.2},{"$f":"AP196","v":6.2},{"$f":"AQ196","v":5.2},{"$f":"AR196","v":4.55},{"$f":"AS196","v":3.9},{"$f":"AT196","v":2.9},{"$f":"AU196","v":1.9},{"$f":"AV196","v":0},{"$f":"AW196","v":0},{"$f":"AX196","v":0},{"$f":"AY196","v":0},{"$f":"AZ196","v":0},{"$f":"BA196","v":0},{"$f":"BB196","v":0},{"$f":"BC196","v":0},{"$f":"BD196","v":0},{"$f":"BE196","v":0},{"$f":"BF196","v":0},{"$f":"BG196","v":0},{"$f":"BH196","v":0},{"$f":"BI196","v":0},{"$f":"BJ196","v":0},{"$f":"BK196","v":0},{"$f":"BL196","v":0},{"$f":"BM196","v":0},{"$f":"BN196","v":0},{"$f":"BO196","v":0},{"$f":"BP196","v":0},{"$f":"BQ196","v":0},{"$f":"BR196","v":0},{"$f":"BS196","v":0},{"$f":"BT196","v":0},{"$f":"BU196","v":0},{"$f":"BV196","v":0},{"$f":"BW196","v":0},{"$f":"BX196","v":0},{"$f":"BY196","v":0},{"$f":"BZ196","v":0},{"$f":"CA196","v":0},{"$f":"CB196","v":0},{"$f":"CC196","v":0},{"$f":"CD196","v":0},{"$f":"CE196","v":0},{"$f":"CF196","v":0},{"$f":"CG196","v":0}]
[null,null,null,5,null,null,null,null,{"$f":"E196","v":1.9},{"$f":"F196","v":2.9},{"$f":"G196","v":3.9},{"$f":"H196","v":4.55},{"$f":"I196","v":5.2},{"$f":"J196","v":6.2},{"$f":"K196","v":7.2},{"$f":"L196","v":6.8000000000000007},{"$f":"M196","v":6.4},{"$f":"N196","v":6.65},{"$f":"O196","v":6.9},{"$f":"P196","v":7.45},{"$f":"Q196","v":8},{"$f":"R196","v":7.55},{"$f":"S196","v":7.1},{"$f":"T196","v":7.55},{"$f":"U196","v":8},{"$f":"V196","v":8.5500000000000007},{"$f":"W196","v":9.1},{"$f":"X196","v":10.433333333333332},{"$f":"Y196","v":11.766666666666666},{"$f":"Z196","v":13.1},{"$f":"AA196","v":11.766666666666666},{"$f":"AB196","v":10.433333333333334},{"$f":"AC196","v":9.1},{"$f":"AD196","v":8.5500000000000007},{"$f":"AE196","v":8},{"$f":"AF196","v":7.55},{"$f":"AG196","v":7.1},{"$f":"AH196","v":7.55},{"$f":"AI196","v":8},{"$f":"AJ196","v":7.45},{"$f":"AK196","v":6.9},{"$f":"AL196","v":6.65},{"$f":"AM196","v":6.4},{"$f":"AN196","v":6.8000000000000007},{"$f":"AO196","v":7.2},{"$f":"AP196","v":6.2},{"$f":"AQ196","v":5.2},{"$f":"AR196","v":4.55},{"$f":"AS196","v":3.9},{"$f":"AT196","v":2.9},{"$f":"AU196","v":1.9},{"$f":"AV196","v":0},{"$f":"AW196","v":0},{"$f":"AX196","v":0},{"$f":"AY196","v":0},{"$f":"AZ196","v":0},{"$f":"BA196","v":0},{"$f":"BB196","v":0},{"$f":"BC196","v":0},{"$f":"BD196","v":0},{"$f":"BE196","v":0},{"$f":"BF196","v":0},{"$f":"BG196","v":0},{"$f":"BH196","v":0},{"$f":"BI196","v":0},{"$f":"BJ196","v":0},{"$f":"BK196","v":0},{"$f":"BL196","v":0},{"$f":"BM196","v":0},{"$f":"BN196","v":0},{"$f":"BO196","v":0},{"$f":"BP196","v":0},{"$f":"BQ196","v":0},{"$f":"BR196","v":0},{"$f":"BS196","v":0},{"$f":"BT196","v":0},{"$f":"BU196","v":0},{"$f":"BV196","v":0},{"$f":"BW196","v":0},{"$f":"BX196","v":0},{"$f":"BY196","v":0},{"$f":"BZ196","v":0},{"$f":"CA196","v":0},{"$f":"CB196","v":0},{"$f":"CC196","v":0},{"$f":"CD196","v":0},{"$f":"CE196","v":0},{"$f":"CF196","v":0},{"$f":"CG196","v":0}]
[null,null,null,6,null,null,null,null,null,{"$f":"E196","v":1.9},{"$f":"F196","v":2.9},{"$f":"G196","v":3.9},{"$f":"H196","v":4.55},{"$f":"I196","v":5.2},{"$f":"J196","v":6.2},{"$f":"K196","v":7.2},{"$f":"L196","v":6.8000000000000007},{"$f":"M196","v":6.4},{"$f":"N196","v":6.65},{"$f":"O196","v":6.9},{"$f":"P196","v":7.45},{"$f":"Q196","v":8},{"$f":"R196","v":7.55},{"$f":"S196","v":7.1},{"$f":"T196","v":7.55},{"$f":"U196","v":8},{"$f":"V196","v":8.5500000000000007},{"$f":"W196","v":9.1},{"$f":"X196","v":10.433333333333332},{"$f":"Y196","v":11.766666666666666},{"$f":"Z196","v":13.1},{"$f":"AA196","v":11.766666666666666},{"$f":"AB196","v":10.433333333333334},{"$f":"AC196","v":9.1},{"$f":"AD196","v":8.5500000000000007},{"$f":"AE196","v":8},{"$f":"AF196","v":7.55},{"$f":"AG196","v":7.1},{"$f":"AH196","v":7.55},{"$f":"AI196","v":8},{"$f":"AJ196","v":7.45},{"$f":"AK196","v":6.9},{"$f":"AL196","v":6.65},{"$f":"AM196","v":6.4},{"$f":"AN196","v":6.8000000000000007},{"$f":"AO196","v":7.2},{"$f":"AP196","v":6.2},{"$f":"AQ196","v":5.2},{"$f":"AR196","v":4.55},{"$f":"AS196","v":3.9},{"$f":"AT196","v":2.9},{"$f":"AU196","v":1.9},{"$f":"AV196","v":0},{"$f":"AW196","v":0},{"$f":"AX196","v":0},{"$f":"AY196","v":0},{"$f":"AZ196","v":0},{"$f":"BA196","v":0},{"$f":"BB196","v":0},{"$f":"BC196","v":0},{"$f":"BD196","v":0},{"$f":"BE196","v":0},{"$f":"BF196","v":0},{"$f":"BG196","v":0},{"$f":"BH196","v":0},{"$f":"BI196","v":0},{"$f":"BJ196","v":0},{"$f":"BK196","v":0},{"$f":"BL196","v":0},{"$f":"BM196","v":0},{"$f":"BN196","v":0},{"$f":"BO196","v":0},{"$f":"BP196","v":0},{"$f":"BQ196","v":0},{"$f":"BR196","v":0},{"$f":"BS196","v":0},{"$f":"BT196","v":0},{"$f":"BU196","v":0},{"$f":"BV196","v":0},{"$f":"BW196","v":0},{"$f":"BX196","v":0},{"$f":"BY196","v":0},{"$f":"BZ196","v":0},{"$f":"CA196","v":0},{"$f":"CB196","v":0},{"$f":"CC196","v":0},{"$f":"CD196","v":0},{"$f":"CE196","v":0},{"$f":"CF196","v":0},{"$f":"CG196","v":0}]
[null,null,null,7,null,null,null,null,null,null,{"$f":"E196","v":1.9},{"$f":"F196","v":2.9},{"$f":"G196","v":3.9},{"$f":"H196","v":4.55},{"$f":"I196","v":5.2},{"$f":"J196","v":6.2},{"$f":"K196","v":7.2},{"$f":"L196","v":6.8000000000000007},{"$f":"M196","v":6.4},{"$f":"N196","v":6.65},{"$f":"O196","v":6.9},{"$f":"P196","v":7.45},{"$f":"Q196","v":8},{"$f":"R196","v":7.55},{"$f":"S196","v":7.1},{"$f":"T196","v":7.55},{"$f":"U196","v":8},{"$f":"V196","v":8.5500000000000007},{"$f":"W196","v":9.1},{"$f":"X196","v":10.433333333333332},{"$f":"Y196","v":11.766666666666666},{"$f":"Z196","v":13.1},{"$f":"AA196","v":11.766666666666666},{"$f":"AB196","v":10.433333333333334},{"$f":"AC196","v":9.1},{"$f":"AD196","v":8.5500000000000007},{"$f":"AE196","v":8},{"$f":"AF196","v":7.55},{"$f":"AG196","v":7.1},{"$f":"AH196","v":7.55},{"$f":"AI196","v":8},{"$f":"AJ196","v":7.45},{"$f":"AK196","v":6.9},{"$f":"AL196","v":6.65},{"$f":"AM196","v":6.4},{"$f":"AN196","v":6.8000000000000007},{"$f":"AO196","v":7.2},{"$f":"AP196","v":6.2},{"$f":"AQ196","v":5.2},{"$f":"AR196","v":4.55},{"$f":"AS196","v":3.9},{"$f":"AT196","v":2.9},{"$f":"AU196","v":1.9},{"$f":"AV196","v":0},{"$f":"AW196","v":0},{"$f":"AX196","v":0},{"$f":"AY196","v":0},{"$f":"AZ196","v":0},{"$f":"BA196","v":0},{"$f":"BB196","v":0},{"$f":"BC196","v":0},{"$f":"BD196","v":0},{"$f":"BE196","v":0},{"$f":"BF196","v":0},{"$f":"BG196","v":0},{"$f":"BH196","v":0},{"$f":"BI196","v":0},{"$f":"BJ196","v":0},{"$f":"BK196","v":0},{"$f":"BL196","v":0},{"$f":"BM196","v":0},{"$f":"BN196","v":0},{"$f":"BO196","v":0},{"$f":"BP196","v":0},{"$f":"BQ196","v":0},{"$f":"BR196","v":0},{"$f":"BS196","v":0},{"$f":"BT196","v":0},{"$f":"BU196","v":0},{"$f":"BV196","v":0},{"$f":"BW196","v":0},{"$f":"BX196","v":0},{"$f":"BY196","v":0},{"$f":"BZ196","v":0},{"$f":"CA196","v":0},{"$f":"CB196","v":0},{"$f":"CC196","v":0},{"$f":"CD196","v":0},{"$f":"CE196","v":0},{"$f":"CF196","v":0},{"$f":"CG196","v":0}]
[null,null,null,8,null,null,null,null,null,null,null,{"$f":"E196","v":1.9},{"$f":"F196","v":2.9},{"$f":"G196","v":3.9},{"$f":"H196","v":4.55},{"$f":"I196","v":5.2},{"$f":"J196","v":6.2},{"$f":"K196","v":7.2},{"$f":"L196","v":6.8000000000000007},{"$f":"M196","v":6.4},{"$f":"N196","v":6.65},{"$f":"O196","v":6.9},{"$f":"P196","v":7.45},{"$f":"Q196","v":8},{"$f":"R196","v":7.55},{"$f":"S196","v":7.1},{"$f":"T196","v":7.55},{"$f":"U196","v":8},{"$f":"V196","v":8.5500000000000007},{"$f":"W196","v":9.1},{"$f":"X196","v":10.433333333333332},{"$f":"Y196","v":11.766666666666666},{"$f":"Z196","v":13.1},{"$f":"AA196","v":11.766666666666666},{"$f":"AB196","v":10.433333333333334},{"$f":"AC196","v":9.1},{"$f":"AD196","v":8.5500000000000007},{"$f":"AE196","v":8},{"$f":"AF196","v":7.55},{"$f":"AG196","v":7.1},{"$f":"AH196","v":7.55},{"$f":"AI196","v":8},{"$f":"AJ196","v":7.45},{"$f":"AK196","v":6.9},{"$f":"AL196","v":6.65},{"$f":"AM196","v":6.4},{"$f":"AN196","v":6.8000000000000007},{"$f":"AO196","v":7.2},{"$f":"AP196","v":6.2},{"$f":"AQ196","v":5.2},{"$f":"AR196","v":4.55},{"$f":"AS196","v":3.9},{"$f":"AT196","v":2.9},{"$f":"AU196","v":1.9},{"$f":"AV196","v":0},{"$f":"AW196","v":0},{"$f":"AX196","v":0},{"$f":"AY196","v":0},{"$f":"AZ196","v":0},{"$f":"BA196","v":0},{"$f":"BB196","v":0},{"$f":"BC196","v":0},{"$f":"BD196","v":0},{"$f":"BE196","v":0},{"$f":"BF196","v":0},{"$f":"BG196","v":0},{"$f":"BH196","v":0},{"$f":"BI196","v":0},{"$f":"BJ196","v":0},{"$f":"BK196","v":0},{"$f":"BL196","v":0},{"$f":"BM196","v":0},{"$f":"BN196","v":0},{"$f":"BO196","v":0},{"$f":"BP196","v":0},{"$f":"BQ196","v":0},{"$f":"BR196","v":0},{"$f":"BS196","v":0},{"$f":"BT196","v":0},{"$f":"BU196","v":0},{"$f":"BV196","v":0},{"$f":"BW196","v":0},{"$f":"BX196","v":0},{"$f":"BY196","v":0},{"$f":"BZ196","v":0},{"$f":"CA196","v":0},{"$f":"CB196","v":0},{"$f":"CC196","v":0},{"$f":"CD196","v":0},{"$f":"CE196","v":0},{"$f":"CF196","v":0},{"$f":"CG196","v":0}]
[null,null,null,9,null,null,null,null,null,null,null,null,{"$f":"E196","v":1.9},{"$f":"F196","v":2.9},{"$f":"G196","v":3.9},{"$f":"H196","v":4.55},{"$f":"I196","v":5.2},{"$f":"J196","v":6.2},{"$f":"K196","v":7.2},{"$f":"L196","v":6.8000000000000007},{"$f":"M196","v":6.4},{"$f":"N196","v":6.65},{"$f":"O196","v":6.9},{"$f":"P196","v":7.45},{"$f":"Q196","v":8},{"$f":"R196","v":7.55},{"$f":"S196","v":7.1},{"$f":"T196","v":7.55},{"$f":"U196","v":8},{"$f":"V196","v":8.5500000000000007},{"$f":"W196","v":9.1},{"$f":"X196","v":10.433333333333332},{"$f":"Y196","v":11.766666666666666},{"$f":"Z196","v":13.1},{"$f":"AA196","v":11.766666666666666},{"$f":"AB196","v":10.433333333333334},{"$f":"AC196","v":9.1},{"$f":"AD196","v":8.5500000000000007},{"$f":"AE196","v":8},{"$f":"AF196","v":7.55},{"$f":"AG196","v":7.1},{"$f":"AH196","v":7.55},{"$f":"AI196","v":8},{"$f":"AJ196","v":7.45},{"$f":"AK196","v":6.9},{"$f":"AL196","v":6.65},{"$f":"AM196","v":6.4},{"$f":"AN196","v":6.8000000000000007},{"$f":"AO196","v":7.2},{"$f":"AP196","v":6.2},{"$f":"AQ196","v":5.2},{"$f":"AR196","v":4.55},{"$f":"AS196","v":3.9},{"$f":"AT196","v":2.9},{"$f":"AU196","v":1.9},{"$f":"AV196","v":0},{"$f":"AW196","v":0},{"$f":"AX196","v":0},{"$f":"AY196","v":0},{"$f":"AZ196","v":0},{"$f":"BA196","v":0},{"$f":"BB196","v":0},{"$f":"BC196","v":0},{"$f":"BD196","v":0},{"$f":"BE196","v":0},{"$f":"BF196","v":0},{"$f":"BG196","v":0},{"$f":"BH196","v":0},{"$f":"BI196","v":0},{"$f":"BJ196","v":0},{"$f":"BK196","v":0},{"$f":"BL196","v":0},{"$f":"BM196","v":0},{"$f":"BN196","v":0},{"$f":"BO196","v":0},{"$f":"BP196","v":0},{"$f":"BQ196","v":0},{"$f":"BR196","v":0},{"$f":"BS196","v":0},{"$f":"BT196","v":0},{"$f":"BU196","v":0},{"$f":"BV196","v":0},{"$f":"BW196","v":0},{"$f":"BX196","v":0},{"$f":"BY196","v":0},{"$f":"BZ196","v":0},{"$f":"CA196","v":0},{"$f":"CB196","v":0},{"$f":"CC196","v":0},{"$f":"CD196","v":0},{"$f":"CE196","v":0},{"$f":"CF196","v":0},{"$f":"CG196","v":0}]
[null,null,null,10,null,null,null,null,null,null,null,null,null,{"$f":"E196","v":1.9},{"$f":"F196","v":2.9},{"$f":"G196","v":3.9},{"$f":"H196","v":4.55},{"$f":"I196","v":5.2},{"$f":"J196","v":6.2},{"$f":"K196","v":7.2},{"$f":"L196","v":6.8000000000000007},{"$f":"M196","v":6.4},{"$f":"N196","v":6.65},{"$f":"O196","v":6.9},{"$f":"P196","v":7.45},{"$f":"Q196","v":8},{"$f":"R196","v":7.55},{"$f":"S196","v":7.1},{"$f":"T196","v":7.55},{"$f":"U196","v":8},{"$f":"V196","v":8.5500000000000007},{"$f":"W196","v":9.1},{"$f":"X196","v":10.433333333333332},{"$f":"Y196","v":11.766666666666666},{"$f":"Z196","v":13.1},{"$f":"AA196","v":11.766666666666666},{"$f":"AB196","v":10.433333333333334},{"$f":"AC196","v":9.1},{"$f":"AD196","v":8.5500000000000007},{"$f":"AE196","v":8},{"$f":"AF196","v":7.55},{"$f":"AG196","v":7.1},{"$f":"AH196","v":7.55},{"$f":"AI196","v":8},{"$f":"AJ196","v":7.45},{"$f":"AK196","v":6.9},{"$f":"AL196","v":6.65},{"$f":"AM196","v":6.4},{"$f":"AN196","v":6.8000000000000007},{"$f":"AO196","v":7.2},{"$f":"AP196","v":6.2},{"$f":"AQ196","v":5.2},{"$f":"AR196","v":4.55},{"$f":"AS196","v":3.9},{"$f":"AT196","v":2.9},{"$f":"AU196","v":1.9},{"$f":"AV196","v":0},{"$f":"AW196","v":0},{"$f":"AX196","v":0},{"$f":"AY196","v":0},{"$f":"AZ196","v":0},{"$f":"BA196","v":0},{"$f":"BB196","v":0},{"$f":"BC196","v":0},{"$f":"BD196","v":0},{"$f":"BE196","v":0},{"$f":"BF196","v":0},{"$f":"BG196","v":0},{"$f":"BH196","v":0},{"$f":"BI196","v":0},{"$f":"BJ196","v":0},{"$f":"BK196","v":0},{"$f":"BL196","v":0},{"$f":"BM196","v":0},{"$f":"BN196","v":0},{"$f":"BO196","v":0},{"$f":"BP196","v":0},{"$f":"BQ196","v":0},{"$f":"BR196","v":0},{"$f":"BS196","v":0},{"$f":"BT196","v":0},{"$f":"BU196","v":0},{"$f":"BV196","v":0},{"$f":"BW196","v":0},{"$f":"BX196","v":0},{"$f":"BY196","v":0},{"$f":"BZ196","v":0},{"$f":"CA196","v":0},{"$f":"CB196","v":0},{"$f":"CC196","v":0},{"$f":"CD196","v":0},{"$f":"CE196","v":0},{"$f":"CF196","v":0},{"$f":"CG196","v":0}]
[null,null,null,11,null,null,null,null,null,null,null,null,null,null,{"$f":"E196","v":1.9},{"$f":"F196","v":2.9},{"$f":"G196","v":3.9},{"$f":"H196","v":4.55},{"$f":"I196","v":5.2},{"$f":"J196","v":6.2},{"$f":"K196","v":7.2},{"$f":"L196","v":6.8000000000000007},{"$f":"M196","v":6.4},{"$f":"N196","v":6.65},{"$f":"O196","v":6.9},{"$f":"P196","v":7.45},{"$f":"Q196","v":8},{"$f":"R196","v":7.55},{"$f":"S196","v":7.1},{"$f":"T196","v":7.55},{"$f":"U196","v":8},{"$f":"V196","v":8.5500000000000007},{"$f":"W196","v":9.1},{"$f":"X196","v":10.433333333333332},{"$f":"Y196","v":11.766666666666666},{"$f":"Z196","v":13.1},{"$f":"AA196","v":11.766666666666666},{"$f":"AB196","v":10.433333333333334},{"$f":"AC196","v":9.1},{"$f":"AD196","v":8.5500000000000007},{"$f":"AE196","v":8},{"$f":"AF196","v":7.55},{"$f":"AG196","v":7.1},{"$f":"AH196","v":7.55},{"$f":"AI196","v":8},{"$f":"AJ196","v":7.45},{"$f":"AK196","v":6.9},{"$f":"AL196","v":6.65},{"$f":"AM196","v":6.4},{"$f":"AN196","v":6.8000000000000007},{"$f":"AO196","v":7.2},{"$f":"AP196","v":6.2},{"$f":"AQ196","v":5.2},{"$f":"AR196","v":4.55},{"$f":"AS196","v":3.9},{"$f":"AT196","v":2.9},{"$f":"AU196","v":1.9},{"$f":"AV196","v":0},{"$f":"AW196","v":0},{"$f":"AX196","v":0},{"$f":"AY196","v":0},{"$f":"AZ196","v":0},{"$f":"BA196","v":0},{"$f":"BB196","v":0},{"$f":"BC196","v":0},{"$f":"BD196","v":0},{"$f":"BE196","v":0},{"$f":"BF196","v":0},{"$f":"BG196","v":0},{"$f":"BH196","v":0},{"$f":"BI196","v":0},{"$f":"BJ196","v":0},{"$f":"BK196","v":0},{"$f":"BL196","v":0},{"$f":"BM196","v":0},{"$f":"BN196","v":0},{"$f":"BO196","v":0},{"$f":"BP196","v":0},{"$f":"BQ196","v":0},{"$f":"BR196","v":0},{"$f":"BS196","v":0},{"$f":"BT196","v":0},{"$f":"BU196","v":0},{"$f":"BV196","v":0},{"$f":"BW196","v":0},{"$f":"BX196","v":0},{"$f":"BY196","v":0},{"$f":"BZ196","v":0},{"$f":"CA196","v":0},{"$f":"CB196","v":0},{"$f":"CC196","v":0},{"$f":"CD196","v":0},{"$f":"CE196","v":0},{"$f":"CF196","v":0},{"$f":"CG196","v":0}]
[null,null,null,12,null,null,null,null,null,null,null,null,null,null,null,{"$f":"E196","v":1.9},{"$f":"F196","v":2.9},{"$f":"G196","v":3.9},{"$f":"H196","v":4.55},{"$f":"I196","v":5.2},{"$f":"J196","v":6.2},{"$f":"K196","v":7.2},{"$f":"L196","v":6.8000000000000007},{"$f":"M196","v":6.4},{"$f":"N196","v":6.65},{"$f":"O196","v":6.9},{"$f":"P196","v":7.45},{"$f":"Q196","v":8},{"$f":"R196","v":7.55},{"$f":"S196","v":7.1},{"$f":"T196","v":7.55},{"$f":"U196","v":8},{"$f":"V196","v":8.5500000000000007},{"$f":"W196","v":9.1},{"$f":"X196","v":10.433333333333332},{"$f":"Y196","v":11.766666666666666},{"$f":"Z196","v":13.1},{"$f":"AA196","v":11.766666666666666},{"$f":"AB196","v":10.433333333333334},{"$f":"AC196","v":9.1},{"$f":"AD196","v":8.5500000000000007},{"$f":"AE196","v":8},{"$f":"AF196","v":7.55},{"$f":"AG196","v":7.1},{"$f":"AH196","v":7.55},{"$f":"AI196","v":8},{"$f":"AJ196","v":7.45},{"$f":"AK196","v":6.9},{"$f":"AL196","v":6.65},{"$f":"AM196","v":6.4},{"$f":"AN196","v":6.8000000000000007},{"$f":"AO196","v":7.2},{"$f":"AP196","v":6.2},{"$f":"AQ196","v":5.2},{"$f":"AR196","v":4.55},{"$f":"AS196","v":3.9},{"$f":"AT196","v":2.9},{"$f":"AU196","v":1.9},{"$f":"AV196","v":0},{"$f":"AW196","v":0},{"$f":"AX196","v":0},{"$f":"AY196","v":0},{"$f":"AZ196","v":0},{"$f":"BA196","v":0},{"$f":"BB196","v":0},{"$f":"BC196","v":0},{"$f":"BD196","v":0},{"$f":"BE196","v":0},{"$f":"BF196","v":0},{"$f":"BG196","v":0},{"$f":"BH196","v":0},{"$f":"BI196","v":0},{"$f":"BJ196","v":0},{"$f":"BK196","v":0},{"$f":"BL196","v":0},{"$f":"BM196","v":0},{"$f":"BN196","v":0},{"$f":"BO196","v":0},{"$f":"BP196","v":0},{"$f":"BQ196","v":0},{"$f":"BR196","v":0},{"$f":"BS196","v":0},{"$f":"BT196","v":0},{"$f":"BU196","v":0},{"$f":"BV196","v":0},{"$f":"BW196","v":0},{"$f":"BX196","v":0},{"$f":"BY196","v":0},{"$f":"BZ196","v":0},{"$f":"CA196","v":0},{"$f":"CB196","v":0},{"$f":"CC196","v":0},{"$f":"CD196","v":0},{"$f":"CE196","v":0},{"$f":"CF196","v":0},{"$f":"CG196","v":0}]
[null,null,null,13,null,null,null,null,null,null,null,null,null,null,null,null,{"$f":"E196","v":1.9},{"$f":"F196","v":2.9},{"$f":"G196","v":3.9},{"$f":"H196","v":4.55},{"$f":"I196","v":5.2},{"$f":"J196","v":6.2},{"$f":"K196","v":7.2},{"$f":"L196","v":6.8000000000000007},{"$f":"M196","v":6.4},{"$f":"N196","v":6.65},{"$f":"O196","v":6.9},{"$f":"P196","v":7.45},{"$f":"Q196","v":8},{"$f":"R196","v":7.55},{"$f":"S196","v":7.1},{"$f":"T196","v":7.55},{"$f":"U196","v":8},{"$f":"V196","v":8.5500000000000007},{"$f":"W196","v":9.1},{"$f":"X196","v":10.433333333333332},{"$f":"Y196","v":11.766666666666666},{"$f":"Z196","v":13.1},{"$f":"AA196","v":11.766666666666666},{"$f":"AB196","v":10.433333333333334},{"$f":"AC196","v":9.1},{"$f":"AD196","v":8.5500000000000007},{"$f":"AE196","v":8},{"$f":"AF196","v":7.55},{"$f":"AG196","v":7.1},{"$f":"AH196","v":7.55},{"$f":"AI196","v":8},{"$f":"AJ196","v":7.45},{"$f":"AK196","v":6.9},{"$f":"AL196","v":6.65},{"$f":"AM196","v":6.4},{"$f":"AN196","v":6.8000000000000007},{"$f":"AO196","v":7.2},{"$f":"AP196","v":6.2},{"$f":"AQ196","v":5.2},{"$f":"AR196","v":4.55},{"$f":"AS196","v":3.9},{"$f":"AT196","v":2.9},{"$f":"AU196","v":1.9},{"$f":"AV196","v":0},{"$f":"AW196","v":0},{"$f":"AX196","v":0},{"$f":"AY196","v":0},{"$f":"AZ196","v":0},{"$f":"BA196","v":0},{"$f":"BB196","v":0},{"$f":"BC196","v":0},{"$f":"BD196","v":0},{"$f":"BE196","v":0},{"$f":"BF196","v":0},{"$f":"BG196","v":0},{"$f":"BH196","v":0},{"$f":"BI196","v":0},{"$f":"BJ196","v":0},{"$f":"BK196","v":0},{"$f":"BL196","v":0},{"$f":"BM196","v":0},{"$f":"BN196","v":0},{"$f":"BO196","v":0},{"$f":"BP196","v":0},{"$f":"BQ196","v":0},{"$f":"BR196","v":0},{"$f":"BS196","v":0},{"$f":"BT196","v":0},{"$f":"BU196","v":0},{"$f":"BV196","v":0},{"$f":"BW196","v":0},{"$f":"BX196","v":0},{"$f":"BY196","v":0},{"$f":"BZ196","v":0},{"$f":"CA196","v":0},{"$f":"CB196","v":0},{"$f":"CC196","v":0},{"$f":"CD196","v":0},{"$f":"CE196","v":0},{"$f":"CF196","v":0},{"$f":"CG196","v":0}]
[null,null,null,14,null,null,null,null,null,null,null,null,null,null,null,null,null,{"$f":"E196","v":1.9},{"$f":"F196","v":2.9},{"$f":"G196","v":3.9},{"$f":"H196","v":4.55},{"$f":"I196","v":5.2},{"$f":"J196","v":6.2},{"$f":"K196","v":7.2},{"$f":"L196","v":6.8000000000000007},{"$f":"M196","v":6.4},{"$f":"N196","v":6.65},{"$f":"O196","v":6.9},{"$f":"P196","v":7.45},{"$f":"Q196","v":8},{"$f":"R196","v":7.55},{"$f":"S196","v":7.1},{"$f":"T196","v":7.55},{"$f":"U196","v":8},{"$f":"V196","v":8.5500000000000007},{"$f":"W196","v":9.1},{"$f":"X196","v":10.433333333333332},{"$f":"Y196","v":11.766666666666666},{"$f":"Z196","v":13.1},{"$f":"AA196","v":11.766666666666666},{"$f":"AB196","v":10.433333333333334},{"$f":"AC196","v":9.1},{"$f":"AD196","v":8.5500000000000007},{"$f":"AE196","v":8},{"$f":"AF196","v":7.55},{"$f":"AG196","v":7.1},{"$f":"AH196","v":7.55},{"$f":"AI196","v":8},{"$f":"AJ196","v":7.45},{"$f":"AK196","v":6.9},{"$f":"AL196","v":6.65},{"$f":"AM196","v":6.4},{"$f":"AN196","v":6.8000000000000007},{"$f":"AO196","v":7.2},{"$f":"AP196","v":6.2},{"$f":"AQ196","v":5.2},{"$f":"AR196","v":4.55},{"$f":"AS196","v":3.9},{"$f":"AT196","v":2.9},{"$f":"AU196","v":1.9},{"$f":"AV196","v":0},{"$f":"AW196","v":0},{"$f":"AX196","v":0},{"$f":"AY196","v":0},{"$f":"AZ196","v":0},{"$f":"BA196","v":0},{"$f":"BB196","v":0},{"$f":"BC196","v":0},{"$f":"BD196","v":0},{"$f":"BE196","v":0},{"$f":"BF196","v":0},{"$f":"BG196","v":0},{"$f":"BH196","v":0},{"$f":"BI196","v":0},{"$f":"BJ196","v":0},{"$f":"BK196","v":0},{"$f":"BL196","v":0},{"$f":"BM196","v":0},{"$f":"BN196","v":0},{"$f":"BO196","v":0},{"$f":"BP196","v":0},{"$f":"BQ196","v":0},{"$f":"BR196","v":0},{"$f":"BS196","v":0},{"$f":"BT196","v":0},{"$f":"BU196","v":0},{"$f":"BV196","v":0},{"$f":"BW196","v":0},{"$f":"BX196","v":0},{"$f":"BY196","v":0},{"$f":"BZ196","v":0},{"$f":"CA196","v":0},{"$f":"CB196","v":0},{"$f":"CC196","v":0},{"$f":"CD196","v":0},{"$f":"CE196","v":0},{"$f":"CF196","v":0},{"$f":"CG196","v":0}]
[null,null,null,15,null,null,null,null,null,null,null,null,null,null,null,null,null,null,{"$f":"E196","v":1.9},{"$f":"F196","v":2.9},{"$f":"G196","v":3.9},{"$f":"H196","v":4.55},{"$f":"I196","v":5.2},{"$f":"J196","v":6.2},{"$f":"K196","v":7.2},{"$f":"L196","v":6.8000000000000007},{"$f":"M196","v":6.4},{"$f":"N196","v":6.65},{"$f":"O196","v":6.9},{"$f":"P196","v":7.45},{"$f":"Q196","v":8},{"$f":"R196","v":7.55},{"$f":"S196","v":7.1},{"$f":"T196","v":7.55},{"$f":"U196","v":8},{"$f":"V196","v":8.5500000000000007},{"$f":"W196","v":9.1},{"$f":"X196","v":10.433333333333332},{"$f":"Y196","v":11.766666666666666},{"$f":"Z196","v":13.1},{"$f":"AA196","v":11.766666666666666},{"$f":"AB196","v":10.433333333333334},{"$f":"AC196","v":9.1},{"$f":"AD196","v":8.5500000000000007},{"$f":"AE196","v":8},{"$f":"AF196","v":7.55},{"$f":"AG196","v":7.1},{"$f":"AH196","v":7.55},{"$f":"AI196","v":8},{"$f":"AJ196","v":7.45},{"$f":"AK196","v":6.9},{"$f":"AL196","v":6.65},{"$f":"AM196","v":6.4},{"$f":"AN196","v":6.8000000000000007},{"$f":"AO196","v":7.2},{"$f":"AP196","v":6.2},{"$f":"AQ196","v":5.2},{"$f":"AR196","v":4.55},{"$f":"AS196","v":3.9},{"$f":"AT196","v":2.9},{"$f":"AU196","v":1.9},{"$f":"AV196","v":0},{"$f":"AW196","v":0},{"$f":"AX196","v":0},{"$f":"AY196","v":0},{"$f":"AZ196","v":0},{"$f":"BA196","v":0},{"$f":"BB196","v":0},{"$f":"BC196","v":0},{"$f":"BD196","v":0},{"$f":"BE196","v":0},{"$f":"BF196","v":0},{"$f":"BG196","v":0},{"$f":"BH196","v":0},{"$f":"BI196","v":0},{"$f":"BJ196","v":0},{"$f":"BK196","v":0},{"$f":"BL196","v":0},{"$f":"BM196","v":0},{"$f":"BN196","v":0},{"$f":"BO196","v":0},{"$f":"BP196","v":0},{"$f":"BQ196","v":0},{"$f":"BR196","v":0},{"$f":"BS196","v":0},{"$f":"BT196","v":0},{"$f":"BU196","v":0},{"$f":"BV196","v":0},{"$f":"BW196","v":0},{"$f":"BX196","v":0},{"$f":"BY196","v":0},{"$f":"BZ196","v":0},{"$f":"CA196","v":0},{"$f":"CB196","v":0},{"$f":"CC196","v":0},{"$f":"CD196","v":0},{"$f":"CE196","v":0},{"$f":"CF196","v":0},{"$f":"CG196","v":0}]
[null,null,null,16,null,null,null,null,null,null,null,null,null,null,null,null,null,null,null,{"$f":"E196","v":1.9},{"$f":"F196","v":2.9},{"$f":"G196","v":3.9},{"$f":"H196","v":4.55},{"$f":"I196","v":5.2},{"$f":"J196","v":6.2},{"$f":"K196","v":7.2},{"$f":"L196","v":6.8000000000000007},{"$f":"M196","v":6.4},{"$f":"N196","v":6.65},{"$f":"O196","v":6.9},{"$f":"P196","v":7.45},{"$f":"Q196","v":8},{"$f":"R196","v":7.55},{"$f":"S196","v":7.1},{"$f":"T196","v":7.55},{"$f":"U196","v":8},{"$f":"V196","v":8.5500000000000007},{"$f":"W196","v":9.1},{"$f":"X196","v":10.433333333333332},{"$f":"Y196","v":11.766666666666666},{"$f":"Z196","v":13.1},{"$f":"AA196","v":11.766666666666666},{"$f":"AB196","v":10.433333333333334},{"$f":"AC196","v":9.1},{"$f":"AD196","v":8.5500000000000007},{"$f":"AE196","v":8},{"$f":"AF196","v":7.55},{"$f":"AG196","v":7.1},{"$f":"AH196","v":7.55},{"$f":"AI196","v":8},{"$f":"AJ196","v":7.45},{"$f":"AK196","v":6.9},{"$f":"AL196","v":6.65},{"$f":"AM196","v":6.4},{"$f":"AN196","v":6.8000000000000007},{"$f":"AO196","v":7.2},{"$f":"AP196","v":6.2},{"$f":"AQ196","v":5.2},{"$f":"AR196","v":4.55},{"$f":"AS196","v":3.9},{"$f":"AT196","v":2.9},{"$f":"AU196","v":1.9},{"$f":"AV196","v":0},{"$f":"AW196","v":0},{"$f":"AX196","v":0},{"$f":"AY196","v":0},{"$f":"AZ196","v":0},{"$f":"BA196","v":0},{"$f":"BB196","v":0},{"$f":"BC196","v":0},{"$f":"BD196","v":0},{"$f":"BE196","v":0},{"$f":"BF196","v":0},{"$f":"BG196","v":0},{"$f":"BH196","v":0},{"$f":"BI196","v":0},{"$f":"BJ196","v":0},{"$f":"BK196","v":0},{"$f":"BL196","v":0},{"$f":"BM196","v":0},{"$f":"BN196","v":0},{"$f":"BO196","v":0},{"$f":"BP196","v":0},{"$f":"BQ196","v":0},{"$f":"BR196","v":0},{"$f":"BS196","v":0},{"$f":"BT196","v":0},{"$f":"BU196","v":0},{"$f":"BV196","v":0},{"$f":"BW196","v":0},{"$f":"BX196","v":0},{"$f":"BY196","v":0},{"$f":"BZ196","v":0},{"$f":"CA196","v":0},{"$f":"CB196","v":0},{"$f":"CC196","v":0},{"$f":"CD196","v":0},{"$f":"CE196","v":0},{"$f":"CF196","v":0},{"$f":"CG196","v":0}]
[null,null,null,17,null,null,null,null,null,null,null,null,null,null,null,null,null,null,null,null,{"$f":"E196","v":1.9},{"$f":"F196","v":2.9},{"$f":"G196","v":3.9},{"$f":"H196","v":4.55},{"$f":"I196","v":5.2},{"$f":"J196","v":6.2},{"$f":"K196","v":7.2},{"$f":"L196","v":6.8000000000000007},{"$f":"M196","v":6.4},{"$f":"N196","v":6.65},{"$f":"O196","v":6.9},{"$f":"P196","v":7.45},{"$f":"Q196","v":8},{"$f":"R196","v":7.55},{"$f":"S196","v":7.1},{"$f":"T196","v":7.55},{"$f":"U196","v":8},{"$f":"V196","v":8.5500000000000007},{"$f":"W196","v":9.1},{"$f":"X196","v":10.433333333333332},{"$f":"Y196","v":11.766666666666666},{"$f":"Z196","v":13.1},{"$f":"AA196","v":11.766666666666666},{"$f":"AB196","v":10.433333333333334},{"$f":"AC196","v":9.1},{"$f":"AD196","v":8.5500000000000007},{"$f":"AE196","v":8},{"$f":"AF196","v":7.55},{"$f":"AG196","v":7.1},{"$f":"AH196","v":7.55},{"$f":"AI196","v":8},{"$f":"AJ196","v":7.45},{"$f":"AK196","v":6.9},{"$f":"AL196","v":6.65},{"$f":"AM196","v":6.4},{"$f":"AN196","v":6.8000000000000007},{"$f":"AO196","v":7.2},{"$f":"AP196","v":6.2},{"$f":"AQ196","v":5.2},{"$f":"AR196","v":4.55},{"$f":"AS196","v":3.9},{"$f":"AT196","v":2.9},{"$f":"AU196","v":1.9},{"$f":"AV196","v":0},{"$f":"AW196","v":0},{"$f":"AX196","v":0},{"$f":"AY196","v":0},{"$f":"AZ196","v":0},{"$f":"BA196","v":0},{"$f":"BB196","v":0},{"$f":"BC196","v":0},{"$f":"BD196","v":0},{"$f":"BE196","v":0},{"$f":"BF196","v":0},{"$f":"BG196","v":0},{"$f":"BH196","v":0},{"$f":"BI196","v":0},{"$f":"BJ196","v":0},{"$f":"BK196","v":0},{"$f":"BL196","v":0},{"$f":"BM196","v":0},{"$f":"BN196","v":0},{"$f":"BO196","v":0},{"$f":"BP196","v":0},{"$f":"BQ196","v":0},{"$f":"BR196","v":0},{"$f":"BS196","v":0},{"$f":"BT196","v":0},{"$f":"BU196","v":0},{"$f":"BV196","v":0},{"$f":"BW196","v":0},{"$f":"BX196","v":0},{"$f":"BY196","v":0},{"$f":"BZ196","v":0},{"$f":"CA196","v":0},{"$f":"CB196","v":0},{"$f":"CC196","v":0},{"$f":"CD196","v":0},{"$f":"CE196","v":0},{"$f":"CF196","v":0},{"$f":"CG196","v":0}]
[null,null,null,18,null,null,null,null,null,null,null,null,null,null,null,null,null,null,null,null,null,{"$f":"E196","v":1.9},{"$f":"F196","v":2.9},{"$f":"G196","v":3.9},{"$f":"H196","v":4.55},{"$f":"I196","v":5.2},{"$f":"J196","v":6.2},{"$f":"K196","v":7.2},{"$f":"L196","v":6.8000000000000007},{"$f":"M196","v":6.4},{"$f":"N196","v":6.65},{"$f":"O196","v":6.9},{"$f":"P196","v":7.45},{"$f":"Q196","v":8},{"$f":"R196","v":7.55},{"$f":"S196","v":7.1},{"$f":"T196","v":7.55},{"$f":"U196","v":8},{"$f":"V196","v":8.5500000000000007},{"$f":"W196","v":9.1},{"$f":"X196","v":10.433333333333332},{"$f":"Y196","v":11.766666666666666},{"$f":"Z196","v":13.1},{"$f":"AA196","v":11.766666666666666},{"$f":"AB196","v":10.433333333333334},{"$f":"AC196","v":9.1},{"$f":"AD196","v":8.5500000000000007},{"$f":"AE196","v":8},{"$f":"AF196","v":7.55},{"$f":"AG196","v":7.1},{"$f":"AH196","v":7.55},{"$f":"AI196","v":8},{"$f":"AJ196","v":7.45},{"$f":"AK196","v":6.9},{"$f":"AL196","v":6.65},{"$f":"AM196","v":6.4},{"$f":"AN196","v":6.8000000000000007},{"$f":"AO196","v":7.2},{"$f":"AP196","v":6.2},{"$f":"AQ196","v":5.2},{"$f":"AR196","v":4.55},{"$f":"AS196","v":3.9},{"$f":"AT196","v":2.9},{"$f":"AU196","v":1.9},{"$f":"AV196","v":0},{"$f":"AW196","v":0},{"$f":"AX196","v":0},{"$f":"AY196","v":0},{"$f":"AZ196","v":0},{"$f":"BA196","v":0},{"$f":"BB196","v":0},{"$f":"BC196","v":0},{"$f":"BD196","v":0},{"$f":"BE196","v":0},{"$f":"BF196","v":0},{"$f":"BG196","v":0},{"$f":"BH196","v":0},{"$f":"BI196","v":0},{"$f":"BJ196","v":0},{"$f":"BK196","v":0},{"$f":"BL196","v":0},{"$f":"BM196","v":0},{"$f":"BN196","v":0},{"$f":"BO196","v":0},{"$f":"BP196","v":0},{"$f":"BQ196","v":0},{"$f":"BR196","v":0},{"$f":"BS196","v":0},{"$f":"BT196","v":0},{"$f":"BU196","v":0},{"$f":"BV196","v":0},{"$f":"BW196","v":0},{"$f":"BX196","v":0},{"$f":"BY196","v":0},{"$f":"BZ196","v":0},{"$f":"CA196","v":0},{"$f":"CB196","v":0},{"$f":"CC196","v":0},{"$f":"CD196","v":0},{"$f":"CE196","v":0},{"$f":"CF196","v":0},{"$f":"CG196","v":0}]
[null,null,null,19,null,null,null,null,null,null,null,null,null,null,null,null,null,null,null,null,null,null,{"$f":"E196","v":1.9},{"$f":"F196","v":2.9},{"$f":"G196","v":3.9},{"$f":"H196","v":4.55},{"$f":"I196","v":5.2},{"$f":"J196","v":6.2},{"$f":"K196","v":7.2},{"$f":"L196","v":6.8000000000000007},{"$f":"M196","v":6.4},{"$f":"N196","v":6.65},{"$f":"O196","v":6.9},{"$f":"P196","v":7.45},{"$f":"Q196","v":8},{"$f":"R196","v":7.55},{"$f":"S196","v":7.1},{"$f":"T196","v":7.55},{"$f":"U196","v":8},{"$f":"V196","v":8.5500000000000007},{"$f":"W196","v":9.1},{"$f":"X196","v":10.433333333333332},{"$f":"Y196","v":11.766666666666666},{"$f":"Z196","v":13.1},{"$f":"AA196","v":11.766666666666666},{"$f":"AB196","v":10.433333333333334},{"$f":"AC196","v":9.1},{"$f":"AD196","v":8.5500000000000007},{"$f":"AE196","v":8},{"$f":"AF196","v":7.55},{"$f":"AG196","v":7.1},{"$f":"AH196","v":7.55},{"$f":"AI196","v":8},{"$f":"AJ196","v":7.45},{"$f":"AK196","v":6.9},{"$f":"AL196","v":6.65},{"$f":"AM196","v":6.4},{"$f":"AN196","v":6.8000000000000007},{"$f":"AO196","v":7.2},{"$f":"AP196","v":6.2},{"$f":"AQ196","v":5.2},{"$f":"AR196","v":4.55},{"$f":"AS196","v":3.9},{"$f":"AT196","v":2.9},{"$f":"AU196","v":1.9},{"$f":"AV196","v":0},{"$f":"AW196","v":0},{"$f":"AX196","v":0},{"$f":"AY196","v":0},{"$f":"AZ196","v":0},{"$f":"BA196","v":0},{"$f":"BB196","v":0},{"$f":"BC196","v":0},{"$f":"BD196","v":0},{"$f":"BE196","v":0},{"$f":"BF196","v":0},{"$f":"BG196","v":0},{"$f":"BH196","v":0},{"$f":"BI196","v":0},{"$f":"BJ196","v":0},{"$f":"BK196","v":0},{"$f":"BL196","v":0},{"$f":"BM196","v":0},{"$f":"BN196","v":0},{"$f":"BO196","v":0},{"$f":"BP196","v":0},{"$f":"BQ196","v":0},{"$f":"BR196","v":0},{"$f":"BS196","v":0},{"$f":"BT196","v":0},{"$f":"BU196","v":0},{"$f":"BV196","v":0},{"$f":"BW196","v":0},{"$f":"BX196","v":0},{"$f":"BY196","v":0},{"$f":"BZ196","v":0},{"$f":"CA196","v":0},{"$f":"CB196","v":0},{"$f":"CC196","v":0},{"$f":"CD196","v":0},{"$f":"CE196","v":0},{"$f":"CF196","v":0},{"$f":"CG196","v":0}]
[null,null,null,20,null,null,null,null,null,null,null,null,null,null,null,null,null,null,null,null,null,null,null,{"$f":"E196","v":1.9},{"$f":"F196","v":2.9},{"$f":"G196","v":3.9},{"$f":"H196","v":4.55},{"$f":"I196","v":5.2},{"$f":"J196","v":6.2},{"$f":"K196","v":7.2},{"$f":"L196","v":6.8000000000000007},{"$f":"M196","v":6.4},{"$f":"N196","v":6.65},{"$f":"O196","v":6.9},{"$f":"P196","v":7.45},{"$f":"Q196","v":8},{"$f":"R196","v":7.55},{"$f":"S196","v":7.1},{"$f":"T196","v":7.55},{"$f":"U196","v":8},{"$f":"V196","v":8.5500000000000007},{"$f":"W196","v":9.1},{"$f":"X196","v":10.433333333333332},{"$f":"Y196","v":11.766666666666666},{"$f":"Z196","v":13.1},{"$f":"AA196","v":11.766666666666666},{"$f":"AB196","v":10.433333333333334},{"$f":"AC196","v":9.1},{"$f":"AD196","v":8.5500000000000007},{"$f":"AE196","v":8},{"$f":"AF196","v":7.55},{"$f":"AG196","v":7.1},{"$f":"AH196","v":7.55},{"$f":"AI196","v":8},{"$f":"AJ196","v":7.45},{"$f":"AK196","v":6.9},{"$f":"AL196","v":6.65},{"$f":"AM196","v":6.4},{"$f":"AN196","v":6.8000000000000007},{"$f":"AO196","v":7.2},{"$f":"AP196","v":6.2},{"$f":"AQ196","v":5.2},{"$f":"AR196","v":4.55},{"$f":"AS196","v":3.9},{"$f":"AT196","v":2.9},{"$f":"AU196","v":1.9},{"$f":"AV196","v":0},{"$f":"AW196","v":0},{"$f":"AX196","v":0},{"$f":"AY196","v":0},{"$f":"AZ196","v":0},{"$f":"BA196","v":0},{"$f":"BB196","v":0},{"$f":"BC196","v":0},{"$f":"BD196","v":0},{"$f":"BE196","v":0},{"$f":"BF196","v":0},{"$f":"BG196","v":0},{"$f":"BH196","v":0},{"$f":"BI196","v":0},{"$f":"BJ196","v":0},{"$f":"BK196","v":0},{"$f":"BL196","v":0},{"$f":"BM196","v":0},{"$f":"BN196","v":0},{"$f":"BO196","v":0},{"$f":"BP196","v":0},{"$f":"BQ196","v":0},{"$f":"BR196","v":0},{"$f":"BS196","v":0},{"$f":"BT196","v":0},{"$f":"BU196","v":0},{"$f":"BV196","v":0},{"$f":"BW196","v":0},{"$f":"BX196","v":0},{"$f":"BY196","v":0},{"$f":"BZ196","v":0},{"$f":"CA196","v":0},{"$f":"CB196","v":0},{"$f":"CC196","v":0},{"$f":"CD196","v":0},{"$f":"CE196","v":0},{"$f":"CF196","v":0},{"$f":"CG196","v":0}]
[null,null,null,21,null,null,null,null,null,null,null,null,null,null,null,null,null,null,null,null,null,null,null,null,{"$f":"E196","v":1.9},{"$f":"F196","v":2.9},{"$f":"G196","v":3.9},{"$f":"H196","v":4.55},{"$f":"I196","v":5.2},{"$f":"J196","v":6.2},{"$f":"K196","v":7.2},{"$f":"L196","v":6.8000000000000007},{"$f":"M196","v":6.4},{"$f":"N196","v":6.65},{"$f":"O196","v":6.9},{"$f":"P196","v":7.45},{"$f":"Q196","v":8},{"$f":"R196","v":7.55},{"$f":"S196","v":7.1},{"$f":"T196","v":7.55},{"$f":"U196","v":8},{"$f":"V196","v":8.5500000000000007},{"$f":"W196","v":9.1},{"$f":"X196","v":10.433333333333332},{"$f":"Y196","v":11.766666666666666},{"$f":"Z196","v":13.1},{"$f":"AA196","v":11.766666666666666},{"$f":"AB196","v":10.433333333333334},{"$f":"AC196","v":9.1},{"$f":"AD196","v":8.5500000000000007},{"$f":"AE196","v":8},{"$f":"AF196","v":7.55},{"$f":"AG196","v":7.1},{"$f":"AH196","v":7.55},{"$f":"AI196","v":8},{"$f":"AJ196","v":7.45},{"$f":"AK196","v":6.9},{"$f":"AL196","v":6.65},{"$f":"AM196","v":6.4},{"$f":"AN196","v":6.8000000000000007},{"$f":"AO196","v":7.2},{"$f":"AP196","v":6.2},{"$f":"AQ196","v":5.2},{"$f":"AR196","v":4.55},{"$f":"AS196","v":3.9},{"$f":"AT196","v":2.9},{"$f":"AU196","v":1.9},{"$f":"AV196","v":0},{"$f":"AW196","v":0},{"$f":"AX196","v":0},{"$f":"AY196","v":0},{"$f":"AZ196","v":0},{"$f":"BA196","v":0},{"$f":"BB196","v":0},{"$f":"BC196","v":0},{"$f":"BD196","v":0},{"$f":"BE196","v":0},{"$f":"BF196","v":0},{"$f":"BG196","v":0},{"$f":"BH196","v":0},{"$f":"BI196","v":0},{"$f":"BJ196","v":0},{"$f":"BK196","v":0},{"$f":"BL196","v":0},{"$f":"BM196","v":0},{"$f":"BN196","v":0},{"$f":"BO196","v":0},{"$f":"BP196","v":0},{"$f":"BQ196","v":0},{"$f":"BR196","v":0},{"$f":"BS196","v":0},{"$f":"BT196","v":0},{"$f":"BU196","v":0},{"$f":"BV196","v":0},{"$f":"BW196","v":0},{"$f":"BX196","v":0},{"$f":"BY196","v":0},{"$f":"BZ196","v":0},{"$f":"CA196","v":0},{"$f":"CB196","v":0},{"$f":"CC196","v":0},{"$f":"CD196","v":0},{"$f":"CE196","v":0},{"$f":"CF196","v":0},{"$f":"CG196","v":0}]
[null,null,null,22,null,null,null,null,null,null,null,null,null,null,null,null,null,null,null,null,null,null,null,null,null,{"$f":"E196","v":1.9},{"$f":"F196","v":2.9},{"$f":"G196","v":3.9},{"$f":"H196","v":4.55},{"$f":"I196","v":5.2},{"$f":"J196","v":6.2},{"$f":"K196","v":7.2},{"$f":"L196","v":6.8000000000000007},{"$f":"M196","v":6.4},{"$f":"N196","v":6.65},{"$f":"O196","v":6.9},{"$f":"P196","v":7.45},{"$f":"Q196","v":8},{"$f":"R196","v":7.55},{"$f":"S196","v":7.1},{"$f":"T196","v":7.55},{"$f":"U196","v":8},{"$f":"V196","v":8.5500000000000007},{"$f":"W196","v":9.1},{"$f":"X196","v":10.433333333333332},{"$f":"Y196","v":11.766666666666666},{"$f":"Z196","v":13.1},{"$f":"AA196","v":11.766666666666666},{"$f":"AB196","v":10.433333333333334},{"$f":"AC196","v":9.1},{"$f":"AD196","v":8.5500000000000007},{"$f":"AE196","v":8},{"$f":"AF196","v":7.55},{"$f":"AG196","v":7.1},{"$f":"AH196","v":7.55},{"$f":"AI196","v":8},{"$f":"AJ196","v":7.45},{"$f":"AK196","v":6.9},{"$f":"AL196","v":6.65},{"$f":"AM196","v":6.4},{"$f":"AN196","v":6.8000000000000007},{"$f":"AO196","v":7.2},{"$f":"AP196","v":6.2},{"$f":"AQ196","v":5.2},{"$f":"AR196","v":4.55},{"$f":"AS196","v":3.9},{"$f":"AT196","v":2.9},{"$f":"AU196","v":1.9},{"$f":"AV196","v":0},{"$f":"AW196","v":0},{"$f":"AX196","v":0},{"$f":"AY196","v":0},{"$f":"AZ196","v":0},{"$f":"BA196","v":0},{"$f":"BB196","v":0},{"$f":"BC196","v":0},{"$f":"BD196","v":0},{"$f":"BE196","v":0},{"$f":"BF196","v":0},{"$f":"BG196","v":0},{"$f":"BH196","v":0},{"$f":"BI196","v":0},{"$f":"BJ196","v":0},{"$f":"BK196","v":0},{"$f":"BL196","v":0},{"$f":"BM196","v":0},{"$f":"BN196","v":0},{"$f":"BO196","v":0},{"$f":"BP196","v":0},{"$f":"BQ196","v":0},{"$f":"BR196","v":0},{"$f":"BS196","v":0},{"$f":"BT196","v":0},{"$f":"BU196","v":0},{"$f":"BV196","v":0},{"$f":"BW196","v":0},{"$f":"BX196","v":0},{"$f":"BY196","v":0},{"$f":"BZ196","v":0},{"$f":"CA196","v":0},{"$f":"CB196","v":0},{"$f":"CC196","v":0},{"$f":"CD196","v":0},{"$f":"CE196","v":0},{"$f":"CF196","v":0},{"$f":"CG196","v":0}]
[null,null,null,23,null,null,null,null,null,null,null,null,null,null,null,null,null,null,null,null,null,null,null,null,null,null,{"$f":"E196","v":1.9},{"$f":"F196","v":2.9},{"$f":"G196","v":3.9},{"$f":"H196","v":4.55},{"$f":"I196","v":5.2},{"$f":"J196","v":6.2},{"$f":"K196","v":7.2},{"$f":"L196","v":6.8000000000000007},{"$f":"M196","v":6.4},{"$f":"N196","v":6.65},{"$f":"O196","v":6.9},{"$f":"P196","v":7.45},{"$f":"Q196","v":8},{"$f":"R196","v":7.55},{"$f":"S196","v":7.1},{"$f":"T196","v":7.55},{"$f":"U196","v":8},{"$f":"V196","v":8.5500000000000007},{"$f":"W196","v":9.1},{"$f":"X196","v":10.433333333333332},{"$f":"Y196","v":11.766666666666666},{"$f":"Z196","v":13.1},{"$f":"AA196","v":11.766666666666666},{"$f":"AB196","v":10.433333333333334},{"$f":"AC196","v":9.1},{"$f":"AD196","v":8.5500000000000007},{"$f":"AE196","v":8},{"$f":"AF196","v":7.55},{"$f":"AG196","v":7.1},{"$f":"AH196","v":7.55},{"$f":"AI196","v":8},{"$f":"AJ196","v":7.45},{"$f":"AK196","v":6.9},{"$f":"AL196","v":6.65},{"$f":"AM196","v":6.4},{"$f":"AN196","v":6.8000000000000007},{"$f":"AO196","v":7.2},{"$f":"AP196","v":6.2},{"$f":"AQ196","v":5.2},{"$f":"AR196","v":4.55},{"$f":"AS196","v":3.9},{"$f":"AT196","v":2.9},{"$f":"AU196","v":1.9},{"$f":"AV196","v":0},{"$f":"AW196","v":0},{"$f":"AX196","v":0},{"$f":"AY196","v":0},{"$f":"AZ196","v":0},{"$f":"BA196","v":0},{"$f":"BB196","v":0},{"$f":"BC196","v":0},{"$f":"BD196","v":0},{"$f":"BE196","v":0},{"$f":"BF196","v":0},{"$f":"BG196","v":0},{"$f":"BH196","v":0},{"$f":"BI196","v":0},{"$f":"BJ196","v":0},{"$f":"BK196","v":0},{"$f":"BL196","v":0},{"$f":"BM196","v":0},{"$f":"BN196","v":0},{"$f":"BO196","v":0},{"$f":"BP196","v":0},{"$f":"BQ196","v":0},{"$f":"BR196","v":0},{"$f":"BS196","v":0},{"$f":"BT196","v":0},{"$f":"BU196","v":0},{"$f":"BV196","v":0},{"$f":"BW196","v":0},{"$f":"BX196","v":0},{"$f":"BY196","v":0},{"$f":"BZ196","v":0},{"$f":"CA196","v":0},{"$f":"CB196","v":0},{"$f":"CC196","v":0},{"$f":"CD196","v":0},{"$f":"CE196","v":0},{"$f":"CF196","v":0},{"$f":"CG196","v":0}]
[null,null,null,24,null,null,null,null,null,null,null,null,null,null,null,null,null,null,null,null,null,null,null,null,null,null,null,{"$f":"E196","v":1.9},{"$f":"F196","v":2.9},{"$f":"G196","v":3.9},{"$f":"H196","v":4.55},{"$f":"I196","v":5.2},{"$f":"J196","v":6.2},{"$f":"K196","v":7.2},{"$f":"L196","v":6.8000000000000007},{"$f":"M196","v":6.4},{"$f":"N196","v":6.65},{"$f":"O196","v":6.9},{"$f":"P196","v":7.45},{"$f":"Q196","v":8},{"$f":"R196","v":7.55},{"$f":"S196","v":7.1},{"$f":"T196","v":7.55},{"$f":"U196","v":8},{"$f":"V196","v":8.5500000000000007},{"$f":"W196","v":9.1},{"$f":"X196","v":10.433333333333332},{"$f":"Y196","v":11.766666666666666},{"$f":"Z196","v":13.1},{"$f":"AA196","v":11.766666666666666},{"$f":"AB196","v":10.433333333333334},{"$f":"AC196","v":9.1},{"$f":"AD196","v":8.5500000000000007},{"$f":"AE196","v":8},{"$f":"AF196","v":7.55},{"$f":"AG196","v":7.1},{"$f":"AH196","v":7.55},{"$f":"AI196","v":8},{"$f":"AJ196","v":7.45},{"$f":"AK196","v":6.9},{"$f":"AL196","v":6.65},{"$f":"AM196","v":6.4},{"$f":"AN196","v":6.8000000000000007},{"$f":"AO196","v":7.2},{"$f":"AP196","v":6.2},{"$f":"AQ196","v":5.2},{"$f":"AR196","v":4.55},{"$f":"AS196","v":3.9},{"$f":"AT196","v":2.9},{"$f":"AU196","v":1.9},{"$f":"AV196","v":0},{"$f":"AW196","v":0},{"$f":"AX196","v":0},{"$f":"AY196","v":0},{"$f":"AZ196","v":0},{"$f":"BA196","v":0},{"$f":"BB196","v":0},{"$f":"BC196","v":0},{"$f":"BD196","v":0},{"$f":"BE196","v":0},{"$f":"BF196","v":0},{"$f":"BG196","v":0},{"$f":"BH196","v":0},{"$f":"BI196","v":0},{"$f":"BJ196","v":0},{"$f":"BK196","v":0},{"$f":"BL196","v":0},{"$f":"BM196","v":0},{"$f":"BN196","v":0},{"$f":"BO196","v":0},{"$f":"BP196","v":0},{"$f":"BQ196","v":0},{"$f":"BR196","v":0},{"$f":"BS196","v":0},{"$f":"BT196","v":0},{"$f":"BU196","v":0},{"$f":"BV196","v":0},{"$f":"BW196","v":0},{"$f":"BX196","v":0},{"$f":"BY196","v":0},{"$f":"BZ196","v":0},{"$f":"CA196","v":0},{"$f":"CB196","v":0},{"$f":"CC196","v":0},{"$f":"CD196","v":0},{"$f":"CE196","v":0},{"$f":"CF196","v":0},{"$f":"CG196","v":0}]
[null,null,null,25,null,null,null,null,null,null,null,null,null,null,null,null,null,null,null,null,null,null,null,null,null,null,null,null,{"$f":"E196","v":1.9},{"$f":"F196","v":2.9},{"$f":"G196","v":3.9},{"$f":"H196","v":4.55},{"$f":"I196","v":5.2},{"$f":"J196","v":6.2},{"$f":"K196","v":7.2},{"$f":"L196","v":6.8000000000000007},{"$f":"M196","v":6.4},{"$f":"N196","v":6.65},{"$f":"O196","v":6.9},{"$f":"P196","v":7.45},{"$f":"Q196","v":8},{"$f":"R196","v":7.55},{"$f":"S196","v":7.1},{"$f":"T196","v":7.55},{"$f":"U196","v":8},{"$f":"V196","v":8.5500000000000007},{"$f":"W196","v":9.1},{"$f":"X196","v":10.433333333333332},{"$f":"Y196","v":11.766666666666666},{"$f":"Z196","v":13.1},{"$f":"AA196","v":11.766666666666666},{"$f":"AB196","v":10.433333333333334},{"$f":"AC196","v":9.1},{"$f":"AD196","v":8.5500000000000007},{"$f":"AE196","v":8},{"$f":"AF196","v":7.55},{"$f":"AG196","v":7.1},{"$f":"AH196","v":7.55},{"$f":"AI196","v":8},{"$f":"AJ196","v":7.45},{"$f":"AK196","v":6.9},{"$f":"AL196","v":6.65},{"$f":"AM196","v":6.4},{"$f":"AN196","v":6.8000000000000007},{"$f":"AO196","v":7.2},{"$f":"AP196","v":6.2},{"$f":"AQ196","v":5.2},{"$f":"AR196","v":4.55},{"$f":"AS196","v":3.9},{"$f":"AT196","v":2.9},{"$f":"AU196","v":1.9},{"$f":"AV196","v":0},{"$f":"AW196","v":0},{"$f":"AX196","v":0},{"$f":"AY196","v":0},{"$f":"AZ196","v":0},{"$f":"BA196","v":0},{"$f":"BB196","v":0},{"$f":"BC196","v":0},{"$f":"BD196","v":0},{"$f":"BE196","v":0},{"$f":"BF196","v":0},{"$f":"BG196","v":0},{"$f":"BH196","v":0},{"$f":"BI196","v":0},{"$f":"BJ196","v":0},{"$f":"BK196","v":0},{"$f":"BL196","v":0},{"$f":"BM196","v":0},{"$f":"BN196","v":0},{"$f":"BO196","v":0},{"$f":"BP196","v":0},{"$f":"BQ196","v":0},{"$f":"BR196","v":0},{"$f":"BS196","v":0},{"$f":"BT196","v":0},{"$f":"BU196","v":0},{"$f":"BV196","v":0},{"$f":"BW196","v":0},{"$f":"BX196","v":0},{"$f":"BY196","v":0},{"$f":"BZ196","v":0},{"$f":"CA196","v":0},{"$f":"CB196","v":0},{"$f":"CC196","v":0},{"$f":"CD196","v":0},{"$f":"CE196","v":0},{"$f":"CF196","v":0},{"$f":"CG196","v":0}]
[null,null,null,26,null,null,null,null,null,null,null,null,null,null,null,null,null,null,null,null,null,null,null,null,null,null,null,null,null,{"$f":"E196","v":1.9},{"$f":"F196","v":2.9},{"$f":"G196","v":3.9},{"$f":"H196","v":4.55},{"$f":"I196","v":5.2},{"$f":"J196","v":6.2},{"$f":"K196","v":7.2},{"$f":"L196","v":6.8000000000000007},{"$f":"M196","v":6.4},{"$f":"N196","v":6.65},{"$f":"O196","v":6.9},{"$f":"P196","v":7.45},{"$f":"Q196","v":8},{"$f":"R196","v":7.55},{"$f":"S196","v":7.1},{"$f":"T196","v":7.55},{"$f":"U196","v":8},{"$f":"V196","v":8.5500000000000007},{"$f":"W196","v":9.1},{"$f":"X196","v":10.433333333333332},{"$f":"Y196","v":11.766666666666666},{"$f":"Z196","v":13.1},{"$f":"AA196","v":11.766666666666666},{"$f":"AB196","v":10.433333333333334},{"$f":"AC196","v":9.1},{"$f":"AD196","v":8.5500000000000007},{"$f":"AE196","v":8},{"$f":"AF196","v":7.55},{"$f":"AG196","v":7.1},{"$f":"AH196","v":7.55},{"$f":"AI196","v":8},{"$f":"AJ196","v":7.45},{"$f":"AK196","v":6.9},{"$f":"AL196","v":6.65},{"$f":"AM196","v":6.4},{"$f":"AN196","v":6.8000000000000007},{"$f":"AO196","v":7.2},{"$f":"AP196","v":6.2},{"$f":"AQ196","v":5.2},{"$f":"AR196","v":4.55},{"$f":"AS196","v":3.9},{"$f":"AT196","v":2.9},{"$f":"AU196","v":1.9},{"$f":"AV196","v":0},{"$f":"AW196","v":0},{"$f":"AX196","v":0},{"$f":"AY196","v":0},{"$f":"AZ196","v":0},{"$f":"BA196","v":0},{"$f":"BB196","v":0},{"$f":"BC196","v":0},{"$f":"BD196","v":0},{"$f":"BE196","v":0},{"$f":"BF196","v":0},{"$f":"BG196","v":0},{"$f":"BH196","v":0},{"$f":"BI196","v":0},{"$f":"BJ196","v":0},{"$f":"BK196","v":0},{"$f":"BL196","v":0},{"$f":"BM196","v":0},{"$f":"BN196","v":0},{"$f":"BO196","v":0},{"$f":"BP196","v":0},{"$f":"BQ196","v":0},{"$f":"BR196","v":0},{"$f":"BS196","v":0},{"$f":"BT196","v":0},{"$f":"BU196","v":0},{"$f":"BV196","v":0},{"$f":"BW196","v":0},{"$f":"BX196","v":0},{"$f":"BY196","v":0},{"$f":"BZ196","v":0},{"$f":"CA196","v":0},{"$f":"CB196","v":0},{"$f":"CC196","v":0},{"$f":"CD196","v":0},{"$f":"CE196","v":0},{"$f":"CF196","v":0},{"$f":"CG196","v":0}]
[null,null,null,27,null,null,null,null,null,null,null,null,null,null,null,null,null,null,null,null,null,null,null,null,null,null,null,null,null,null,{"$f":"E196","v":1.9},{"$f":"F196","v":2.9},{"$f":"G196","v":3.9},{"$f":"H196","v":4.55},{"$f":"I196","v":5.2},{"$f":"J196","v":6.2},{"$f":"K196","v":7.2},{"$f":"L196","v":6.8000000000000007},{"$f":"M196","v":6.4},{"$f":"N196","v":6.65},{"$f":"O196","v":6.9},{"$f":"P196","v":7.45},{"$f":"Q196","v":8},{"$f":"R196","v":7.55},{"$f":"S196","v":7.1},{"$f":"T196","v":7.55},{"$f":"U196","v":8},{"$f":"V196","v":8.5500000000000007},{"$f":"W196","v":9.1},{"$f":"X196","v":10.433333333333332},{"$f":"Y196","v":11.766666666666666},{"$f":"Z196","v":13.1},{"$f":"AA196","v":11.766666666666666},{"$f":"AB196","v":10.433333333333334},{"$f":"AC196","v":9.1},{"$f":"AD196","v":8.5500000000000007},{"$f":"AE196","v":8},{"$f":"AF196","v":7.55},{"$f":"AG196","v":7.1},{"$f":"AH196","v":7.55},{"$f":"AI196","v":8},{"$f":"AJ196","v":7.45},{"$f":"AK196","v":6.9},{"$f":"AL196","v":6.65},{"$f":"AM196","v":6.4},{"$f":"AN196","v":6.8000000000000007},{"$f":"AO196","v":7.2},{"$f":"AP196","v":6.2},{"$f":"AQ196","v":5.2},{"$f":"AR196","v":4.55},{"$f":"AS196","v":3.9},{"$f":"AT196","v":2.9},{"$f":"AU196","v":1.9},{"$f":"AV196","v":0},{"$f":"AW196","v":0},{"$f":"AX196","v":0},{"$f":"AY196","v":0},{"$f":"AZ196","v":0},{"$f":"BA196","v":0},{"$f":"BB196","v":0},{"$f":"BC196","v":0},{"$f":"BD196","v":0},{"$f":"BE196","v":0},{"$f":"BF196","v":0},{"$f":"BG196","v":0},{"$f":"BH196","v":0},{"$f":"BI196","v":0},{"$f":"BJ196","v":0},{"$f":"BK196","v":0},{"$f":"BL196","v":0},{"$f":"BM196","v":0},{"$f":"BN196","v":0},{"$f":"BO196","v":0},{"$f":"BP196","v":0},{"$f":"BQ196","v":0},{"$f":"BR196","v":0},{"$f":"BS196","v":0},{"$f":"BT196","v":0},{"$f":"BU196","v":0},{"$f":"BV196","v":0},{"$f":"BW196","v":0},{"$f":"BX196","v":0},{"$f":"BY196","v":0},{"$f":"BZ196","v":0},{"$f":"CA196","v":0},{"$f":"CB196","v":0},{"$f":"CC196","v":0},{"$f":"CD196","v":0},{"$f":"CE196","v":0},{"$f":"CF196","v":0},{"$f":"CG196","v":0}]
[null,null,null,28,null,null,null,null,null,null,null,null,null,null,null,null,null,null,null,null,null,null,null,null,null,null,null,null,null,null,null,{"$f":"E196","v":1.9},{"$f":"F196","v":2.9},{"$f":"G196","v":3.9},{"$f":"H196","v":4.55},{"$f":"I196","v":5.2},{"$f":"J196","v":6.2},{"$f":"K196","v":7.2},{"$f":"L196","v":6.8000000000000007},{"$f":"M196","v":6.4},{"$f":"N196","v":6.65},{"$f":"O196","v":6.9},{"$f":"P196","v":7.45},{"$f":"Q196","v":8},{"$f":"R196","v":7.55},{"$f":"S196","v":7.1},{"$f":"T196","v":7.55},{"$f":"U196","v":8},{"$f":"V196","v":8.5500000000000007},{"$f":"W196","v":9.1},{"$f":"X196","v":10.433333333333332},{"$f":"Y196","v":11.766666666666666},{"$f":"Z196","v":13.1},{"$f":"AA196","v":11.766666666666666},{"$f":"AB196","v":10.433333333333334},{"$f":"AC196","v":9.1},{"$f":"AD196","v":8.5500000000000007},{"$f":"AE196","v":8},{"$f":"AF196","v":7.55},{"$f":"AG196","v":7.1},{"$f":"AH196","v":7.55},{"$f":"AI196","v":8},{"$f":"AJ196","v":7.45},{"$f":"AK196","v":6.9},{"$f":"AL196","v":6.65},{"$f":"AM196","v":6.4},{"$f":"AN196","v":6.8000000000000007},{"$f":"AO196","v":7.2},{"$f":"AP196","v":6.2},{"$f":"AQ196","v":5.2},{"$f":"AR196","v":4.55},{"$f":"AS196","v":3.9},{"$f":"AT196","v":2.9},{"$f":"AU196","v":1.9},{"$f":"AV196","v":0},{"$f":"AW196","v":0},{"$f":"AX196","v":0},{"$f":"AY196","v":0},{"$f":"AZ196","v":0},{"$f":"BA196","v":0},{"$f":"BB196","v":0},{"$f":"BC196","v":0},{"$f":"BD196","v":0},{"$f":"BE196","v":0},{"$f":"BF196","v":0},{"$f":"BG196","v":0},{"$f":"BH196","v":0},{"$f":"BI196","v":0},{"$f":"BJ196","v":0},{"$f":"BK196","v":0},{"$f":"BL196","v":0},{"$f":"BM196","v":0},{"$f":"BN196","v":0},{"$f":"BO196","v":0},{"$f":"BP196","v":0},{"$f":"BQ196","v":0},{"$f":"BR196","v":0},{"$f":"BS196","v":0},{"$f":"BT196","v":0},{"$f":"BU196","v":0},{"$f":"BV196","v":0},{"$f":"BW196","v":0},{"$f":"BX196","v":0},{"$f":"BY196","v":0},{"$f":"BZ196","v":0},{"$f":"CA196","v":0},{"$f":"CB196","v":0},{"$f":"CC196","v":0},{"$f":"CD196","v":0},{"$f":"CE196","v":0},{"$f":"CF196","v":0},{"$f":"CG196","v":0}]
[null,null,null,29,null,null,null,null,null,null,null,null,null,null,null,null,null,null,null,null,null,null,null,null,null,null,null,null,null,null,null,null,{"$f":"E196","v":1.9},{"$f":"F196","v":2.9},{"$f":"G196","v":3.9},{"$f":"H196","v":4.55},{"$f":"I196","v":5.2},{"$f":"J196","v":6.2},{"$f":"K196","v":7.2},{"$f":"L196","v":6.8000000000000007},{"$f":"M196","v":6.4},{"$f":"N196","v":6.65},{"$f":"O196","v":6.9},{"$f":"P196","v":7.45},{"$f":"Q196","v":8},{"$f":"R196","v":7.55},{"$f":"S196","v":7.1},{"$f":"T196","v":7.55},{"$f":"U196","v":8},{"$f":"V196","v":8.5500000000000007},{"$f":"W196","v":9.1},{"$f":"X196","v":10.433333333333332},{"$f":"Y196","v":11.766666666666666},{"$f":"Z196","v":13.1},{"$f":"AA196","v":11.766666666666666},{"$f":"AB196","v":10.433333333333334},{"$f":"AC196","v":9.1},{"$f":"AD196","v":8.5500000000000007},{"$f":"AE196","v":8},{"$f":"AF196","v":7.55},{"$f":"AG196","v":7.1},{"$f":"AH196","v":7.55},{"$f":"AI196","v":8},{"$f":"AJ196","v":7.45},{"$f":"AK196","v":6.9},{"$f":"AL196","v":6.65},{"$f":"AM196","v":6.4},{"$f":"AN196","v":6.8000000000000007},{"$f":"AO196","v":7.2},{"$f":"AP196","v":6.2},{"$f":"AQ196","v":5.2},{"$f":"AR196","v":4.55},{"$f":"AS196","v":3.9},{"$f":"AT196","v":2.9},{"$f":"AU196","v":1.9},{"$f":"AV196","v":0},{"$f":"AW196","v":0},{"$f":"AX196","v":0},{"$f":"AY196","v":0},{"$f":"AZ196","v":0},{"$f":"BA196","v":0},{"$f":"BB196","v":0},{"$f":"BC196","v":0},{"$f":"BD196","v":0},{"$f":"BE196","v":0},{"$f":"BF196","v":0},{"$f":"BG196","v":0},{"$f":"BH196","v":0},{"$f":"BI196","v":0},{"$f":"BJ196","v":0},{"$f":"BK196","v":0},{"$f":"BL196","v":0},{"$f":"BM196","v":0},{"$f":"BN196","v":0},{"$f":"BO196","v":0},{"$f":"BP196","v":0},{"$f":"BQ196","v":0},{"$f":"BR196","v":0},{"$f":"BS196","v":0},{"$f":"BT196","v":0},{"$f":"BU196","v":0},{"$f":"BV196","v":0},{"$f":"BW196","v":0},{"$f":"BX196","v":0},{"$f":"BY196","v":0},{"$f":"BZ196","v":0},{"$f":"CA196","v":0},{"$f":"CB196","v":0},{"$f":"CC196","v":0},{"$f":"CD196","v":0},{"$f":"CE196","v":0},{"$f":"CF196","v":0},{"$f":"CG196","v":0}]
[null,null,null,30,null,null,null,null,null,null,null,null,null,null,null,null,null,null,null,null,null,null,null,null,null,null,null,null,null,null,null,null,null,{"$f":"E196","v":1.9},{"$f":"F196","v":2.9},{"$f":"G196","v":3.9},{"$f":"H196","v":4.55},{"$f":"I196","v":5.2},{"$f":"J196","v":6.2},{"$f":"K196","v":7.2},{"$f":"L196","v":6.8000000000000007},{"$f":"M196","v":6.4},{"$f":"N196","v":6.65},{"$f":"O196","v":6.9},{"$f":"P196","v":7.45},{"$f":"Q196","v":8},{"$f":"R196","v":7.55},{"$f":"S196","v":7.1},{"$f":"T196","v":7.55},{"$f":"U196","v":8},{"$f":"V196","v":8.5500000000000007},{"$f":"W196","v":9.1},{"$f":"X196","v":10.433333333333332},{"$f":"Y196","v":11.766666666666666},{"$f":"Z196","v":13.1},{"$f":"AA196","v":11.766666666666666},{"$f":"AB196","v":10.433333333333334},{"$f":"AC196","v":9.1},{"$f":"AD196","v":8.5500000000000007},{"$f":"AE196","v":8},{"$f":"AF196","v":7.55},{"$f":"AG196","v":7.1},{"$f":"AH196","v":7.55},{"$f":"AI196","v":8},{"$f":"AJ196","v":7.45},{"$f":"AK196","v":6.9},{"$f":"AL196","v":6.65},{"$f":"AM196","v":6.4},{"$f":"AN196","v":6.8000000000000007},{"$f":"AO196","v":7.2},{"$f":"AP196","v":6.2},{"$f":"AQ196","v":5.2},{"$f":"AR196","v":4.55},{"$f":"AS196","v":3.9},{"$f":"AT196","v":2.9},{"$f":"AU196","v":1.9},{"$f":"AV196","v":0},{"$f":"AW196","v":0},{"$f":"AX196","v":0},{"$f":"AY196","v":0},{"$f":"AZ196","v":0},{"$f":"BA196","v":0},{"$f":"BB196","v":0},{"$f":"BC196","v":0},{"$f":"BD196","v":0},{"$f":"BE196","v":0},{"$f":"BF196","v":0},{"$f":"BG196","v":0},{"$f":"BH196","v":0},{"$f":"BI196","v":0},{"$f":"BJ196","v":0},{"$f":"BK196","v":0},{"$f":"BL196","v":0},{"$f":"BM196","v":0},{"$f":"BN196","v":0},{"$f":"BO196","v":0},{"$f":"BP196","v":0},{"$f":"BQ196","v":0},{"$f":"BR196","v":0},{"$f":"BS196","v":0},{"$f":"BT196","v":0},{"$f":"BU196","v":0},{"$f":"BV196","v":0},{"$f":"BW196","v":0},{"$f":"BX196","v":0},{"$f":"BY196","v":0},{"$f":"BZ196","v":0},{"$f":"CA196","v":0},{"$f":"CB196","v":0},{"$f":"CC196","v":0},{"$f":"CD196","v":0},{"$f":"CE196","v":0},{"$f":"CF196","v":0},{"$f":"CG196","v":0}]
[null,null,null,31,null,null,null,null,null,null,null,null,null,null,null,null,null,null,null,null,null,null,null,null,null,null,null,null,null,null,null,null,null,null,{"$f":"E196","v":1.9},{"$f":"F196","v":2.9},{"$f":"G196","v":3.9},{"$f":"H196","v":4.55},{"$f":"I196","v":5.2},{"$f":"J196","v":6.2},{"$f":"K196","v":7.2},{"$f":"L196","v":6.8000000000000007},{"$f":"M196","v":6.4},{"$f":"N196","v":6.65},{"$f":"O196","v":6.9},{"$f":"P196","v":7.45},{"$f":"Q196","v":8},{"$f":"R196","v":7.55},{"$f":"S196","v":7.1},{"$f":"T196","v":7.55},{"$f":"U196","v":8},{"$f":"V196","v":8.5500000000000007},{"$f":"W196","v":9.1},{"$f":"X196","v":10.433333333333332},{"$f":"Y196","v":11.766666666666666},{"$f":"Z196","v":13.1},{"$f":"AA196","v":11.766666666666666},{"$f":"AB196","v":10.433333333333334},{"$f":"AC196","v":9.1},{"$f":"AD196","v":8.5500000000000007},{"$f":"AE196","v":8},{"$f":"AF196","v":7.55},{"$f":"AG196","v":7.1},{"$f":"AH196","v":7.55},{"$f":"AI196","v":8},{"$f":"AJ196","v":7.45},{"$f":"AK196","v":6.9},{"$f":"AL196","v":6.65},{"$f":"AM196","v":6.4},{"$f":"AN196","v":6.8000000000000007},{"$f":"AO196","v":7.2},{"$f":"AP196","v":6.2},{"$f":"AQ196","v":5.2},{"$f":"AR196","v":4.55},{"$f":"AS196","v":3.9},{"$f":"AT196","v":2.9},{"$f":"AU196","v":1.9},{"$f":"AV196","v":0},{"$f":"AW196","v":0},{"$f":"AX196","v":0},{"$f":"AY196","v":0},{"$f":"AZ196","v":0},{"$f":"BA196","v":0},{"$f":"BB196","v":0},{"$f":"BC196","v":0},{"$f":"BD196","v":0},{"$f":"BE196","v":0},{"$f":"BF196","v":0},{"$f":"BG196","v":0},{"$f":"BH196","v":0},{"$f":"BI196","v":0},{"$f":"BJ196","v":0},{"$f":"BK196","v":0},{"$f":"BL196","v":0},{"$f":"BM196","v":0},{"$f":"BN196","v":0},{"$f":"BO196","v":0},{"$f":"BP196","v":0},{"$f":"BQ196","v":0},{"$f":"BR196","v":0},{"$f":"BS196","v":0},{"$f":"BT196","v":0},{"$f":"BU196","v":0},{"$f":"BV196","v":0},{"$f":"BW196","v":0},{"$f":"BX196","v":0},{"$f":"BY196","v":0},{"$f":"BZ196","v":0},{"$f":"CA196","v":0},{"$f":"CB196","v":0},{"$f":"CC196","v":0},{"$f":"CD196","v":0},{"$f":"CE196","v":0},{"$f":"CF196","v":0},{"$f":"CG196","v":0}]
[null,null,null,32,null,null,null,null,null,null,null,null,null,null,null,null,null,null,null,null,null,null,null,null,null,null,null,null,null,null,null,null,null,null,null,{"$f":"E196","v":1.9},{"$f":"F196","v":2.9},{"$f":"G196","v":3.9},{"$f":"H196","v":4.55},{"$f":"I196","v":5.2},{"$f":"J196","v":6.2},{"$f":"K196","v":7.2},{"$f":"L196","v":6.8000000000000007},{"$f":"M196","v":6.4},{"$f":"N196","v":6.65},{"$f":"O196","v":6.9},{"$f":"P196","v":7.45},{"$f":"Q196","v":8},{"$f":"R196","v":7.55},{"$f":"S196","v":7.1},{"$f":"T196","v":7.55},{"$f":"U196","v":8},{"$f":"V196","v":8.5500000000000007},{"$f":"W196","v":9.1},{"$f":"X196","v":10.433333333333332},{"$f":"Y196","v":11.766666666666666},{"$f":"Z196","v":13.1},{"$f":"AA196","v":11.766666666666666},{"$f":"AB196","v":10.433333333333334},{"$f":"AC196","v":9.1},{"$f":"AD196","v":8.5500000000000007},{"$f":"AE196","v":8},{"$f":"AF196","v":7.55},{"$f":"AG196","v":7.1},{"$f":"AH196","v":7.55},{"$f":"AI196","v":8},{"$f":"AJ196","v":7.45},{"$f":"AK196","v":6.9},{"$f":"AL196","v":6.65},{"$f":"AM196","v":6.4},{"$f":"AN196","v":6.8000000000000007},{"$f":"AO196","v":7.2},{"$f":"AP196","v":6.2},{"$f":"AQ196","v":5.2},{"$f":"AR196","v":4.55},{"$f":"AS196","v":3.9},{"$f":"AT196","v":2.9},{"$f":"AU196","v":1.9},{"$f":"AV196","v":0},{"$f":"AW196","v":0},{"$f":"AX196","v":0},{"$f":"AY196","v":0},{"$f":"AZ196","v":0},{"$f":"BA196","v":0},{"$f":"BB196","v":0},{"$f":"BC196","v":0},{"$f":"BD196","v":0},{"$f":"BE196","v":0},{"$f":"BF196","v":0},{"$f":"BG196","v":0},{"$f":"BH196","v":0},{"$f":"BI196","v":0},{"$f":"BJ196","v":0},{"$f":"BK196","v":0},{"$f":"BL196","v":0},{"$f":"BM196","v":0},{"$f":"BN196","v":0},{"$f":"BO196","v":0},{"$f":"BP196","v":0},{"$f":"BQ196","v":0},{"$f":"BR196","v":0},{"$f":"BS196","v":0},{"$f":"BT196","v":0},{"$f":"BU196","v":0},{"$f":"BV196","v":0},{"$f":"BW196","v":0},{"$f":"BX196","v":0},{"$f":"BY196","v":0},{"$f":"BZ196","v":0},{"$f":"CA196","v":0},{"$f":"CB196","v":0},{"$f":"CC196","v":0},{"$f":"CD196","v":0},{"$f":"CE196","v":0},{"$f":"CF196","v":0},{"$f":"CG196","v":0}]
[null,null,null,33,null,null,null,null,null,null,null,null,null,null,null,null,null,null,null,null,null,null,null,null,null,null,null,null,null,null,null,null,null,null,null,null,{"$f":"E196","v":1.9},{"$f":"F196","v":2.9},{"$f":"G196","v":3.9},{"$f":"H196","v":4.55},{"$f":"I196","v":5.2},{"$f":"J196","v":6.2},{"$f":"K196","v":7.2},{"$f":"L196","v":6.8000000000000007},{"$f":"M196","v":6.4},{"$f":"N196","v":6.65},{"$f":"O196","v":6.9},{"$f":"P196","v":7.45},{"$f":"Q196","v":8},{"$f":"R196","v":7.55},{"$f":"S196","v":7.1},{"$f":"T196","v":7.55},{"$f":"U196","v":8},{"$f":"V196","v":8.5500000000000007},{"$f":"W196","v":9.1},{"$f":"X196","v":10.433333333333332},{"$f":"Y196","v":11.766666666666666},{"$f":"Z196","v":13.1},{"$f":"AA196","v":11.766666666666666},{"$f":"AB196","v":10.433333333333334},{"$f":"AC196","v":9.1},{"$f":"AD196","v":8.5500000000000007},{"$f":"AE196","v":8},{"$f":"AF196","v":7.55},{"$f":"AG196","v":7.1},{"$f":"AH196","v":7.55},{"$f":"AI196","v":8},{"$f":"AJ196","v":7.45},{"$f":"AK196","v":6.9},{"$f":"AL196","v":6.65},{"$f":"AM196","v":6.4},{"$f":"AN196","v":6.8000000000000007},{"$f":"AO196","v":7.2},{"$f":"AP196","v":6.2},{"$f":"AQ196","v":5.2},{"$f":"AR196","v":4.55},{"$f":"AS196","v":3.9},{"$f":"AT196","v":2.9},{"$f":"AU196","v":1.9},{"$f":"AV196","v":0},{"$f":"AW196","v":0},{"$f":"AX196","v":0},{"$f":"AY196","v":0},{"$f":"AZ196","v":0},{"$f":"BA196","v":0},{"$f":"BB196","v":0},{"$f":"BC196","v":0},{"$f":"BD196","v":0},{"$f":"BE196","v":0},{"$f":"BF196","v":0},{"$f":"BG196","v":0},{"$f":"BH196","v":0},{"$f":"BI196","v":0},{"$f":"BJ196","v":0},{"$f":"BK196","v":0},{"$f":"BL196","v":0},{"$f":"BM196","v":0},{"$f":"BN196","v":0},{"$f":"BO196","v":0},{"$f":"BP196","v":0},{"$f":"BQ196","v":0},{"$f":"BR196","v":0},{"$f":"BS196","v":0},{"$f":"BT196","v":0},{"$f":"BU196","v":0},{"$f":"BV196","v":0},{"$f":"BW196","v":0},{"$f":"BX196","v":0},{"$f":"BY196","v":0},{"$f":"BZ196","v":0},{"$f":"CA196","v":0},{"$f":"CB196","v":0},{"$f":"CC196","v":0},{"$f":"CD196","v":0},{"$f":"CE196","v":0},{"$f":"CF196","v":0},{"$f":"CG196","v":0}]
[null,null,null,34,null,null,null,null,null,null,null,null,null,null,null,null,null,null,null,null,null,null,null,null,null,null,null,null,null,null,null,null,null,null,null,null,null,{"$f":"E196","v":1.9},{"$f":"F196","v":2.9},{"$f":"G196","v":3.9},{"$f":"H196","v":4.55},{"$f":"I196","v":5.2},{"$f":"J196","v":6.2},{"$f":"K196","v":7.2},{"$f":"L196","v":6.8000000000000007},{"$f":"M196","v":6.4},{"$f":"N196","v":6.65},{"$f":"O196","v":6.9},{"$f":"P196","v":7.45},{"$f":"Q196","v":8},{"$f":"R196","v":7.55},{"$f":"S196","v":7.1},{"$f":"T196","v":7.55},{"$f":"U196","v":8},{"$f":"V196","v":8.5500000000000007},{"$f":"W196","v":9.1},{"$f":"X196","v":10.433333333333332},{"$f":"Y196","v":11.766666666666666},{"$f":"Z196","v":13.1},{"$f":"AA196","v":11.766666666666666},{"$f":"AB196","v":10.433333333333334},{"$f":"AC196","v":9.1},{"$f":"AD196","v":8.5500000000000007},{"$f":"AE196","v":8},{"$f":"AF196","v":7.55},{"$f":"AG196","v":7.1},{"$f":"AH196","v":7.55},{"$f":"AI196","v":8},{"$f":"AJ196","v":7.45},{"$f":"AK196","v":6.9},{"$f":"AL196","v":6.65},{"$f":"AM196","v":6.4},{"$f":"AN196","v":6.8000000000000007},{"$f":"AO196","v":7.2},{"$f":"AP196","v":6.2},{"$f":"AQ196","v":5.2},{"$f":"AR196","v":4.55},{"$f":"AS196","v":3.9},{"$f":"AT196","v":2.9},{"$f":"AU196","v":1.9},{"$f":"AV196","v":0},{"$f":"AW196","v":0},{"$f":"AX196","v":0},{"$f":"AY196","v":0},{"$f":"AZ196","v":0},{"$f":"BA196","v":0},{"$f":"BB196","v":0},{"$f":"BC196","v":0},{"$f":"BD196","v":0},{"$f":"BE196","v":0},{"$f":"BF196","v":0},{"$f":"BG196","v":0},{"$f":"BH196","v":0},{"$f":"BI196","v":0},{"$f":"BJ196","v":0},{"$f":"BK196","v":0},{"$f":"BL196","v":0},{"$f":"BM196","v":0},{"$f":"BN196","v":0},{"$f":"BO196","v":0},{"$f":"BP196","v":0},{"$f":"BQ196","v":0},{"$f":"BR196","v":0},{"$f":"BS196","v":0},{"$f":"BT196","v":0},{"$f":"BU196","v":0},{"$f":"BV196","v":0},{"$f":"BW196","v":0},{"$f":"BX196","v":0},{"$f":"BY196","v":0},{"$f":"BZ196","v":0},{"$f":"CA196","v":0},{"$f":"CB196","v":0},{"$f":"CC196","v":0},{"$f":"CD196","v":0},{"$f":"CE196","v":0},{"$f":"CF196","v":0},{"$f":"CG196","v":0}]
[null,null,null,35,null,null,null,null,null,null,null,null,null,null,null,null,null,null,null,null,null,null,null,null,null,null,null,null,null,null,null,null,null,null,null,null,null,null,{"$f":"E196","v":1.9},{"$f":"F196","v":2.9},{"$f":"G196","v":3.9},{"$f":"H196","v":4.55},{"$f":"I196","v":5.2},{"$f":"J196","v":6.2},{"$f":"K196","v":7.2},{"$f":"L196","v":6.8000000000000007},{"$f":"M196","v":6.4},{"$f":"N196","v":6.65},{"$f":"O196","v":6.9},{"$f":"P196","v":7.45},{"$f":"Q196","v":8},{"$f":"R196","v":7.55},{"$f":"S196","v":7.1},{"$f":"T196","v":7.55},{"$f":"U196","v":8},{"$f":"V196","v":8.5500000000000007},{"$f":"W196","v":9.1},{"$f":"X196","v":10.433333333333332},{"$f":"Y196","v":11.766666666666666},{"$f":"Z196","v":13.1},{"$f":"AA196","v":11.766666666666666},{"$f":"AB196","v":10.433333333333334},{"$f":"AC196","v":9.1},{"$f":"AD196","v":8.5500000000000007},{"$f":"AE196","v":8},{"$f":"AF196","v":7.55},{"$f":"AG196","v":7.1},{"$f":"AH196","v":7.55},{"$f":"AI196","v":8},{"$f":"AJ196","v":7.45},{"$f":"AK196","v":6.9},{"$f":"AL196","v":6.65},{"$f":"AM196","v":6.4},{"$f":"AN196","v":6.8000000000000007},{"$f":"AO196","v":7.2},{"$f":"AP196","v":6.2},{"$f":"AQ196","v":5.2},{"$f":"AR196","v":4.55},{"$f":"AS196","v":3.9},{"$f":"AT196","v":2.9},{"$f":"AU196","v":1.9},{"$f":"AV196","v":0},{"$f":"AW196","v":0},{"$f":"AX196","v":0},{"$f":"AY196","v":0},{"$f":"AZ196","v":0},{"$f":"BA196","v":0},{"$f":"BB196","v":0},{"$f":"BC196","v":0},{"$f":"BD196","v":0},{"$f":"BE196","v":0},{"$f":"BF196","v":0},{"$f":"BG196","v":0},{"$f":"BH196","v":0},{"$f":"BI196","v":0},{"$f":"BJ196","v":0},{"$f":"BK196","v":0},{"$f":"BL196","v":0},{"$f":"BM196","v":0},{"$f":"BN196","v":0},{"$f":"BO196","v":0},{"$f":"BP196","v":0},{"$f":"BQ196","v":0},{"$f":"BR196","v":0},{"$f":"BS196","v":0},{"$f":"BT196","v":0},{"$f":"BU196","v":0},{"$f":"BV196","v":0},{"$f":"BW196","v":0},{"$f":"BX196","v":0},{"$f":"BY196","v":0},{"$f":"BZ196","v":0},{"$f":"CA196","v":0},{"$f":"CB196","v":0},{"$f":"CC196","v":0},{"$f":"CD196","v":0},{"$f":"CE196","v":0},{"$f":"CF196","v":0},{"$f":"CG196","v":0}]
[null,null,null,36,null,null,null,null,null,null,null,null,null,null,null,null,null,null,null,null,null,null,null,null,null,null,null,null,null,null,null,null,null,null,null,null,null,null,null,{"$f":"E196","v":1.9},{"$f":"F196","v":2.9},{"$f":"G196","v":3.9},{"$f":"H196","v":4.55},{"$f":"I196","v":5.2},{"$f":"J196","v":6.2},{"$f":"K196","v":7.2},{"$f":"L196","v":6.8000000000000007},{"$f":"M196","v":6.4},{"$f":"N196","v":6.65},{"$f":"O196","v":6.9},{"$f":"P196","v":7.45},{"$f":"Q196","v":8},{"$f":"R196","v":7.55},{"$f":"S196","v":7.1},{"$f":"T196","v":7.55},{"$f":"U196","v":8},{"$f":"V196","v":8.5500000000000007},{"$f":"W196","v":9.1},{"$f":"X196","v":10.433333333333332},{"$f":"Y196","v":11.766666666666666},{"$f":"Z196","v":13.1},{"$f":"AA196","v":11.766666666666666},{"$f":"AB196","v":10.433333333333334},{"$f":"AC196","v":9.1},{"$f":"AD196","v":8.5500000000000007},{"$f":"AE196","v":8},{"$f":"AF196","v":7.55},{"$f":"AG196","v":7.1},{"$f":"AH196","v":7.55},{"$f":"AI196","v":8},{"$f":"AJ196","v":7.45},{"$f":"AK196","v":6.9},{"$f":"AL196","v":6.65},{"$f":"AM196","v":6.4},{"$f":"AN196","v":6.8000000000000007},{"$f":"AO196","v":7.2},{"$f":"AP196","v":6.2},{"$f":"AQ196","v":5.2},{"$f":"AR196","v":4.55},{"$f":"AS196","v":3.9},{"$f":"AT196","v":2.9},{"$f":"AU196","v":1.9},{"$f":"AV196","v":0},{"$f":"AW196","v":0},{"$f":"AX196","v":0},{"$f":"AY196","v":0},{"$f":"AZ196","v":0},{"$f":"BA196","v":0},{"$f":"BB196","v":0},{"$f":"BC196","v":0},{"$f":"BD196","v":0},{"$f":"BE196","v":0},{"$f":"BF196","v":0},{"$f":"BG196","v":0},{"$f":"BH196","v":0},{"$f":"BI196","v":0},{"$f":"BJ196","v":0},{"$f":"BK196","v":0},{"$f":"BL196","v":0},{"$f":"BM196","v":0},{"$f":"BN196","v":0},{"$f":"BO196","v":0},{"$f":"BP196","v":0},{"$f":"BQ196","v":0},{"$f":"BR196","v":0},{"$f":"BS196","v":0},{"$f":"BT196","v":0},{"$f":"BU196","v":0},{"$f":"BV196","v":0},{"$f":"BW196","v":0},{"$f":"BX196","v":0},{"$f":"BY196","v":0},{"$f":"BZ196","v":0},{"$f":"CA196","v":0},{"$f":"CB196","v":0},{"$f":"CC196","v":0},{"$f":"CD196","v":0},{"$f":"CE196","v":0},{"$f":"CF196","v":0},{"$f":"CG196","v":0}]
[null,null,null,37,null,null,null,null,null,null,null,null,null,null,null,null,null,null,null,null,null,null,null,null,null,null,null,null,null,null,null,null,null,null,null,null,null,null,null,null,{"$f":"E196","v":1.9},{"$f":"F196","v":2.9},{"$f":"G196","v":3.9},{"$f":"H196","v":4.55},{"$f":"I196","v":5.2},{"$f":"J196","v":6.2},{"$f":"K196","v":7.2},{"$f":"L196","v":6.8000000000000007},{"$f":"M196","v":6.4},{"$f":"N196","v":6.65},{"$f":"O196","v":6.9},{"$f":"P196","v":7.45},{"$f":"Q196","v":8},{"$f":"R196","v":7.55},{"$f":"S196","v":7.1},{"$f":"T196","v":7.55},{"$f":"U196","v":8},{"$f":"V196","v":8.5500000000000007},{"$f":"W196","v":9.1},{"$f":"X196","v":10.433333333333332},{"$f":"Y196","v":11.766666666666666},{"$f":"Z196","v":13.1},{"$f":"AA196","v":11.766666666666666},{"$f":"AB196","v":10.433333333333334},{"$f":"AC196","v":9.1},{"$f":"AD196","v":8.5500000000000007},{"$f":"AE196","v":8},{"$f":"AF196","v":7.55},{"$f":"AG196","v":7.1},{"$f":"AH196","v":7.55},{"$f":"AI196","v":8},{"$f":"AJ196","v":7.45},{"$f":"AK196","v":6.9},{"$f":"AL196","v":6.65},{"$f":"AM196","v":6.4},{"$f":"AN196","v":6.8000000000000007},{"$f":"AO196","v":7.2},{"$f":"AP196","v":6.2},{"$f":"AQ196","v":5.2},{"$f":"AR196","v":4.55},{"$f":"AS196","v":3.9},{"$f":"AT196","v":2.9},{"$f":"AU196","v":1.9},{"$f":"AV196","v":0},{"$f":"AW196","v":0},{"$f":"AX196","v":0},{"$f":"AY196","v":0},{"$f":"AZ196","v":0},{"$f":"BA196","v":0},{"$f":"BB196","v":0},{"$f":"BC196","v":0},{"$f":"BD196","v":0},{"$f":"BE196","v":0},{"$f":"BF196","v":0},{"$f":"BG196","v":0},{"$f":"BH196","v":0},{"$f":"BI196","v":0},{"$f":"BJ196","v":0},{"$f":"BK196","v":0},{"$f":"BL196","v":0},{"$f":"BM196","v":0},{"$f":"BN196","v":0},{"$f":"BO196","v":0},{"$f":"BP196","v":0},{"$f":"BQ196","v":0},{"$f":"BR196","v":0},{"$f":"BS196","v":0},{"$f":"BT196","v":0},{"$f":"BU196","v":0},{"$f":"BV196","v":0},{"$f":"BW196","v":0},{"$f":"BX196","v":0},{"$f":"BY196","v":0},{"$f":"BZ196","v":0},{"$f":"CA196","v":0},{"$f":"CB196","v":0},{"$f":"CC196","v":0},{"$f":"CD196","v":0},{"$f":"CE196","v":0},{"$f":"CF196","v":0},{"$f":"CG196","v":0}]
[null,null,null,38,null,null,null,null,null,null,null,null,null,null,null,null,null,null,null,null,null,null,null,null,null,null,null,null,null,null,null,null,null,null,null,null,null,null,null,null,null,{"$f":"E196","v":1.9},{"$f":"F196","v":2.9},{"$f":"G196","v":3.9},{"$f":"H196","v":4.55},{"$f":"I196","v":5.2},{"$f":"J196","v":6.2},{"$f":"K196","v":7.2},{"$f":"L196","v":6.8000000000000007},{"$f":"M196","v":6.4},{"$f":"N196","v":6.65},{"$f":"O196","v":6.9},{"$f":"P196","v":7.45},{"$f":"Q196","v":8},{"$f":"R196","v":7.55},{"$f":"S196","v":7.1},{"$f":"T196","v":7.55},{"$f":"U196","v":8},{"$f":"V196","v":8.5500000000000007},{"$f":"W196","v":9.1},{"$f":"X196","v":10.433333333333332},{"$f":"Y196","v":11.766666666666666},{"$f":"Z196","v":13.1},{"$f":"AA196","v":11.766666666666666},{"$f":"AB196","v":10.433333333333334},{"$f":"AC196","v":9.1},{"$f":"AD196","v":8.5500000000000007},{"$f":"AE196","v":8},{"$f":"AF196","v":7.55},{"$f":"AG196","v":7.1},{"$f":"AH196","v":7.55},{"$f":"AI196","v":8},{"$f":"AJ196","v":7.45},{"$f":"AK196","v":6.9},{"$f":"AL196","v":6.65},{"$f":"AM196","v":6.4},{"$f":"AN196","v":6.8000000000000007},{"$f":"AO196","v":7.2},{"$f":"AP196","v":6.2},{"$f":"AQ196","v":5.2},{"$f":"AR196","v":4.55},{"$f":"AS196","v":3.9},{"$f":"AT196","v":2.9},{"$f":"AU196","v":1.9},{"$f":"AV196","v":0},{"$f":"AW196","v":0},{"$f":"AX196","v":0},{"$f":"AY196","v":0},{"$f":"AZ196","v":0},{"$f":"BA196","v":0},{"$f":"BB196","v":0},{"$f":"BC196","v":0},{"$f":"BD196","v":0},{"$f":"BE196","v":0},{"$f":"BF196","v":0},{"$f":"BG196","v":0},{"$f":"BH196","v":0},{"$f":"BI196","v":0},{"$f":"BJ196","v":0},{"$f":"BK196","v":0},{"$f":"BL196","v":0},{"$f":"BM196","v":0},{"$f":"BN196","v":0},{"$f":"BO196","v":0},{"$f":"BP196","v":0},{"$f":"BQ196","v":0},{"$f":"BR196","v":0},{"$f":"BS196","v":0},{"$f":"BT196","v":0},{"$f":"BU196","v":0},{"$f":"BV196","v":0},{"$f":"BW196","v":0},{"$f":"BX196","v":0},{"$f":"BY196","v":0},{"$f":"BZ196","v":0},{"$f":"CA196","v":0},{"$f":"CB196","v":0},{"$f":"CC196","v":0},{"$f":"CD196","v":0},{"$f":"CE196","v":0},{"$f":"CF196","v":0},{"$f":"CG196","v":0}]
[null,null,null,39,null,null,null,null,null,null,null,null,null,null,null,null,null,null,null,null,null,null,null,null,null,null,null,null,null,null,null,null,null,null,null,null,null,null,null,null,null,null,{"$f":"E196","v":1.9},{"$f":"F196","v":2.9},{"$f":"G196","v":3.9},{"$f":"H196","v":4.55},{"$f":"I196","v":5.2},{"$f":"J196","v":6.2},{"$f":"K196","v":7.2},{"$f":"L196","v":6.8000000000000007},{"$f":"M196","v":6.4},{"$f":"N196","v":6.65},{"$f":"O196","v":6.9},{"$f":"P196","v":7.45},{"$f":"Q196","v":8},{"$f":"R196","v":7.55},{"$f":"S196","v":7.1},{"$f":"T196","v":7.55},{"$f":"U196","v":8},{"$f":"V196","v":8.5500000000000007},{"$f":"W196","v":9.1},{"$f":"X196","v":10.433333333333332},{"$f":"Y196","v":11.766666666666666},{"$f":"Z196","v":13.1},{"$f":"AA196","v":11.766666666666666},{"$f":"AB196","v":10.433333333333334},{"$f":"AC196","v":9.1},{"$f":"AD196","v":8.5500000000000007},{"$f":"AE196","v":8},{"$f":"AF196","v":7.55},{"$f":"AG196","v":7.1},{"$f":"AH196","v":7.55},{"$f":"AI196","v":8},{"$f":"AJ196","v":7.45},{"$f":"AK196","v":6.9},{"$f":"AL196","v":6.65},{"$f":"AM196","v":6.4},{"$f":"AN196","v":6.8000000000000007},{"$f":"AO196","v":7.2},{"$f":"AP196","v":6.2},{"$f":"AQ196","v":5.2},{"$f":"AR196","v":4.55},{"$f":"AS196","v":3.9},{"$f":"AT196","v":2.9},{"$f":"AU196","v":1.9},{"$f":"AV196","v":0},{"$f":"AW196","v":0},{"$f":"AX196","v":0},{"$f":"AY196","v":0},{"$f":"AZ196","v":0},{"$f":"BA196","v":0},{"$f":"BB196","v":0},{"$f":"BC196","v":0},{"$f":"BD196","v":0},{"$f":"BE196","v":0},{"$f":"BF196","v":0},{"$f":"BG196","v":0},{"$f":"BH196","v":0},{"$f":"BI196","v":0},{"$f":"BJ196","v":0},{"$f":"BK196","v":0},{"$f":"BL196","v":0},{"$f":"BM196","v":0},{"$f":"BN196","v":0},{"$f":"BO196","v":0},{"$f":"BP196","v":0},{"$f":"BQ196","v":0},{"$f":"BR196","v":0},{"$f":"BS196","v":0},{"$f":"BT196","v":0},{"$f":"BU196","v":0},{"$f":"BV196","v":0},{"$f":"BW196","v":0},{"$f":"BX196","v":0},{"$f":"BY196","v":0},{"$f":"BZ196","v":0},{"$f":"CA196","v":0},{"$f":"CB196","v":0},{"$f":"CC196","v":0},{"$f":"CD196","v":0},{"$f":"CE196","v":0},{"$f":"CF196","v":0},{"$f":"CG196","v":0}]
[null,null,null,40,null,null,null,null,null,null,null,null,null,null,null,null,null,null,null,null,null,null,null,null,null,null,null,null,null,null,null,null,null,null,null,null,null,null,null,null,null,null,null,{"$f":"E196","v":1.9},{"$f":"F196","v":2.9},{"$f":"G196","v":3.9},{"$f":"H196","v":4.55},{"$f":"I196","v":5.2},{"$f":"J196","v":6.2},{"$f":"K196","v":7.2},{"$f":"L196","v":6.8000000000000007},{"$f":"M196","v":6.4},{"$f":"N196","v":6.65},{"$f":"O196","v":6.9},{"$f":"P196","v":7.45},{"$f":"Q196","v":8},{"$f":"R196","v":7.55},{"$f":"S196","v":7.1},{"$f":"T196","v":7.55},{"$f":"U196","v":8},{"$f":"V196","v":8.5500000000000007},{"$f":"W196","v":9.1},{"$f":"X196","v":10.433333333333332},{"$f":"Y196","v":11.766666666666666},{"$f":"Z196","v":13.1},{"$f":"AA196","v":11.766666666666666},{"$f":"AB196","v":10.433333333333334},{"$f":"AC196","v":9.1},{"$f":"AD196","v":8.5500000000000007},{"$f":"AE196","v":8},{"$f":"AF196","v":7.55},{"$f":"AG196","v":7.1},{"$f":"AH196","v":7.55},{"$f":"AI196","v":8},{"$f":"AJ196","v":7.45},{"$f":"AK196","v":6.9},{"$f":"AL196","v":6.65},{"$f":"AM196","v":6.4},{"$f":"AN196","v":6.8000000000000007},{"$f":"AO196","v":7.2},{"$f":"AP196","v":6.2},{"$f":"AQ196","v":5.2},{"$f":"AR196","v":4.55},{"$f":"AS196","v":3.9},{"$f":"AT196","v":2.9},{"$f":"AU196","v":1.9},{"$f":"AV196","v":0},{"$f":"AW196","v":0},{"$f":"AX196","v":0},{"$f":"AY196","v":0},{"$f":"AZ196","v":0},{"$f":"BA196","v":0},{"$f":"BB196","v":0},{"$f":"BC196","v":0},{"$f":"BD196","v":0},{"$f":"BE196","v":0},{"$f":"BF196","v":0},{"$f":"BG196","v":0},{"$f":"BH196","v":0},{"$f":"BI196","v":0},{"$f":"BJ196","v":0},{"$f":"BK196","v":0},{"$f":"BL196","v":0},{"$f":"BM196","v":0},{"$f":"BN196","v":0},{"$f":"BO196","v":0},{"$f":"BP196","v":0},{"$f":"BQ196","v":0},{"$f":"BR196","v":0},{"$f":"BS196","v":0},{"$f":"BT196","v":0},{"$f":"BU196","v":0},{"$f":"BV196","v":0},{"$f":"BW196","v":0},{"$f":"BX196","v":0},{"$f":"BY196","v":0},{"$f":"BZ196","v":0},{"$f":"CA196","v":0},{"$f":"CB196","v":0},{"$f":"CC196","v":0},{"$f":"CD196","v":0},{"$f":"CE196","v":0},{"$f":"CF196","v":0},{"$f":"CG196","v":0}]
[null,null,null,41,null,null,null,null,null,null,null,null,null,null,null,null,null,null,null,null,null,null,null,null,null,null,null,null,null,null,null,null,null,null,null,null,null,null,null,null,null,null,null,null,{"$f":"E196","v":1.9},{"$f":"F196","v":2.9},{"$f":"G196","v":3.9},{"$f":"H196","v":4.55},{"$f":"I196","v":5.2},{"$f":"J196","v":6.2},{"$f":"K196","v":7.2},{"$f":"L196","v":6.8000000000000007},{"$f":"M196","v":6.4},{"$f":"N196","v":6.65},{"$f":"O196","v":6.9},{"$f":"P196","v":7.45},{"$f":"Q196","v":8},{"$f":"R196","v":7.55},{"$f":"S196","v":7.1},{"$f":"T196","v":7.55},{"$f":"U196","v":8},{"$f":"V196","v":8.5500000000000007},{"$f":"W196","v":9.1},{"$f":"X196","v":10.433333333333332},{"$f":"Y196","v":11.766666666666666},{"$f":"Z196","v":13.1},{"$f":"AA196","v":11.766666666666666},{"$f":"AB196","v":10.433333333333334},{"$f":"AC196","v":9.1},{"$f":"AD196","v":8.5500000000000007},{"$f":"AE196","v":8},{"$f":"AF196","v":7.55},{"$f":"AG196","v":7.1},{"$f":"AH196","v":7.55},{"$f":"AI196","v":8},{"$f":"AJ196","v":7.45},{"$f":"AK196","v":6.9},{"$f":"AL196","v":6.65},{"$f":"AM196","v":6.4},{"$f":"AN196","v":6.8000000000000007},{"$f":"AO196","v":7.2},{"$f":"AP196","v":6.2},{"$f":"AQ196","v":5.2},{"$f":"AR196","v":4.55},{"$f":"AS196","v":3.9},{"$f":"AT196","v":2.9},{"$f":"AU196","v":1.9},{"$f":"AV196","v":0},{"$f":"AW196","v":0},{"$f":"AX196","v":0},{"$f":"AY196","v":0},{"$f":"AZ196","v":0},{"$f":"BA196","v":0},{"$f":"BB196","v":0},{"$f":"BC196","v":0},{"$f":"BD196","v":0},{"$f":"BE196","v":0},{"$f":"BF196","v":0},{"$f":"BG196","v":0},{"$f":"BH196","v":0},{"$f":"BI196","v":0},{"$f":"BJ196","v":0},{"$f":"BK196","v":0},{"$f":"BL196","v":0},{"$f":"BM196","v":0},{"$f":"BN196","v":0},{"$f":"BO196","v":0},{"$f":"BP196","v":0},{"$f":"BQ196","v":0},{"$f":"BR196","v":0},{"$f":"BS196","v":0},{"$f":"BT196","v":0},{"$f":"BU196","v":0},{"$f":"BV196","v":0},{"$f":"BW196","v":0},{"$f":"BX196","v":0},{"$f":"BY196","v":0},{"$f":"BZ196","v":0},{"$f":"CA196","v":0},{"$f":"CB196","v":0},{"$f":"CC196","v":0},{"$f":"CD196","v":0},{"$f":"CE196","v":0},{"$f":"CF196","v":0},{"$f":"CG196","v":0}]
[null,null,null,42,null,null,null,null,null,null,null,null,null,null,null,null,null,null,null,null,null,null,null,null,null,null,null,null,null,null,null,null,null,null,null,null,null,null,null,null,null,null,null,null,null,{"$f":"E196","v":1.9},{"$f":"F196","v":2.9},{"$f":"G196","v":3.9},{"$f":"H196","v":4.55},{"$f":"I196","v":5.2},{"$f":"J196","v":6.2},{"$f":"K196","v":7.2},{"$f":"L196","v":6.8000000000000007},{"$f":"M196","v":6.4},{"$f":"N196","v":6.65},{"$f":"O196","v":6.9},{"$f":"P196","v":7.45},{"$f":"Q196","v":8},{"$f":"R196","v":7.55},{"$f":"S196","v":7.1},{"$f":"T196","v":7.55},{"$f":"U196","v":8},{"$f":"V196","v":8.5500000000000007},{"$f":"W196","v":9.1},{"$f":"X196","v":10.433333333333332},{"$f":"Y196","v":11.766666666666666},{"$f":"Z196","v":13.1},{"$f":"AA196","v":11.766666666666666},{"$f":"AB196","v":10.433333333333334},{"$f":"AC196","v":9.1},{"$f":"AD196","v":8.5500000000000007},{"$f":"AE196","v":8},{"$f":"AF196","v":7.55},{"$f":"AG196","v":7.1},{"$f":"AH196","v":7.55},{"$f":"AI196","v":8},{"$f":"AJ196","v":7.45},{"$f":"AK196","v":6.9},{"$f":"AL196","v":6.65},{"$f":"AM196","v":6.4},{"$f":"AN196","v":6.8000000000000007},{"$f":"AO196","v":7.2},{"$f":"AP196","v":6.2},{"$f":"AQ196","v":5.2},{"$f":"AR196","v":4.55},{"$f":"AS196","v":3.9},{"$f":"AT196","v":2.9},{"$f":"AU196","v":1.9},{"$f":"AV196","v":0},{"$f":"AW196","v":0},{"$f":"AX196","v":0},{"$f":"AY196","v":0},{"$f":"AZ196","v":0},{"$f":"BA196","v":0},{"$f":"BB196","v":0},{"$f":"BC196","v":0},{"$f":"BD196","v":0},{"$f":"BE196","v":0},{"$f":"BF196","v":0},{"$f":"BG196","v":0},{"$f":"BH196","v":0},{"$f":"BI196","v":0},{"$f":"BJ196","v":0},{"$f":"BK196","v":0},{"$f":"BL196","v":0},{"$f":"BM196","v":0},{"$f":"BN196","v":0},{"$f":"BO196","v":0},{"$f":"BP196","v":0},{"$f":"BQ196","v":0},{"$f":"BR196","v":0},{"$f":"BS196","v":0},{"$f":"BT196","v":0},{"$f":"BU196","v":0},{"$f":"BV196","v":0},{"$f":"BW196","v":0},{"$f":"BX196","v":0},{"$f":"BY196","v":0},{"$f":"BZ196","v":0},{"$f":"CA196","v":0},{"$f":"CB196","v":0},{"$f":"CC196","v":0},{"$f":"CD196","v":0},{"$f":"CE196","v":0},{"$f":"CF196","v":0},{"$f":"CG196","v":0}]
[null,null,null,43,null,null,null,null,null,null,null,null,null,null,null,null,null,null,null,null,null,null,null,null,null,null,null,null,null,null,null,null,null,null,null,null,null,null,null,null,null,null,null,null,null,null,{"$f":"E196","v":1.9},{"$f":"F196","v":2.9},{"$f":"G196","v":3.9},{"$f":"H196","v":4.55},{"$f":"I196","v":5.2},{"$f":"J196","v":6.2},{"$f":"K196","v":7.2},{"$f":"L196","v":6.8000000000000007},{"$f":"M196","v":6.4},{"$f":"N196","v":6.65},{"$f":"O196","v":6.9},{"$f":"P196","v":7.45},{"$f":"Q196","v":8},{"$f":"R196","v":7.55},{"$f":"S196","v":7.1},{"$f":"T196","v":7.55},{"$f":"U196","v":8},{"$f":"V196","v":8.5500000000000007},{"$f":"W196","v":9.1},{"$f":"X196","v":10.433333333333332},{"$f":"Y196","v":11.766666666666666},{"$f":"Z196","v":13.1},{"$f":"AA196","v":11.766666666666666},{"$f":"AB196","v":10.433333333333334},{"$f":"AC196","v":9.1},{"$f":"AD196","v":8.5500000000000007},{"$f":"AE196","v":8},{"$f":"AF196","v":7.55},{"$f":"AG196","v":7.1},{"$f":"AH196","v":7.55},{"$f":"AI196","v":8},{"$f":"AJ196","v":7.45},{"$f":"AK196","v":6.9},{"$f":"AL196","v":6.65},{"$f":"AM196","v":6.4},{"$f":"AN196","v":6.8000000000000007},{"$f":"AO196","v":7.2},{"$f":"AP196","v":6.2},{"$f":"AQ196","v":5.2},{"$f":"AR196","v":4.55},{"$f":"AS196","v":3.9},{"$f":"AT196","v":2.9},{"$f":"AU196","v":1.9},{"$f":"AV196","v":0},{"$f":"AW196","v":0},{"$f":"AX196","v":0},{"$f":"AY196","v":0},{"$f":"AZ196","v":0},{"$f":"BA196","v":0},{"$f":"BB196","v":0},{"$f":"BC196","v":0},{"$f":"BD196","v":0},{"$f":"BE196","v":0},{"$f":"BF196","v":0},{"$f":"BG196","v":0},{"$f":"BH196","v":0},{"$f":"BI196","v":0},{"$f":"BJ196","v":0},{"$f":"BK196","v":0},{"$f":"BL196","v":0},{"$f":"BM196","v":0},{"$f":"BN196","v":0},{"$f":"BO196","v":0},{"$f":"BP196","v":0},{"$f":"BQ196","v":0},{"$f":"BR196","v":0},{"$f":"BS196","v":0},{"$f":"BT196","v":0},{"$f":"BU196","v":0},{"$f":"BV196","v":0},{"$f":"BW196","v":0},{"$f":"BX196","v":0},{"$f":"BY196","v":0},{"$f":"BZ196","v":0},{"$f":"CA196","v":0},{"$f":"CB196","v":0},{"$f":"CC196","v":0},{"$f":"CD196","v":0},{"$f":"CE196","v":0},{"$f":"CF196","v":0},{"$f":"CG196","v":0}]
[null,null,null,44,null,null,null,null,null,null,null,null,null,null,null,null,null,null,null,null,null,null,null,null,null,null,null,null,null,null,null,null,null,null,null,null,null,null,null,null,null,null,null,null,null,null,null,{"$f":"E196","v":1.9},{"$f":"F196","v":2.9},{"$f":"G196","v":3.9},{"$f":"H196","v":4.55},{"$f":"I196","v":5.2},{"$f":"J196","v":6.2},{"$f":"K196","v":7.2},{"$f":"L196","v":6.8000000000000007},{"$f":"M196","v":6.4},{"$f":"N196","v":6.65},{"$f":"O196","v":6.9},{"$f":"P196","v":7.45},{"$f":"Q196","v":8},{"$f":"R196","v":7.55},{"$f":"S196","v":7.1},{"$f":"T196","v":7.55},{"$f":"U196","v":8},{"$f":"V196","v":8.5500000000000007},{"$f":"W196","v":9.1},{"$f":"X196","v":10.433333333333332},{"$f":"Y196","v":11.766666666666666},{"$f":"Z196","v":13.1},{"$f":"AA196","v":11.766666666666666},{"$f":"AB196","v":10.433333333333334},{"$f":"AC196","v":9.1},{"$f":"AD196","v":8.5500000000000007},{"$f":"AE196","v":8},{"$f":"AF196","v":7.55},{"$f":"AG196","v":7.1},{"$f":"AH196","v":7.55},{"$f":"AI196","v":8},{"$f":"AJ196","v":7.45},{"$f":"AK196","v":6.9},{"$f":"AL196","v":6.65},{"$f":"AM196","v":6.4},{"$f":"AN196","v":6.8000000000000007},{"$f":"AO196","v":7.2},{"$f":"AP196","v":6.2},{"$f":"AQ196","v":5.2},{"$f":"AR196","v":4.55},{"$f":"AS196","v":3.9},{"$f":"AT196","v":2.9},{"$f":"AU196","v":1.9},{"$f":"AV196","v":0},{"$f":"AW196","v":0},{"$f":"AX196","v":0},{"$f":"AY196","v":0},{"$f":"AZ196","v":0},{"$f":"BA196","v":0},{"$f":"BB196","v":0},{"$f":"BC196","v":0},{"$f":"BD196","v":0},{"$f":"BE196","v":0},{"$f":"BF196","v":0},{"$f":"BG196","v":0},{"$f":"BH196","v":0},{"$f":"BI196","v":0},{"$f":"BJ196","v":0},{"$f":"BK196","v":0},{"$f":"BL196","v":0},{"$f":"BM196","v":0},{"$f":"BN196","v":0},{"$f":"BO196","v":0},{"$f":"BP196","v":0},{"$f":"BQ196","v":0},{"$f":"BR196","v":0},{"$f":"BS196","v":0},{"$f":"BT196","v":0},{"$f":"BU196","v":0},{"$f":"BV196","v":0},{"$f":"BW196","v":0},{"$f":"BX196","v":0},{"$f":"BY196","v":0},{"$f":"BZ196","v":0},{"$f":"CA196","v":0},{"$f":"CB196","v":0},{"$f":"CC196","v":0},{"$f":"CD196","v":0},{"$f":"CE196","v":0},{"$f":"CF196","v":0},{"$f":"CG196","v":0}]
[null,null,null,45,null,null,null,null,null,null,null,null,null,null,null,null,null,null,null,null,null,null,null,null,null,null,null,null,null,null,null,null,null,null,null,null,null,null,null,null,null,null,null,null,null,null,null,null,{"$f":"E196","v":1.9},{"$f":"F196","v":2.9},{"$f":"G196","v":3.9},{"$f":"H196","v":4.55},{"$f":"I196","v":5.2},{"$f":"J196","v":6.2},{"$f":"K196","v":7.2},{"$f":"L196","v":6.8000000000000007},{"$f":"M196","v":6.4},{"$f":"N196","v":6.65},{"$f":"O196","v":6.9},{"$f":"P196","v":7.45},{"$f":"Q196","v":8},{"$f":"R196","v":7.55},{"$f":"S196","v":7.1},{"$f":"T196","v":7.55},{"$f":"U196","v":8},{"$f":"V196","v":8.5500000000000007},{"$f":"W196","v":9.1},{"$f":"X196","v":10.433333333333332},{"$f":"Y196","v":11.766666666666666},{"$f":"Z196","v":13.1},{"$f":"AA196","v":11.766666666666666},{"$f":"AB196","v":10.433333333333334},{"$f":"AC196","v":9.1},{"$f":"AD196","v":8.5500000000000007},{"$f":"AE196","v":8},{"$f":"AF196","v":7.55},{"$f":"AG196","v":7.1},{"$f":"AH196","v":7.55},{"$f":"AI196","v":8},{"$f":"AJ196","v":7.45},{"$f":"AK196","v":6.9},{"$f":"AL196","v":6.65},{"$f":"AM196","v":6.4},{"$f":"AN196","v":6.8000000000000007},{"$f":"AO196","v":7.2},{"$f":"AP196","v":6.2},{"$f":"AQ196","v":5.2},{"$f":"AR196","v":4.55},{"$f":"AS196","v":3.9},{"$f":"AT196","v":2.9},{"$f":"AU196","v":1.9},{"$f":"AV196","v":0},{"$f":"AW196","v":0},{"$f":"AX196","v":0},{"$f":"AY196","v":0},{"$f":"AZ196","v":0},{"$f":"BA196","v":0},{"$f":"BB196","v":0},{"$f":"BC196","v":0},{"$f":"BD196","v":0},{"$f":"BE196","v":0},{"$f":"BF196","v":0},{"$f":"BG196","v":0},{"$f":"BH196","v":0},{"$f":"BI196","v":0},{"$f":"BJ196","v":0},{"$f":"BK196","v":0},{"$f":"BL196","v":0},{"$f":"BM196","v":0},{"$f":"BN196","v":0},{"$f":"BO196","v":0},{"$f":"BP196","v":0},{"$f":"BQ196","v":0},{"$f":"BR196","v":0},{"$f":"BS196","v":0},{"$f":"BT196","v":0},{"$f":"BU196","v":0},{"$f":"BV196","v":0},{"$f":"BW196","v":0},{"$f":"BX196","v":0},{"$f":"BY196","v":0},{"$f":"BZ196","v":0},{"$f":"CA196","v":0},{"$f":"CB196","v":0},{"$f":"CC196","v":0},{"$f":"CD196","v":0},{"$f":"CE196","v":0},{"$f":"CF196","v":0},{"$f":"CG196","v":0}]
[null,null,null,46,null,null,null,null,null,null,null,null,null,null,null,null,null,null,null,null,null,null,null,null,null,null,null,null,null,null,null,null,null,null,null,null,null,null,null,null,null,null,null,null,null,null,null,null,null,{"$f":"E196","v":1.9},{"$f":"F196","v":2.9},{"$f":"G196","v":3.9},{"$f":"H196","v":4.55},{"$f":"I196","v":5.2},{"$f":"J196","v":6.2},{"$f":"K196","v":7.2},{"$f":"L196","v":6.8000000000000007},{"$f":"M196","v":6.4},{"$f":"N196","v":6.65},{"$f":"O196","v":6.9},{"$f":"P196","v":7.45},{"$f":"Q196","v":8},{"$f":"R196","v":7.55},{"$f":"S196","v":7.1},{"$f":"T196","v":7.55},{"$f":"U196","v":8},{"$f":"V196","v":8.5500000000000007},{"$f":"W196","v":9.1},{"$f":"X196","v":10.433333333333332},{"$f":"Y196","v":11.766666666666666},{"$f":"Z196","v":13.1},{"$f":"AA196","v":11.766666666666666},{"$f":"AB196","v":10.433333333333334},{"$f":"AC196","v":9.1},{"$f":"AD196","v":8.5500000000000007},{"$f":"AE196","v":8},{"$f":"AF196","v":7.55},{"$f":"AG196","v":7.1},{"$f":"AH196","v":7.55},{"$f":"AI196","v":8},{"$f":"AJ196","v":7.45},{"$f":"AK196","v":6.9},{"$f":"AL196","v":6.65},{"$f":"AM196","v":6.4},{"$f":"AN196","v":6.8000000000000007},{"$f":"AO196","v":7.2},{"$f":"AP196","v":6.2},{"$f":"AQ196","v":5.2},{"$f":"AR196","v":4.55},{"$f":"AS196","v":3.9},{"$f":"AT196","v":2.9},{"$f":"AU196","v":1.9},{"$f":"AV196","v":0},{"$f":"AW196","v":0},{"$f":"AX196","v":0},{"$f":"AY196","v":0},{"$f":"AZ196","v":0},{"$f":"BA196","v":0},{"$f":"BB196","v":0},{"$f":"BC196","v":0},{"$f":"BD196","v":0},{"$f":"BE196","v":0},{"$f":"BF196","v":0},{"$f":"BG196","v":0},{"$f":"BH196","v":0},{"$f":"BI196","v":0},{"$f":"BJ196","v":0},{"$f":"BK196","v":0},{"$f":"BL196","v":0},{"$f":"BM196","v":0},{"$f":"BN196","v":0},{"$f":"BO196","v":0},{"$f":"BP196","v":0},{"$f":"BQ196","v":0},{"$f":"BR196","v":0},{"$f":"BS196","v":0},{"$f":"BT196","v":0},{"$f":"BU196","v":0},{"$f":"BV196","v":0},{"$f":"BW196","v":0},{"$f":"BX196","v":0},{"$f":"BY196","v":0},{"$f":"BZ196","v":0},{"$f":"CA196","v":0},{"$f":"CB196","v":0},{"$f":"CC196","v":0},{"$f":"CD196","v":0},{"$f":"CE196","v":0},{"$f":"CF196","v":0},{"$f":"CG196","v":0}]
[null,null,null,47,null,null,null,null,null,null,null,null,null,null,null,null,null,null,null,null,null,null,null,null,null,null,null,null,null,null,null,null,null,null,null,null,null,null,null,null,null,null,null,null,null,null,null,null,null,null,{"$f":"E196","v":1.9},{"$f":"F196","v":2.9},{"$f":"G196","v":3.9},{"$f":"H196","v":4.55},{"$f":"I196","v":5.2},{"$f":"J196","v":6.2},{"$f":"K196","v":7.2},{"$f":"L196","v":6.8000000000000007},{"$f":"M196","v":6.4},{"$f":"N196","v":6.65},{"$f":"O196","v":6.9},{"$f":"P196","v":7.45},{"$f":"Q196","v":8},{"$f":"R196","v":7.55},{"$f":"S196","v":7.1},{"$f":"T196","v":7.55},{"$f":"U196","v":8},{"$f":"V196","v":8.5500000000000007},{"$f":"W196","v":9.1},{"$f":"X196","v":10.433333333333332},{"$f":"Y196","v":11.766666666666666},{"$f":"Z196","v":13.1},{"$f":"AA196","v":11.766666666666666},{"$f":"AB196","v":10.433333333333334},{"$f":"AC196","v":9.1},{"$f":"AD196","v":8.5500000000000007},{"$f":"AE196","v":8},{"$f":"AF196","v":7.55},{"$f":"AG196","v":7.1},{"$f":"AH196","v":7.55},{"$f":"AI196","v":8},{"$f":"AJ196","v":7.45},{"$f":"AK196","v":6.9},{"$f":"AL196","v":6.65},{"$f":"AM196","v":6.4},{"$f":"AN196","v":6.8000000000000007},{"$f":"AO196","v":7.2},{"$f":"AP196","v":6.2},{"$f":"AQ196","v":5.2},{"$f":"AR196","v":4.55},{"$f":"AS196","v":3.9},{"$f":"AT196","v":2.9},{"$f":"AU196","v":1.9},{"$f":"AV196","v":0},{"$f":"AW196","v":0},{"$f":"AX196","v":0},{"$f":"AY196","v":0},{"$f":"AZ196","v":0},{"$f":"BA196","v":0},{"$f":"BB196","v":0},{"$f":"BC196","v":0},{"$f":"BD196","v":0},{"$f":"BE196","v":0},{"$f":"BF196","v":0},{"$f":"BG196","v":0},{"$f":"BH196","v":0},{"$f":"BI196","v":0},{"$f":"BJ196","v":0},{"$f":"BK196","v":0},{"$f":"BL196","v":0},{"$f":"BM196","v":0},{"$f":"BN196","v":0},{"$f":"BO196","v":0},{"$f":"BP196","v":0},{"$f":"BQ196","v":0},{"$f":"BR196","v":0},{"$f":"BS196","v":0},{"$f":"BT196","v":0},{"$f":"BU196","v":0},{"$f":"BV196","v":0},{"$f":"BW196","v":0},{"$f":"BX196","v":0},{"$f":"BY196","v":0},{"$f":"BZ196","v":0},{"$f":"CA196","v":0},{"$f":"CB196","v":0},{"$f":"CC196","v":0},{"$f":"CD196","v":0},{"$f":"CE196","v":0},{"$f":"CF196","v":0},{"$f":"CG196","v":0}]
[null,null,null,48,null,null,null,null,null,null,null,null,null,null,null,null,null,null,null,null,null,null,null,null,null,null,null,null,null,null,null,null,null,null,null,null,null,null,null,null,null,null,null,null,null,null,null,null,null,null,null,{"$f":"E196","v":1.9},{"$f":"F196","v":2.9},{"$f":"G196","v":3.9},{"$f":"H196","v":4.55},{"$f":"I196","v":5.2},{"$f":"J196","v":6.2},{"$f":"K196","v":7.2},{"$f":"L196","v":6.8000000000000007},{"$f":"M196","v":6.4},{"$f":"N196","v":6.65},{"$f":"O196","v":6.9},{"$f":"P196","v":7.45},{"$f":"Q196","v":8},{"$f":"R196","v":7.55},{"$f":"S196","v":7.1},{"$f":"T196","v":7.55},{"$f":"U196","v":8},{"$f":"V196","v":8.5500000000000007},{"$f":"W196","v":9.1},{"$f":"X196","v":10.433333333333332},{"$f":"Y196","v":11.766666666666666},{"$f":"Z196","v":13.1},{"$f":"AA196","v":11.766666666666666},{"$f":"AB196","v":10.433333333333334},{"$f":"AC196","v":9.1},{"$f":"AD196","v":8.5500000000000007},{"$f":"AE196","v":8},{"$f":"AF196","v":7.55},{"$f":"AG196","v":7.1},{"$f":"AH196","v":7.55},{"$f":"AI196","v":8},{"$f":"AJ196","v":7.45},{"$f":"AK196","v":6.9},{"$f":"AL196","v":6.65},{"$f":"AM196","v":6.4},{"$f":"AN196","v":6.8000000000000007},{"$f":"AO196","v":7.2},{"$f":"AP196","v":6.2},{"$f":"AQ196","v":5.2},{"$f":"AR196","v":4.55},{"$f":"AS196","v":3.9},{"$f":"AT196","v":2.9},{"$f":"AU196","v":1.9},{"$f":"AV196","v":0},{"$f":"AW196","v":0},{"$f":"AX196","v":0},{"$f":"AY196","v":0},{"$f":"AZ196","v":0},{"$f":"BA196","v":0},{"$f":"BB196","v":0},{"$f":"BC196","v":0},{"$f":"BD196","v":0},{"$f":"BE196","v":0},{"$f":"BF196","v":0},{"$f":"BG196","v":0},{"$f":"BH196","v":0},{"$f":"BI196","v":0},{"$f":"BJ196","v":0},{"$f":"BK196","v":0},{"$f":"BL196","v":0},{"$f":"BM196","v":0},{"$f":"BN196","v":0},{"$f":"BO196","v":0},{"$f":"BP196","v":0},{"$f":"BQ196","v":0},{"$f":"BR196","v":0},{"$f":"BS196","v":0},{"$f":"BT196","v":0},{"$f":"BU196","v":0},{"$f":"BV196","v":0},{"$f":"BW196","v":0},{"$f":"BX196","v":0},{"$f":"BY196","v":0},{"$f":"BZ196","v":0},{"$f":"CA196","v":0},{"$f":"CB196","v":0},{"$f":"CC196","v":0},{"$f":"CD196","v":0},{"$f":"CE196","v":0},{"$f":"CF196","v":0},{"$f":"CG196","v":0}]
[null,null,null,49,null,null,null,null,null,null,null,null,null,null,null,null,null,null,null,null,null,null,null,null,null,null,null,null,null,null,null,null,null,null,null,null,null,null,null,null,null,null,null,null,null,null,null,null,null,null,null,null,{"$f":"E196","v":1.9},{"$f":"F196","v":2.9},{"$f":"G196","v":3.9},{"$f":"H196","v":4.55},{"$f":"I196","v":5.2},{"$f":"J196","v":6.2},{"$f":"K196","v":7.2},{"$f":"L196","v":6.8000000000000007},{"$f":"M196","v":6.4},{"$f":"N196","v":6.65},{"$f":"O196","v":6.9},{"$f":"P196","v":7.45},{"$f":"Q196","v":8},{"$f":"R196","v":7.55},{"$f":"S196","v":7.1},{"$f":"T196","v":7.55},{"$f":"U196","v":8},{"$f":"V196","v":8.5500000000000007},{"$f":"W196","v":9.1},{"$f":"X196","v":10.433333333333332},{"$f":"Y196","v":11.766666666666666},{"$f":"Z196","v":13.1},{"$f":"AA196","v":11.766666666666666},{"$f":"AB196","v":10.433333333333334},{"$f":"AC196","v":9.1},{"$f":"AD196","v":8.5500000000000007},{"$f":"AE196","v":8},{"$f":"AF196","v":7.55},{"$f":"AG196","v":7.1},{"$f":"AH196","v":7.55},{"$f":"AI196","v":8},{"$f":"AJ196","v":7.45},{"$f":"AK196","v":6.9},{"$f":"AL196","v":6.65},{"$f":"AM196","v":6.4},{"$f":"AN196","v":6.8000000000000007},{"$f":"AO196","v":7.2},{"$f":"AP196","v":6.2},{"$f":"AQ196","v":5.2},{"$f":"AR196","v":4.55},{"$f":"AS196","v":3.9},{"$f":"AT196","v":2.9},{"$f":"AU196","v":1.9},{"$f":"AV196","v":0},{"$f":"AW196","v":0},{"$f":"AX196","v":0},{"$f":"AY196","v":0},{"$f":"AZ196","v":0},{"$f":"BA196","v":0},{"$f":"BB196","v":0},{"$f":"BC196","v":0},{"$f":"BD196","v":0},{"$f":"BE196","v":0},{"$f":"BF196","v":0},{"$f":"BG196","v":0},{"$f":"BH196","v":0},{"$f":"BI196","v":0},{"$f":"BJ196","v":0},{"$f":"BK196","v":0},{"$f":"BL196","v":0},{"$f":"BM196","v":0},{"$f":"BN196","v":0},{"$f":"BO196","v":0},{"$f":"BP196","v":0},{"$f":"BQ196","v":0},{"$f":"BR196","v":0},{"$f":"BS196","v":0},{"$f":"BT196","v":0},{"$f":"BU196","v":0},{"$f":"BV196","v":0},{"$f":"BW196","v":0},{"$f":"BX196","v":0},{"$f":"BY196","v":0},{"$f":"BZ196","v":0},{"$f":"CA196","v":0},{"$f":"CB196","v":0},{"$f":"CC196","v":0},{"$f":"CD196","v":0},{"$f":"CE196","v":0},{"$f":"CF196","v":0},{"$f":"CG196","v":0}]
[null,null,null,50,null,null,null,null,null,null,null,null,null,null,null,null,null,null,null,null,null,null,null,null,null,null,null,null,null,null,null,null,null,null,null,null,null,null,null,null,null,null,null,null,null,null,null,null,null,null,null,null,null,{"$f":"E196","v":1.9},{"$f":"F196","v":2.9},{"$f":"G196","v":3.9},{"$f":"H196","v":4.55},{"$f":"I196","v":5.2},{"$f":"J196","v":6.2},{"$f":"K196","v":7.2},{"$f":"L196","v":6.8000000000000007},{"$f":"M196","v":6.4},{"$f":"N196","v":6.65},{"$f":"O196","v":6.9},{"$f":"P196","v":7.45},{"$f":"Q196","v":8},{"$f":"R196","v":7.55},{"$f":"S196","v":7.1},{"$f":"T196","v":7.55},{"$f":"U196","v":8},{"$f":"V196","v":8.5500000000000007},{"$f":"W196","v":9.1},{"$f":"X196","v":10.433333333333332},{"$f":"Y196","v":11.766666666666666},{"$f":"Z196","v":13.1},{"$f":"AA196","v":11.766666666666666},{"$f":"AB196","v":10.433333333333334},{"$f":"AC196","v":9.1},{"$f":"AD196","v":8.5500000000000007},{"$f":"AE196","v":8},{"$f":"AF196","v":7.55},{"$f":"AG196","v":7.1},{"$f":"AH196","v":7.55},{"$f":"AI196","v":8},{"$f":"AJ196","v":7.45},{"$f":"AK196","v":6.9},{"$f":"AL196","v":6.65},{"$f":"AM196","v":6.4},{"$f":"AN196","v":6.8000000000000007},{"$f":"AO196","v":7.2},{"$f":"AP196","v":6.2},{"$f":"AQ196","v":5.2},{"$f":"AR196","v":4.55},{"$f":"AS196","v":3.9},{"$f":"AT196","v":2.9},{"$f":"AU196","v":1.9},{"$f":"AV196","v":0},{"$f":"AW196","v":0},{"$f":"AX196","v":0},{"$f":"AY196","v":0},{"$f":"AZ196","v":0},{"$f":"BA196","v":0},{"$f":"BB196","v":0},{"$f":"BC196","v":0},{"$f":"BD196","v":0},{"$f":"BE196","v":0},{"$f":"BF196","v":0},{"$f":"BG196","v":0},{"$f":"BH196","v":0},{"$f":"BI196","v":0},{"$f":"BJ196","v":0},{"$f":"BK196","v":0},{"$f":"BL196","v":0},{"$f":"BM196","v":0},{"$f":"BN196","v":0},{"$f":"BO196","v":0},{"$f":"BP196","v":0},{"$f":"BQ196","v":0},{"$f":"BR196","v":0},{"$f":"BS196","v":0},{"$f":"BT196","v":0},{"$f":"BU196","v":0},{"$f":"BV196","v":0},{"$f":"BW196","v":0},{"$f":"BX196","v":0},{"$f":"BY196","v":0},{"$f":"BZ196","v":0},{"$f":"CA196","v":0},{"$f":"CB196","v":0},{"$f":"CC196","v":0},{"$f":"CD196","v":0},{"$f":"CE196","v":0},{"$f":"CF196","v":0},{"$f":"CG196","v":0}]
[null,null,null,51,null,null,null,null,null,null,null,null,null,null,null,null,null,null,null,null,null,null,null,null,null,null,null,null,null,null,null,null,null,null,null,null,null,null,null,null,null,null,null,null,null,null,null,null,null,null,null,null,null,null,{"$f":"E196","v":1.9},{"$f":"F196","v":2.9},{"$f":"G196","v":3.9},{"$f":"H196","v":4.55},{"$f":"I196","v":5.2},{"$f":"J196","v":6.2},{"$f":"K196","v":7.2},{"$f":"L196","v":6.8000000000000007},{"$f":"M196","v":6.4},{"$f":"N196","v":6.65},{"$f":"O196","v":6.9},{"$f":"P196","v":7.45},{"$f":"Q196","v":8},{"$f":"R196","v":7.55},{"$f":"S196","v":7.1},{"$f":"T196","v":7.55},{"$f":"U196","v":8},{"$f":"V196","v":8.5500000000000007},{"$f":"W196","v":9.1},{"$f":"X196","v":10.433333333333332},{"$f":"Y196","v":11.766666666666666},{"$f":"Z196","v":13.1},{"$f":"AA196","v":11.766666666666666},{"$f":"AB196","v":10.433333333333334},{"$f":"AC196","v":9.1},{"$f":"AD196","v":8.5500000000000007},{"$f":"AE196","v":8},{"$f":"AF196","v":7.55},{"$f":"AG196","v":7.1},{"$f":"AH196","v":7.55},{"$f":"AI196","v":8},{"$f":"AJ196","v":7.45},{"$f":"AK196","v":6.9},{"$f":"AL196","v":6.65},{"$f":"AM196","v":6.4},{"$f":"AN196","v":6.8000000000000007},{"$f":"AO196","v":7.2},{"$f":"AP196","v":6.2},{"$f":"AQ196","v":5.2},{"$f":"AR196","v":4.55},{"$f":"AS196","v":3.9},{"$f":"AT196","v":2.9},{"$f":"AU196","v":1.9},{"$f":"AV196","v":0},{"$f":"AW196","v":0},{"$f":"AX196","v":0},{"$f":"AY196","v":0},{"$f":"AZ196","v":0},{"$f":"BA196","v":0},{"$f":"BB196","v":0},{"$f":"BC196","v":0},{"$f":"BD196","v":0},{"$f":"BE196","v":0},{"$f":"BF196","v":0},{"$f":"BG196","v":0},{"$f":"BH196","v":0},{"$f":"BI196","v":0},{"$f":"BJ196","v":0},{"$f":"BK196","v":0},{"$f":"BL196","v":0},{"$f":"BM196","v":0},{"$f":"BN196","v":0},{"$f":"BO196","v":0},{"$f":"BP196","v":0},{"$f":"BQ196","v":0},{"$f":"BR196","v":0},{"$f":"BS196","v":0},{"$f":"BT196","v":0},{"$f":"BU196","v":0},{"$f":"BV196","v":0},{"$f":"BW196","v":0},{"$f":"BX196","v":0},{"$f":"BY196","v":0},{"$f":"BZ196","v":0},{"$f":"CA196","v":0},{"$f":"CB196","v":0},{"$f":"CC196","v":0},{"$f":"CD196","v":0},{"$f":"CE196","v":0},{"$f":"CF196","v":0},{"$f":"CG196","v":0}]
[null,null,null,52,null,null,null,null,null,null,null,null,null,null,null,null,null,null,null,null,null,null,null,null,null,null,null,null,null,null,null,null,null,null,null,null,null,null,null,null,null,null,null,null,null,null,null,null,null,null,null,null,null,null,null,{"$f":"E196","v":1.9},{"$f":"F196","v":2.9},{"$f":"G196","v":3.9},{"$f":"H196","v":4.55},{"$f":"I196","v":5.2},{"$f":"J196","v":6.2},{"$f":"K196","v":7.2},{"$f":"L196","v":6.8000000000000007},{"$f":"M196","v":6.4},{"$f":"N196","v":6.65},{"$f":"O196","v":6.9},{"$f":"P196","v":7.45},{"$f":"Q196","v":8},{"$f":"R196","v":7.55},{"$f":"S196","v":7.1},{"$f":"T196","v":7.55},{"$f":"U196","v":8},{"$f":"V196","v":8.5500000000000007},{"$f":"W196","v":9.1},{"$f":"X196","v":10.433333333333332},{"$f":"Y196","v":11.766666666666666},{"$f":"Z196","v":13.1},{"$f":"AA196","v":11.766666666666666},{"$f":"AB196","v":10.433333333333334},{"$f":"AC196","v":9.1},{"$f":"AD196","v":8.5500000000000007},{"$f":"AE196","v":8},{"$f":"AF196","v":7.55},{"$f":"AG196","v":7.1},{"$f":"AH196","v":7.55},{"$f":"AI196","v":8},{"$f":"AJ196","v":7.45},{"$f":"AK196","v":6.9},{"$f":"AL196","v":6.65},{"$f":"AM196","v":6.4},{"$f":"AN196","v":6.8000000000000007},{"$f":"AO196","v":7.2},{"$f":"AP196","v":6.2},{"$f":"AQ196","v":5.2},{"$f":"AR196","v":4.55},{"$f":"AS196","v":3.9},{"$f":"AT196","v":2.9},{"$f":"AU196","v":1.9},{"$f":"AV196","v":0},{"$f":"AW196","v":0},{"$f":"AX196","v":0},{"$f":"AY196","v":0},{"$f":"AZ196","v":0},{"$f":"BA196","v":0},{"$f":"BB196","v":0},{"$f":"BC196","v":0},{"$f":"BD196","v":0},{"$f":"BE196","v":0},{"$f":"BF196","v":0},{"$f":"BG196","v":0},{"$f":"BH196","v":0},{"$f":"BI196","v":0},{"$f":"BJ196","v":0},{"$f":"BK196","v":0},{"$f":"BL196","v":0},{"$f":"BM196","v":0},{"$f":"BN196","v":0},{"$f":"BO196","v":0},{"$f":"BP196","v":0},{"$f":"BQ196","v":0},{"$f":"BR196","v":0},{"$f":"BS196","v":0},{"$f":"BT196","v":0},{"$f":"BU196","v":0},{"$f":"BV196","v":0},{"$f":"BW196","v":0},{"$f":"BX196","v":0},{"$f":"BY196","v":0},{"$f":"BZ196","v":0},{"$f":"CA196","v":0},{"$f":"CB196","v":0},{"$f":"CC196","v":0},{"$f":"CD196","v":0},{"$f":"CE196","v":0},{"$f":"CF196","v":0},{"$f":"CG196","v":0}]
[null,null,null,53,null,null,null,null,null,null,null,null,null,null,null,null,null,null,null,null,null,null,null,null,null,null,null,null,null,null,null,null,null,null,null,null,null,null,null,null,null,null,null,null,null,null,null,null,null,null,null,null,null,null,null,null,{"$f":"E196","v":1.9},{"$f":"F196","v":2.9},{"$f":"G196","v":3.9},{"$f":"H196","v":4.55},{"$f":"I196","v":5.2},{"$f":"J196","v":6.2},{"$f":"K196","v":7.2},{"$f":"L196","v":6.8000000000000007},{"$f":"M196","v":6.4},{"$f":"N196","v":6.65},{"$f":"O196","v":6.9},{"$f":"P196","v":7.45},{"$f":"Q196","v":8},{"$f":"R196","v":7.55},{"$f":"S196","v":7.1},{"$f":"T196","v":7.55},{"$f":"U196","v":8},{"$f":"V196","v":8.5500000000000007},{"$f":"W196","v":9.1},{"$f":"X196","v":10.433333333333332},{"$f":"Y196","v":11.766666666666666},{"$f":"Z196","v":13.1},{"$f":"AA196","v":11.766666666666666},{"$f":"AB196","v":10.433333333333334},{"$f":"AC196","v":9.1},{"$f":"AD196","v":8.5500000000000007},{"$f":"AE196","v":8},{"$f":"AF196","v":7.55},{"$f":"AG196","v":7.1},{"$f":"AH196","v":7.55},{"$f":"AI196","v":8},{"$f":"AJ196","v":7.45},{"$f":"AK196","v":6.9},{"$f":"AL196","v":6.65},{"$f":"AM196","v":6.4},{"$f":"AN196","v":6.8000000000000007},{"$f":"AO196","v":7.2},{"$f":"AP196","v":6.2},{"$f":"AQ196","v":5.2},{"$f":"AR196","v":4.55},{"$f":"AS196","v":3.9},{"$f":"AT196","v":2.9},{"$f":"AU196","v":1.9},{"$f":"AV196","v":0},{"$f":"AW196","v":0},{"$f":"AX196","v":0},{"$f":"AY196","v":0},{"$f":"AZ196","v":0},{"$f":"BA196","v":0},{"$f":"BB196","v":0},{"$f":"BC196","v":0},{"$f":"BD196","v":0},{"$f":"BE196","v":0},{"$f":"BF196","v":0},{"$f":"BG196","v":0},{"$f":"BH196","v":0},{"$f":"BI196","v":0},{"$f":"BJ196","v":0},{"$f":"BK196","v":0},{"$f":"BL196","v":0},{"$f":"BM196","v":0},{"$f":"BN196","v":0},{"$f":"BO196","v":0},{"$f":"BP196","v":0},{"$f":"BQ196","v":0},{"$f":"BR196","v":0},{"$f":"BS196","v":0},{"$f":"BT196","v":0},{"$f":"BU196","v":0},{"$f":"BV196","v":0},{"$f":"BW196","v":0},{"$f":"BX196","v":0},{"$f":"BY196","v":0},{"$f":"BZ196","v":0},{"$f":"CA196","v":0},{"$f":"CB196","v":0},{"$f":"CC196","v":0},{"$f":"CD196","v":0},{"$f":"CE196","v":0},{"$f":"CF196","v":0},{"$f":"CG196","v":0}]
[null,null,null,54,null,null,null,null,null,null,null,null,null,null,null,null,null,null,null,null,null,null,null,null,null,null,null,null,null,null,null,null,null,null,null,null,null,null,null,null,null,null,null,null,null,null,null,null,null,null,null,null,null,null,null,null,null,{"$f":"E196","v":1.9},{"$f":"F196","v":2.9},{"$f":"G196","v":3.9},{"$f":"H196","v":4.55},{"$f":"I196","v":5.2},{"$f":"J196","v":6.2},{"$f":"K196","v":7.2},{"$f":"L196","v":6.8000000000000007},{"$f":"M196","v":6.4},{"$f":"N196","v":6.65},{"$f":"O196","v":6.9},{"$f":"P196","v":7.45},{"$f":"Q196","v":8},{"$f":"R196","v":7.55},{"$f":"S196","v":7.1},{"$f":"T196","v":7.55},{"$f":"U196","v":8},{"$f":"V196","v":8.5500000000000007},{"$f":"W196","v":9.1},{"$f":"X196","v":10.433333333333332},{"$f":"Y196","v":11.766666666666666},{"$f":"Z196","v":13.1},{"$f":"AA196","v":11.766666666666666},{"$f":"AB196","v":10.433333333333334},{"$f":"AC196","v":9.1},{"$f":"AD196","v":8.5500000000000007},{"$f":"AE196","v":8},{"$f":"AF196","v":7.55},{"$f":"AG196","v":7.1},{"$f":"AH196","v":7.55},{"$f":"AI196","v":8},{"$f":"AJ196","v":7.45},{"$f":"AK196","v":6.9},{"$f":"AL196","v":6.65},{"$f":"AM196","v":6.4},{"$f":"AN196","v":6.8000000000000007},{"$f":"AO196","v":7.2},{"$f":"AP196","v":6.2},{"$f":"AQ196","v":5.2},{"$f":"AR196","v":4.55},{"$f":"AS196","v":3.9},{"$f":"AT196","v":2.9},{"$f":"AU196","v":1.9},{"$f":"AV196","v":0},{"$f":"AW196","v":0},{"$f":"AX196","v":0},{"$f":"AY196","v":0},{"$f":"AZ196","v":0},{"$f":"BA196","v":0},{"$f":"BB196","v":0},{"$f":"BC196","v":0},{"$f":"BD196","v":0},{"$f":"BE196","v":0},{"$f":"BF196","v":0},{"$f":"BG196","v":0},{"$f":"BH196","v":0},{"$f":"BI196","v":0},{"$f":"BJ196","v":0},{"$f":"BK196","v":0},{"$f":"BL196","v":0},{"$f":"BM196","v":0},{"$f":"BN196","v":0},{"$f":"BO196","v":0},{"$f":"BP196","v":0},{"$f":"BQ196","v":0},{"$f":"BR196","v":0},{"$f":"BS196","v":0},{"$f":"BT196","v":0},{"$f":"BU196","v":0},{"$f":"BV196","v":0},{"$f":"BW196","v":0},{"$f":"BX196","v":0},{"$f":"BY196","v":0},{"$f":"BZ196","v":0},{"$f":"CA196","v":0},{"$f":"CB196","v":0},{"$f":"CC196","v":0},{"$f":"CD196","v":0},{"$f":"CE196","v":0},{"$f":"CF196","v":0},{"$f":"CG196","v":0}]
[null,null,null,55,null,null,null,null,null,null,null,null,null,null,null,null,null,null,null,null,null,null,null,null,null,null,null,null,null,null,null,null,null,null,null,null,null,null,null,null,null,null,null,null,null,null,null,null,null,null,null,null,null,null,null,null,null,null,{"$f":"E196","v":1.9},{"$f":"F196","v":2.9},{"$f":"G196","v":3.9},{"$f":"H196","v":4.55},{"$f":"I196","v":5.2},{"$f":"J196","v":6.2},{"$f":"K196","v":7.2},{"$f":"L196","v":6.8000000000000007},{"$f":"M196","v":6.4},{"$f":"N196","v":6.65},{"$f":"O196","v":6.9},{"$f":"P196","v":7.45},{"$f":"Q196","v":8},{"$f":"R196","v":7.55},{"$f":"S196","v":7.1},{"$f":"T196","v":7.55},{"$f":"U196","v":8},{"$f":"V196","v":8.5500000000000007},{"$f":"W196","v":9.1},{"$f":"X196","v":10.433333333333332},{"$f":"Y196","v":11.766666666666666},{"$f":"Z196","v":13.1},{"$f":"AA196","v":11.766666666666666},{"$f":"AB196","v":10.433333333333334},{"$f":"AC196","v":9.1},{"$f":"AD196","v":8.5500000000000007},{"$f":"AE196","v":8},{"$f":"AF196","v":7.55},{"$f":"AG196","v":7.1},{"$f":"AH196","v":7.55},{"$f":"AI196","v":8},{"$f":"AJ196","v":7.45},{"$f":"AK196","v":6.9},{"$f":"AL196","v":6.65},{"$f":"AM196","v":6.4},{"$f":"AN196","v":6.8000000000000007},{"$f":"AO196","v":7.2},{"$f":"AP196","v":6.2},{"$f":"AQ196","v":5.2},{"$f":"AR196","v":4.55},{"$f":"AS196","v":3.9},{"$f":"AT196","v":2.9},{"$f":"AU196","v":1.9},{"$f":"AV196","v":0},{"$f":"AW196","v":0},{"$f":"AX196","v":0},{"$f":"AY196","v":0},{"$f":"AZ196","v":0},{"$f":"BA196","v":0},{"$f":"BB196","v":0},{"$f":"BC196","v":0},{"$f":"BD196","v":0},{"$f":"BE196","v":0},{"$f":"BF196","v":0},{"$f":"BG196","v":0},{"$f":"BH196","v":0},{"$f":"BI196","v":0},{"$f":"BJ196","v":0},{"$f":"BK196","v":0},{"$f":"BL196","v":0},{"$f":"BM196","v":0},{"$f":"BN196","v":0},{"$f":"BO196","v":0},{"$f":"BP196","v":0},{"$f":"BQ196","v":0},{"$f":"BR196","v":0},{"$f":"BS196","v":0},{"$f":"BT196","v":0},{"$f":"BU196","v":0},{"$f":"BV196","v":0},{"$f":"BW196","v":0},{"$f":"BX196","v":0},{"$f":"BY196","v":0},{"$f":"BZ196","v":0},{"$f":"CA196","v":0},{"$f":"CB196","v":0},{"$f":"CC196","v":0},{"$f":"CD196","v":0},{"$f":"CE196","v":0},{"$f":"CF196","v":0},{"$f":"CG196","v":0}]
[null,null,null,56,null,null,null,null,null,null,null,null,null,null,null,null,null,null,null,null,null,null,null,null,null,null,null,null,null,null,null,null,null,null,null,null,null,null,null,null,null,null,null,null,null,null,null,null,null,null,null,null,null,null,null,null,null,null,null,{"$f":"E196","v":1.9},{"$f":"F196","v":2.9},{"$f":"G196","v":3.9},{"$f":"H196","v":4.55},{"$f":"I196","v":5.2},{"$f":"J196","v":6.2},{"$f":"K196","v":7.2},{"$f":"L196","v":6.8000000000000007},{"$f":"M196","v":6.4},{"$f":"N196","v":6.65},{"$f":"O196","v":6.9},{"$f":"P196","v":7.45},{"$f":"Q196","v":8},{"$f":"R196","v":7.55},{"$f":"S196","v":7.1},{"$f":"T196","v":7.55},{"$f":"U196","v":8},{"$f":"V196","v":8.5500000000000007},{"$f":"W196","v":9.1},{"$f":"X196","v":10.433333333333332},{"$f":"Y196","v":11.766666666666666},{"$f":"Z196","v":13.1},{"$f":"AA196","v":11.766666666666666},{"$f":"AB196","v":10.433333333333334},{"$f":"AC196","v":9.1},{"$f":"AD196","v":8.5500000000000007},{"$f":"AE196","v":8},{"$f":"AF196","v":7.55},{"$f":"AG196","v":7.1},{"$f":"AH196","v":7.55},{"$f":"AI196","v":8},{"$f":"AJ196","v":7.45},{"$f":"AK196","v":6.9},{"$f":"AL196","v":6.65},{"$f":"AM196","v":6.4},{"$f":"AN196","v":6.8000000000000007},{"$f":"AO196","v":7.2},{"$f":"AP196","v":6.2},{"$f":"AQ196","v":5.2},{"$f":"AR196","v":4.55},{"$f":"AS196","v":3.9},{"$f":"AT196","v":2.9},{"$f":"AU196","v":1.9},{"$f":"AV196","v":0},{"$f":"AW196","v":0},{"$f":"AX196","v":0},{"$f":"AY196","v":0},{"$f":"AZ196","v":0},{"$f":"BA196","v":0},{"$f":"BB196","v":0},{"$f":"BC196","v":0},{"$f":"BD196","v":0},{"$f":"BE196","v":0},{"$f":"BF196","v":0},{"$f":"BG196","v":0},{"$f":"BH196","v":0},{"$f":"BI196","v":0},{"$f":"BJ196","v":0},{"$f":"BK196","v":0},{"$f":"BL196","v":0},{"$f":"BM196","v":0},{"$f":"BN196","v":0},{"$f":"BO196","v":0},{"$f":"BP196","v":0},{"$f":"BQ196","v":0},{"$f":"BR196","v":0},{"$f":"BS196","v":0},{"$f":"BT196","v":0},{"$f":"BU196","v":0},{"$f":"BV196","v":0},{"$f":"BW196","v":0},{"$f":"BX196","v":0},{"$f":"BY196","v":0},{"$f":"BZ196","v":0},{"$f":"CA196","v":0},{"$f":"CB196","v":0},{"$f":"CC196","v":0},{"$f":"CD196","v":0},{"$f":"CE196","v":0},{"$f":"CF196","v":0},{"$f":"CG196","v":0}]
[null,null,null,57,null,null,null,null,null,null,null,null,null,null,null,null,null,null,null,null,null,null,null,null,null,null,null,null,null,null,null,null,null,null,null,null,null,null,null,null,null,null,null,null,null,null,null,null,null,null,null,null,null,null,null,null,null,null,null,null,{"$f":"E196","v":1.9},{"$f":"F196","v":2.9},{"$f":"G196","v":3.9},{"$f":"H196","v":4.55},{"$f":"I196","v":5.2},{"$f":"J196","v":6.2},{"$f":"K196","v":7.2},{"$f":"L196","v":6.8000000000000007},{"$f":"M196","v":6.4},{"$f":"N196","v":6.65},{"$f":"O196","v":6.9},{"$f":"P196","v":7.45},{"$f":"Q196","v":8},{"$f":"R196","v":7.55},{"$f":"S196","v":7.1},{"$f":"T196","v":7.55},{"$f":"U196","v":8},{"$f":"V196","v":8.5500000000000007},{"$f":"W196","v":9.1},{"$f":"X196","v":10.433333333333332},{"$f":"Y196","v":11.766666666666666},{"$f":"Z196","v":13.1},{"$f":"AA196","v":11.766666666666666},{"$f":"AB196","v":10.433333333333334},{"$f":"AC196","v":9.1},{"$f":"AD196","v":8.5500000000000007},{"$f":"AE196","v":8},{"$f":"AF196","v":7.55},{"$f":"AG196","v":7.1},{"$f":"AH196","v":7.55},{"$f":"AI196","v":8},{"$f":"AJ196","v":7.45},{"$f":"AK196","v":6.9},{"$f":"AL196","v":6.65},{"$f":"AM196","v":6.4},{"$f":"AN196","v":6.8000000000000007},{"$f":"AO196","v":7.2},{"$f":"AP196","v":6.2},{"$f":"AQ196","v":5.2},{"$f":"AR196","v":4.55},{"$f":"AS196","v":3.9},{"$f":"AT196","v":2.9},{"$f":"AU196","v":1.9},{"$f":"AV196","v":0},{"$f":"AW196","v":0},{"$f":"AX196","v":0},{"$f":"AY196","v":0},{"$f":"AZ196","v":0},{"$f":"BA196","v":0},{"$f":"BB196","v":0},{"$f":"BC196","v":0},{"$f":"BD196","v":0},{"$f":"BE196","v":0},{"$f":"BF196","v":0},{"$f":"BG196","v":0},{"$f":"BH196","v":0},{"$f":"BI196","v":0},{"$f":"BJ196","v":0},{"$f":"BK196","v":0},{"$f":"BL196","v":0},{"$f":"BM196","v":0},{"$f":"BN196","v":0},{"$f":"BO196","v":0},{"$f":"BP196","v":0},{"$f":"BQ196","v":0},{"$f":"BR196","v":0},{"$f":"BS196","v":0},{"$f":"BT196","v":0},{"$f":"BU196","v":0},{"$f":"BV196","v":0},{"$f":"BW196","v":0},{"$f":"BX196","v":0},{"$f":"BY196","v":0},{"$f":"BZ196","v":0},{"$f":"CA196","v":0},{"$f":"CB196","v":0},{"$f":"CC196","v":0},{"$f":"CD196","v":0},{"$f":"CE196","v":0},{"$f":"CF196","v":0},{"$f":"CG196","v":0}]
[null,null,null,58,null,null,null,null,null,null,null,null,null,null,null,null,null,null,null,null,null,null,null,null,null,null,null,null,null,null,null,null,null,null,null,null,null,null,null,null,null,null,null,null,null,null,null,null,null,null,null,null,null,null,null,null,null,null,null,null,null,{"$f":"E196","v":1.9},{"$f":"F196","v":2.9},{"$f":"G196","v":3.9},{"$f":"H196","v":4.55},{"$f":"I196","v":5.2},{"$f":"J196","v":6.2},{"$f":"K196","v":7.2},{"$f":"L196","v":6.8000000000000007},{"$f":"M196","v":6.4},{"$f":"N196","v":6.65},{"$f":"O196","v":6.9},{"$f":"P196","v":7.45},{"$f":"Q196","v":8},{"$f":"R196","v":7.55},{"$f":"S196","v":7.1},{"$f":"T196","v":7.55},{"$f":"U196","v":8},{"$f":"V196","v":8.5500000000000007},{"$f":"W196","v":9.1},{"$f":"X196","v":10.433333333333332},{"$f":"Y196","v":11.766666666666666},{"$f":"Z196","v":13.1},{"$f":"AA196","v":11.766666666666666},{"$f":"AB196","v":10.433333333333334},{"$f":"AC196","v":9.1},{"$f":"AD196","v":8.5500000000000007},{"$f":"AE196","v":8},{"$f":"AF196","v":7.55},{"$f":"AG196","v":7.1},{"$f":"AH196","v":7.55},{"$f":"AI196","v":8},{"$f":"AJ196","v":7.45},{"$f":"AK196","v":6.9},{"$f":"AL196","v":6.65},{"$f":"AM196","v":6.4},{"$f":"AN196","v":6.8000000000000007},{"$f":"AO196","v":7.2},{"$f":"AP196","v":6.2},{"$f":"AQ196","v":5.2},{"$f":"AR196","v":4.55},{"$f":"AS196","v":3.9},{"$f":"AT196","v":2.9},{"$f":"AU196","v":1.9},{"$f":"AV196","v":0},{"$f":"AW196","v":0},{"$f":"AX196","v":0},{"$f":"AY196","v":0},{"$f":"AZ196","v":0},{"$f":"BA196","v":0},{"$f":"BB196","v":0},{"$f":"BC196","v":0},{"$f":"BD196","v":0},{"$f":"BE196","v":0},{"$f":"BF196","v":0},{"$f":"BG196","v":0},{"$f":"BH196","v":0},{"$f":"BI196","v":0},{"$f":"BJ196","v":0},{"$f":"BK196","v":0},{"$f":"BL196","v":0},{"$f":"BM196","v":0},{"$f":"BN196","v":0},{"$f":"BO196","v":0},{"$f":"BP196","v":0},{"$f":"BQ196","v":0},{"$f":"BR196","v":0},{"$f":"BS196","v":0},{"$f":"BT196","v":0},{"$f":"BU196","v":0},{"$f":"BV196","v":0},{"$f":"BW196","v":0},{"$f":"BX196","v":0},{"$f":"BY196","v":0},{"$f":"BZ196","v":0},{"$f":"CA196","v":0},{"$f":"CB196","v":0},{"$f":"CC196","v":0},{"$f":"CD196","v":0},{"$f":"CE196","v":0},{"$f":"CF196","v":0},{"$f":"CG196","v":0}]
[null,null,null,59,null,null,null,null,null,null,null,null,null,null,null,null,null,null,null,null,null,null,null,null,null,null,null,null,null,null,null,null,null,null,null,null,null,null,null,null,null,null,null,null,null,null,null,null,null,null,null,null,null,null,null,null,null,null,null,null,null,null,{"$f":"E196","v":1.9},{"$f":"F196","v":2.9},{"$f":"G196","v":3.9},{"$f":"H196","v":4.55},{"$f":"I196","v":5.2},{"$f":"J196","v":6.2},{"$f":"K196","v":7.2},{"$f":"L196","v":6.8000000000000007},{"$f":"M196","v":6.4},{"$f":"N196","v":6.65},{"$f":"O196","v":6.9},{"$f":"P196","v":7.45},{"$f":"Q196","v":8},{"$f":"R196","v":7.55},{"$f":"S196","v":7.1},{"$f":"T196","v":7.55},{"$f":"U196","v":8},{"$f":"V196","v":8.5500000000000007},{"$f":"W196","v":9.1},{"$f":"X196","v":10.433333333333332},{"$f":"Y196","v":11.766666666666666},{"$f":"Z196","v":13.1},{"$f":"AA196","v":11.766666666666666},{"$f":"AB196","v":10.433333333333334},{"$f":"AC196","v":9.1},{"$f":"AD196","v":8.5500000000000007},{"$f":"AE196","v":8},{"$f":"AF196","v":7.55},{"$f":"AG196","v":7.1},{"$f":"AH196","v":7.55},{"$f":"AI196","v":8},{"$f":"AJ196","v":7.45},{"$f":"AK196","v":6.9},{"$f":"AL196","v":6.65},{"$f":"AM196","v":6.4},{"$f":"AN196","v":6.8000000000000007},{"$f":"AO196","v":7.2},{"$f":"AP196","v":6.2},{"$f":"AQ196","v":5.2},{"$f":"AR196","v":4.55},{"$f":"AS196","v":3.9},{"$f":"AT196","v":2.9},{"$f":"AU196","v":1.9},{"$f":"AV196","v":0},{"$f":"AW196","v":0},{"$f":"AX196","v":0},{"$f":"AY196","v":0},{"$f":"AZ196","v":0},{"$f":"BA196","v":0},{"$f":"BB196","v":0},{"$f":"BC196","v":0},{"$f":"BD196","v":0},{"$f":"BE196","v":0},{"$f":"BF196","v":0},{"$f":"BG196","v":0},{"$f":"BH196","v":0},{"$f":"BI196","v":0},{"$f":"BJ196","v":0},{"$f":"BK196","v":0},{"$f":"BL196","v":0},{"$f":"BM196","v":0},{"$f":"BN196","v":0},{"$f":"BO196","v":0},{"$f":"BP196","v":0},{"$f":"BQ196","v":0},{"$f":"BR196","v":0},{"$f":"BS196","v":0},{"$f":"BT196","v":0},{"$f":"BU196","v":0},{"$f":"BV196","v":0},{"$f":"BW196","v":0},{"$f":"BX196","v":0},{"$f":"BY196","v":0},{"$f":"BZ196","v":0},{"$f":"CA196","v":0},{"$f":"CB196","v":0},{"$f":"CC196","v":0},{"$f":"CD196","v":0},{"$f":"CE196","v":0},{"$f":"CF196","v":0},{"$f":"CG196","v":0}]
[null,null,null,60,null,null,null,null,null,null,null,null,null,null,null,null,null,null,null,null,null,null,null,null,null,null,null,null,null,null,null,null,null,null,null,null,null,null,null,null,null,null,null,null,null,null,null,null,null,null,null,null,null,null,null,null,null,null,null,null,null,null,null,{"$f":"E196","v":1.9},{"$f":"F196","v":2.9},{"$f":"G196","v":3.9},{"$f":"H196","v":4.55},{"$f":"I196","v":5.2},{"$f":"J196","v":6.2},{"$f":"K196","v":7.2},{"$f":"L196","v":6.8000000000000007},{"$f":"M196","v":6.4},{"$f":"N196","v":6.65},{"$f":"O196","v":6.9},{"$f":"P196","v":7.45},{"$f":"Q196","v":8},{"$f":"R196","v":7.55},{"$f":"S196","v":7.1},{"$f":"T196","v":7.55},{"$f":"U196","v":8},{"$f":"V196","v":8.5500000000000007},{"$f":"W196","v":9.1},{"$f":"X196","v":10.433333333333332},{"$f":"Y196","v":11.766666666666666},{"$f":"Z196","v":13.1},{"$f":"AA196","v":11.766666666666666},{"$f":"AB196","v":10.433333333333334},{"$f":"AC196","v":9.1},{"$f":"AD196","v":8.5500000000000007},{"$f":"AE196","v":8},{"$f":"AF196","v":7.55},{"$f":"AG196","v":7.1},{"$f":"AH196","v":7.55},{"$f":"AI196","v":8},{"$f":"AJ196","v":7.45},{"$f":"AK196","v":6.9},{"$f":"AL196","v":6.65},{"$f":"AM196","v":6.4},{"$f":"AN196","v":6.8000000000000007},{"$f":"AO196","v":7.2},{"$f":"AP196","v":6.2},{"$f":"AQ196","v":5.2},{"$f":"AR196","v":4.55},{"$f":"AS196","v":3.9},{"$f":"AT196","v":2.9},{"$f":"AU196","v":1.9},{"$f":"AV196","v":0},{"$f":"AW196","v":0},{"$f":"AX196","v":0},{"$f":"AY196","v":0},{"$f":"AZ196","v":0},{"$f":"BA196","v":0},{"$f":"BB196","v":0},{"$f":"BC196","v":0},{"$f":"BD196","v":0},{"$f":"BE196","v":0},{"$f":"BF196","v":0},{"$f":"BG196","v":0},{"$f":"BH196","v":0},{"$f":"BI196","v":0},{"$f":"BJ196","v":0},{"$f":"BK196","v":0},{"$f":"BL196","v":0},{"$f":"BM196","v":0},{"$f":"BN196","v":0},{"$f":"BO196","v":0},{"$f":"BP196","v":0},{"$f":"BQ196","v":0},{"$f":"BR196","v":0},{"$f":"BS196","v":0},{"$f":"BT196","v":0},{"$f":"BU196","v":0},{"$f":"BV196","v":0},{"$f":"BW196","v":0},{"$f":"BX196","v":0},{"$f":"BY196","v":0},{"$f":"BZ196","v":0},{"$f":"CA196","v":0},{"$f":"CB196","v":0},{"$f":"CC196","v":0},{"$f":"CD196","v":0},{"$f":"CE196","v":0},{"$f":"CF196","v":0},{"$f":"CG196","v":0}]
[null,null,null,61,null,null,null,null,null,null,null,null,null,null,null,null,null,null,null,null,null,null,null,null,null,null,null,null,null,null,null,null,null,null,null,null,null,null,null,null,null,null,null,null,null,null,null,null,null,null,null,null,null,null,null,null,null,null,null,null,null,null,null,null,{"$f":"E196","v":1.9},{"$f":"F196","v":2.9},{"$f":"G196","v":3.9},{"$f":"H196","v":4.55},{"$f":"I196","v":5.2},{"$f":"J196","v":6.2},{"$f":"K196","v":7.2},{"$f":"L196","v":6.8000000000000007},{"$f":"M196","v":6.4},{"$f":"N196","v":6.65},{"$f":"O196","v":6.9},{"$f":"P196","v":7.45},{"$f":"Q196","v":8},{"$f":"R196","v":7.55},{"$f":"S196","v":7.1},{"$f":"T196","v":7.55},{"$f":"U196","v":8},{"$f":"V196","v":8.5500000000000007},{"$f":"W196","v":9.1},{"$f":"X196","v":10.433333333333332},{"$f":"Y196","v":11.766666666666666},{"$f":"Z196","v":13.1},{"$f":"AA196","v":11.766666666666666},{"$f":"AB196","v":10.433333333333334},{"$f":"AC196","v":9.1},{"$f":"AD196","v":8.5500000000000007},{"$f":"AE196","v":8},{"$f":"AF196","v":7.55},{"$f":"AG196","v":7.1},{"$f":"AH196","v":7.55},{"$f":"AI196","v":8},{"$f":"AJ196","v":7.45},{"$f":"AK196","v":6.9},{"$f":"AL196","v":6.65},{"$f":"AM196","v":6.4},{"$f":"AN196","v":6.8000000000000007},{"$f":"AO196","v":7.2},{"$f":"AP196","v":6.2},{"$f":"AQ196","v":5.2},{"$f":"AR196","v":4.55},{"$f":"AS196","v":3.9},{"$f":"AT196","v":2.9},{"$f":"AU196","v":1.9},{"$f":"AV196","v":0},{"$f":"AW196","v":0},{"$f":"AX196","v":0},{"$f":"AY196","v":0},{"$f":"AZ196","v":0},{"$f":"BA196","v":0},{"$f":"BB196","v":0},{"$f":"BC196","v":0},{"$f":"BD196","v":0},{"$f":"BE196","v":0},{"$f":"BF196","v":0},{"$f":"BG196","v":0},{"$f":"BH196","v":0},{"$f":"BI196","v":0},{"$f":"BJ196","v":0},{"$f":"BK196","v":0},{"$f":"BL196","v":0},{"$f":"BM196","v":0},{"$f":"BN196","v":0},{"$f":"BO196","v":0},{"$f":"BP196","v":0},{"$f":"BQ196","v":0},{"$f":"BR196","v":0},{"$f":"BS196","v":0},{"$f":"BT196","v":0},{"$f":"BU196","v":0},{"$f":"BV196","v":0},{"$f":"BW196","v":0},{"$f":"BX196","v":0},{"$f":"BY196","v":0},{"$f":"BZ196","v":0},{"$f":"CA196","v":0},{"$f":"CB196","v":0},{"$f":"CC196","v":0},{"$f":"CD196","v":0},{"$f":"CE196","v":0},{"$f":"CF196","v":0},{"$f":"CG196","v":0}]
[null,null,null,62,null,null,null,null,null,null,null,null,null,null,null,null,null,null,null,null,null,null,null,null,null,null,null,null,null,null,null,null,null,null,null,null,null,null,null,null,null,null,null,null,null,null,null,null,null,null,null,null,null,null,null,null,null,null,null,null,null,null,null,null,null,{"$f":"E196","v":1.9},{"$f":"F196","v":2.9},{"$f":"G196","v":3.9},{"$f":"H196","v":4.55},{"$f":"I196","v":5.2},{"$f":"J196","v":6.2},{"$f":"K196","v":7.2},{"$f":"L196","v":6.8000000000000007},{"$f":"M196","v":6.4},{"$f":"N196","v":6.65},{"$f":"O196","v":6.9},{"$f":"P196","v":7.45},{"$f":"Q196","v":8},{"$f":"R196","v":7.55},{"$f":"S196","v":7.1},{"$f":"T196","v":7.55},{"$f":"U196","v":8},{"$f":"V196","v":8.5500000000000007},{"$f":"W196","v":9.1},{"$f":"X196","v":10.433333333333332},{"$f":"Y196","v":11.766666666666666},{"$f":"Z196","v":13.1},{"$f":"AA196","v":11.766666666666666},{"$f":"AB196","v":10.433333333333334},{"$f":"AC196","v":9.1},{"$f":"AD196","v":8.5500000000000007},{"$f":"AE196","v":8},{"$f":"AF196","v":7.55},{"$f":"AG196","v":7.1},{"$f":"AH196","v":7.55},{"$f":"AI196","v":8},{"$f":"AJ196","v":7.45},{"$f":"AK196","v":6.9},{"$f":"AL196","v":6.65},{"$f":"AM196","v":6.4},{"$f":"AN196","v":6.8000000000000007},{"$f":"AO196","v":7.2},{"$f":"AP196","v":6.2},{"$f":"AQ196","v":5.2},{"$f":"AR196","v":4.55},{"$f":"AS196","v":3.9},{"$f":"AT196","v":2.9},{"$f":"AU196","v":1.9},{"$f":"AV196","v":0},{"$f":"AW196","v":0},{"$f":"AX196","v":0},{"$f":"AY196","v":0},{"$f":"AZ196","v":0},{"$f":"BA196","v":0},{"$f":"BB196","v":0},{"$f":"BC196","v":0},{"$f":"BD196","v":0},{"$f":"BE196","v":0},{"$f":"BF196","v":0},{"$f":"BG196","v":0},{"$f":"BH196","v":0},{"$f":"BI196","v":0},{"$f":"BJ196","v":0},{"$f":"BK196","v":0},{"$f":"BL196","v":0},{"$f":"BM196","v":0},{"$f":"BN196","v":0},{"$f":"BO196","v":0},{"$f":"BP196","v":0},{"$f":"BQ196","v":0},{"$f":"BR196","v":0},{"$f":"BS196","v":0},{"$f":"BT196","v":0},{"$f":"BU196","v":0},{"$f":"BV196","v":0},{"$f":"BW196","v":0},{"$f":"BX196","v":0},{"$f":"BY196","v":0},{"$f":"BZ196","v":0},{"$f":"CA196","v":0},{"$f":"CB196","v":0},{"$f":"CC196","v":0},{"$f":"CD196","v":0},{"$f":"CE196","v":0},{"$f":"CF196","v":0},{"$f":"CG196","v":0}]
[null,null,null,63,null,null,null,null,null,null,null,null,null,null,null,null,null,null,null,null,null,null,null,null,null,null,null,null,null,null,null,null,null,null,null,null,null,null,null,null,null,null,null,null,null,null,null,null,null,null,null,null,null,null,null,null,null,null,null,null,null,null,null,null,null,null,{"$f":"E196","v":1.9},{"$f":"F196","v":2.9},{"$f":"G196","v":3.9},{"$f":"H196","v":4.55},{"$f":"I196","v":5.2},{"$f":"J196","v":6.2},{"$f":"K196","v":7.2},{"$f":"L196","v":6.8000000000000007},{"$f":"M196","v":6.4},{"$f":"N196","v":6.65},{"$f":"O196","v":6.9},{"$f":"P196","v":7.45},{"$f":"Q196","v":8},{"$f":"R196","v":7.55},{"$f":"S196","v":7.1},{"$f":"T196","v":7.55},{"$f":"U196","v":8},{"$f":"V196","v":8.5500000000000007},{"$f":"W196","v":9.1},{"$f":"X196","v":10.433333333333332},{"$f":"Y196","v":11.766666666666666},{"$f":"Z196","v":13.1},{"$f":"AA196","v":11.766666666666666},{"$f":"AB196","v":10.433333333333334},{"$f":"AC196","v":9.1},{"$f":"AD196","v":8.5500000000000007},{"$f":"AE196","v":8},{"$f":"AF196","v":7.55},{"$f":"AG196","v":7.1},{"$f":"AH196","v":7.55},{"$f":"AI196","v":8},{"$f":"AJ196","v":7.45},{"$f":"AK196","v":6.9},{"$f":"AL196","v":6.65},{"$f":"AM196","v":6.4},{"$f":"AN196","v":6.8000000000000007},{"$f":"AO196","v":7.2},{"$f":"AP196","v":6.2},{"$f":"AQ196","v":5.2},{"$f":"AR196","v":4.55},{"$f":"AS196","v":3.9},{"$f":"AT196","v":2.9},{"$f":"AU196","v":1.9},{"$f":"AV196","v":0},{"$f":"AW196","v":0},{"$f":"AX196","v":0},{"$f":"AY196","v":0},{"$f":"AZ196","v":0},{"$f":"BA196","v":0},{"$f":"BB196","v":0},{"$f":"BC196","v":0},{"$f":"BD196","v":0},{"$f":"BE196","v":0},{"$f":"BF196","v":0},{"$f":"BG196","v":0},{"$f":"BH196","v":0},{"$f":"BI196","v":0},{"$f":"BJ196","v":0},{"$f":"BK196","v":0},{"$f":"BL196","v":0},{"$f":"BM196","v":0},{"$f":"BN196","v":0},{"$f":"BO196","v":0},{"$f":"BP196","v":0},{"$f":"BQ196","v":0},{"$f":"BR196","v":0},{"$f":"BS196","v":0},{"$f":"BT196","v":0},{"$f":"BU196","v":0},{"$f":"BV196","v":0},{"$f":"BW196","v":0},{"$f":"BX196","v":0},{"$f":"BY196","v":0},{"$f":"BZ196","v":0},{"$f":"CA196","v":0},{"$f":"CB196","v":0},{"$f":"CC196","v":0},{"$f":"CD196","v":0},{"$f":"CE196","v":0},{"$f":"CF196","v":0},{"$f":"CG196","v":0}]
[null,null,null,64,null,null,null,null,null,null,null,null,null,null,null,null,null,null,null,null,null,null,null,null,null,null,null,null,null,null,null,null,null,null,null,null,null,null,null,null,null,null,null,null,null,null,null,null,null,null,null,null,null,null,null,null,null,null,null,null,null,null,null,null,null,null,null,{"$f":"E196","v":1.9},{"$f":"F196","v":2.9},{"$f":"G196","v":3.9},{"$f":"H196","v":4.55},{"$f":"I196","v":5.2},{"$f":"J196","v":6.2},{"$f":"K196","v":7.2},{"$f":"L196","v":6.8000000000000007},{"$f":"M196","v":6.4},{"$f":"N196","v":6.65},{"$f":"O196","v":6.9},{"$f":"P196","v":7.45},{"$f":"Q196","v":8},{"$f":"R196","v":7.55},{"$f":"S196","v":7.1},{"$f":"T196","v":7.55},{"$f":"U196","v":8},{"$f":"V196","v":8.5500000000000007},{"$f":"W196","v":9.1},{"$f":"X196","v":10.433333333333332},{"$f":"Y196","v":11.766666666666666},{"$f":"Z196","v":13.1},{"$f":"AA196","v":11.766666666666666},{"$f":"AB196","v":10.433333333333334},{"$f":"AC196","v":9.1},{"$f":"AD196","v":8.5500000000000007},{"$f":"AE196","v":8},{"$f":"AF196","v":7.55},{"$f":"AG196","v":7.1},{"$f":"AH196","v":7.55},{"$f":"AI196","v":8},{"$f":"AJ196","v":7.45},{"$f":"AK196","v":6.9},{"$f":"AL196","v":6.65},{"$f":"AM196","v":6.4},{"$f":"AN196","v":6.8000000000000007},{"$f":"AO196","v":7.2},{"$f":"AP196","v":6.2},{"$f":"AQ196","v":5.2},{"$f":"AR196","v":4.55},{"$f":"AS196","v":3.9},{"$f":"AT196","v":2.9},{"$f":"AU196","v":1.9},{"$f":"AV196","v":0},{"$f":"AW196","v":0},{"$f":"AX196","v":0},{"$f":"AY196","v":0},{"$f":"AZ196","v":0},{"$f":"BA196","v":0},{"$f":"BB196","v":0},{"$f":"BC196","v":0},{"$f":"BD196","v":0},{"$f":"BE196","v":0},{"$f":"BF196","v":0},{"$f":"BG196","v":0},{"$f":"BH196","v":0},{"$f":"BI196","v":0},{"$f":"BJ196","v":0},{"$f":"BK196","v":0},{"$f":"BL196","v":0},{"$f":"BM196","v":0},{"$f":"BN196","v":0},{"$f":"BO196","v":0},{"$f":"BP196","v":0},{"$f":"BQ196","v":0},{"$f":"BR196","v":0},{"$f":"BS196","v":0},{"$f":"BT196","v":0},{"$f":"BU196","v":0},{"$f":"BV196","v":0},{"$f":"BW196","v":0},{"$f":"BX196","v":0},{"$f":"BY196","v":0},{"$f":"BZ196","v":0},{"$f":"CA196","v":0},{"$f":"CB196","v":0},{"$f":"CC196","v":0},{"$f":"CD196","v":0},{"$f":"CE196","v":0},{"$f":"CF196","v":0},{"$f":"CG196","v":0}]
[null,null,null,65,null,null,null,null,null,null,null,null,null,null,null,null,null,null,null,null,null,null,null,null,null,null,null,null,null,null,null,null,null,null,null,null,null,null,null,null,null,null,null,null,null,null,null,null,null,null,null,null,null,null,null,null,null,null,null,null,null,null,null,null,null,null,null,null,{"$f":"E196","v":1.9},{"$f":"F196","v":2.9},{"$f":"G196","v":3.9},{"$f":"H196","v":4.55},{"$f":"I196","v":5.2},{"$f":"J196","v":6.2},{"$f":"K196","v":7.2},{"$f":"L196","v":6.8000000000000007},{"$f":"M196","v":6.4},{"$f":"N196","v":6.65},{"$f":"O196","v":6.9},{"$f":"P196","v":7.45},{"$f":"Q196","v":8},{"$f":"R196","v":7.55},{"$f":"S196","v":7.1},{"$f":"T196","v":7.55},{"$f":"U196","v":8},{"$f":"V196","v":8.5500000000000007},{"$f":"W196","v":9.1},{"$f":"X196","v":10.433333333333332},{"$f":"Y196","v":11.766666666666666},{"$f":"Z196","v":13.1},{"$f":"AA196","v":11.766666666666666},{"$f":"AB196","v":10.433333333333334},{"$f":"AC196","v":9.1},{"$f":"AD196","v":8.5500000000000007},{"$f":"AE196","v":8},{"$f":"AF196","v":7.55},{"$f":"AG196","v":7.1},{"$f":"AH196","v":7.55},{"$f":"AI196","v":8},{"$f":"AJ196","v":7.45},{"$f":"AK196","v":6.9},{"$f":"AL196","v":6.65},{"$f":"AM196","v":6.4},{"$f":"AN196","v":6.8000000000000007},{"$f":"AO196","v":7.2},{"$f":"AP196","v":6.2},{"$f":"AQ196","v":5.2},{"$f":"AR196","v":4.55},{"$f":"AS196","v":3.9},{"$f":"AT196","v":2.9},{"$f":"AU196","v":1.9},{"$f":"AV196","v":0},{"$f":"AW196","v":0},{"$f":"AX196","v":0},{"$f":"AY196","v":0},{"$f":"AZ196","v":0},{"$f":"BA196","v":0},{"$f":"BB196","v":0},{"$f":"BC196","v":0},{"$f":"BD196","v":0},{"$f":"BE196","v":0},{"$f":"BF196","v":0},{"$f":"BG196","v":0},{"$f":"BH196","v":0},{"$f":"BI196","v":0},{"$f":"BJ196","v":0},{"$f":"BK196","v":0},{"$f":"BL196","v":0},{"$f":"BM196","v":0},{"$f":"BN196","v":0},{"$f":"BO196","v":0},{"$f":"BP196","v":0},{"$f":"BQ196","v":0},{"$f":"BR196","v":0},{"$f":"BS196","v":0},{"$f":"BT196","v":0},{"$f":"BU196","v":0},{"$f":"BV196","v":0},{"$f":"BW196","v":0},{"$f":"BX196","v":0},{"$f":"BY196","v":0},{"$f":"BZ196","v":0},{"$f":"CA196","v":0},{"$f":"CB196","v":0},{"$f":"CC196","v":0},{"$f":"CD196","v":0},{"$f":"CE196","v":0},{"$f":"CF196","v":0},{"$f":"CG196","v":0}]
[null,null,null,66,null,null,null,null,null,null,null,null,null,null,null,null,null,null,null,null,null,null,null,null,null,null,null,null,null,null,null,null,null,null,null,null,null,null,null,null,null,null,null,null,null,null,null,null,null,null,null,null,null,null,null,null,null,null,null,null,null,null,null,null,null,null,null,null,null,{"$f":"E196","v":1.9},{"$f":"F196","v":2.9},{"$f":"G196","v":3.9},{"$f":"H196","v":4.55},{"$f":"I196","v":5.2},{"$f":"J196","v":6.2},{"$f":"K196","v":7.2},{"$f":"L196","v":6.8000000000000007},{"$f":"M196","v":6.4},{"$f":"N196","v":6.65},{"$f":"O196","v":6.9},{"$f":"P196","v":7.45},{"$f":"Q196","v":8},{"$f":"R196","v":7.55},{"$f":"S196","v":7.1},{"$f":"T196","v":7.55},{"$f":"U196","v":8},{"$f":"V196","v":8.5500000000000007},{"$f":"W196","v":9.1},{"$f":"X196","v":10.433333333333332},{"$f":"Y196","v":11.766666666666666},{"$f":"Z196","v":13.1},{"$f":"AA196","v":11.766666666666666},{"$f":"AB196","v":10.433333333333334},{"$f":"AC196","v":9.1},{"$f":"AD196","v":8.5500000000000007},{"$f":"AE196","v":8},{"$f":"AF196","v":7.55},{"$f":"AG196","v":7.1},{"$f":"AH196","v":7.55},{"$f":"AI196","v":8},{"$f":"AJ196","v":7.45},{"$f":"AK196","v":6.9},{"$f":"AL196","v":6.65},{"$f":"AM196","v":6.4},{"$f":"AN196","v":6.8000000000000007},{"$f":"AO196","v":7.2},{"$f":"AP196","v":6.2},{"$f":"AQ196","v":5.2},{"$f":"AR196","v":4.55},{"$f":"AS196","v":3.9},{"$f":"AT196","v":2.9},{"$f":"AU196","v":1.9},{"$f":"AV196","v":0},{"$f":"AW196","v":0},{"$f":"AX196","v":0},{"$f":"AY196","v":0},{"$f":"AZ196","v":0},{"$f":"BA196","v":0},{"$f":"BB196","v":0},{"$f":"BC196","v":0},{"$f":"BD196","v":0},{"$f":"BE196","v":0},{"$f":"BF196","v":0},{"$f":"BG196","v":0},{"$f":"BH196","v":0},{"$f":"BI196","v":0},{"$f":"BJ196","v":0},{"$f":"BK196","v":0},{"$f":"BL196","v":0},{"$f":"BM196","v":0},{"$f":"BN196","v":0},{"$f":"BO196","v":0},{"$f":"BP196","v":0},{"$f":"BQ196","v":0},{"$f":"BR196","v":0},{"$f":"BS196","v":0},{"$f":"BT196","v":0},{"$f":"BU196","v":0},{"$f":"BV196","v":0},{"$f":"BW196","v":0},{"$f":"BX196","v":0},{"$f":"BY196","v":0},{"$f":"BZ196","v":0},{"$f":"CA196","v":0},{"$f":"CB196","v":0},{"$f":"CC196","v":0},{"$f":"CD196","v":0},{"$f":"CE196","v":0},{"$f":"CF196","v":0},{"$f":"CG196","v":0}]
[null,null,null,67,null,null,null,null,null,null,null,null,null,null,null,null,null,null,null,null,null,null,null,null,null,null,null,null,null,null,null,null,null,null,null,null,null,null,null,null,null,null,null,null,null,null,null,null,null,null,null,null,null,null,null,null,null,null,null,null,null,null,null,null,null,null,null,null,null,null,{"$f":"E196","v":1.9},{"$f":"F196","v":2.9},{"$f":"G196","v":3.9},{"$f":"H196","v":4.55},{"$f":"I196","v":5.2},{"$f":"J196","v":6.2},{"$f":"K196","v":7.2},{"$f":"L196","v":6.8000000000000007},{"$f":"M196","v":6.4},{"$f":"N196","v":6.65},{"$f":"O196","v":6.9},{"$f":"P196","v":7.45},{"$f":"Q196","v":8},{"$f":"R196","v":7.55},{"$f":"S196","v":7.1},{"$f":"T196","v":7.55},{"$f":"U196","v":8},{"$f":"V196","v":8.5500000000000007},{"$f":"W196","v":9.1},{"$f":"X196","v":10.433333333333332},{"$f":"Y196","v":11.766666666666666},{"$f":"Z196","v":13.1},{"$f":"AA196","v":11.766666666666666},{"$f":"AB196","v":10.433333333333334},{"$f":"AC196","v":9.1},{"$f":"AD196","v":8.5500000000000007},{"$f":"AE196","v":8},{"$f":"AF196","v":7.55},{"$f":"AG196","v":7.1},{"$f":"AH196","v":7.55},{"$f":"AI196","v":8},{"$f":"AJ196","v":7.45},{"$f":"AK196","v":6.9},{"$f":"AL196","v":6.65},{"$f":"AM196","v":6.4},{"$f":"AN196","v":6.8000000000000007},{"$f":"AO196","v":7.2},{"$f":"AP196","v":6.2},{"$f":"AQ196","v":5.2},{"$f":"AR196","v":4.55},{"$f":"AS196","v":3.9},{"$f":"AT196","v":2.9},{"$f":"AU196","v":1.9},{"$f":"AV196","v":0},{"$f":"AW196","v":0},{"$f":"AX196","v":0},{"$f":"AY196","v":0},{"$f":"AZ196","v":0},{"$f":"BA196","v":0},{"$f":"BB196","v":0},{"$f":"BC196","v":0},{"$f":"BD196","v":0},{"$f":"BE196","v":0},{"$f":"BF196","v":0},{"$f":"BG196","v":0},{"$f":"BH196","v":0},{"$f":"BI196","v":0},{"$f":"BJ196","v":0},{"$f":"BK196","v":0},{"$f":"BL196","v":0},{"$f":"BM196","v":0},{"$f":"BN196","v":0},{"$f":"BO196","v":0},{"$f":"BP196","v":0},{"$f":"BQ196","v":0},{"$f":"BR196","v":0},{"$f":"BS196","v":0},{"$f":"BT196","v":0},{"$f":"BU196","v":0},{"$f":"BV196","v":0},{"$f":"BW196","v":0},{"$f":"BX196","v":0},{"$f":"BY196","v":0},{"$f":"BZ196","v":0},{"$f":"CA196","v":0},{"$f":"CB196","v":0},{"$f":"CC196","v":0},{"$f":"CD196","v":0},{"$f":"CE196","v":0},{"$f":"CF196","v":0},{"$f":"CG196","v":0}]
[null,null,null,68,null,null,null,null,null,null,null,null,null,null,null,null,null,null,null,null,null,null,null,null,null,null,null,null,null,null,null,null,null,null,null,null,null,null,null,null,null,null,null,null,null,null,null,null,null,null,null,null,null,null,null,null,null,null,null,null,null,null,null,null,null,null,null,null,null,null,null,{"$f":"E196","v":1.9},{"$f":"F196","v":2.9},{"$f":"G196","v":3.9},{"$f":"H196","v":4.55},{"$f":"I196","v":5.2},{"$f":"J196","v":6.2},{"$f":"K196","v":7.2},{"$f":"L196","v":6.8000000000000007},{"$f":"M196","v":6.4},{"$f":"N196","v":6.65},{"$f":"O196","v":6.9},{"$f":"P196","v":7.45},{"$f":"Q196","v":8},{"$f":"R196","v":7.55},{"$f":"S196","v":7.1},{"$f":"T196","v":7.55},{"$f":"U196","v":8},{"$f":"V196","v":8.5500000000000007},{"$f":"W196","v":9.1},{"$f":"X196","v":10.433333333333332},{"$f":"Y196","v":11.766666666666666},{"$f":"Z196","v":13.1},{"$f":"AA196","v":11.766666666666666},{"$f":"AB196","v":10.433333333333334},{"$f":"AC196","v":9.1},{"$f":"AD196","v":8.5500000000000007},{"$f":"AE196","v":8},{"$f":"AF196","v":7.55},{"$f":"AG196","v":7.1},{"$f":"AH196","v":7.55},{"$f":"AI196","v":8},{"$f":"AJ196","v":7.45},{"$f":"AK196","v":6.9},{"$f":"AL196","v":6.65},{"$f":"AM196","v":6.4},{"$f":"AN196","v":6.8000000000000007},{"$f":"AO196","v":7.2},{"$f":"AP196","v":6.2},{"$f":"AQ196","v":5.2},{"$f":"AR196","v":4.55},{"$f":"AS196","v":3.9},{"$f":"AT196","v":2.9},{"$f":"AU196","v":1.9},{"$f":"AV196","v":0},{"$f":"AW196","v":0},{"$f":"AX196","v":0},{"$f":"AY196","v":0},{"$f":"AZ196","v":0},{"$f":"BA196","v":0},{"$f":"BB196","v":0},{"$f":"BC196","v":0},{"$f":"BD196","v":0},{"$f":"BE196","v":0},{"$f":"BF196","v":0},{"$f":"BG196","v":0},{"$f":"BH196","v":0},{"$f":"BI196","v":0},{"$f":"BJ196","v":0},{"$f":"BK196","v":0},{"$f":"BL196","v":0},{"$f":"BM196","v":0},{"$f":"BN196","v":0},{"$f":"BO196","v":0},{"$f":"BP196","v":0},{"$f":"BQ196","v":0},{"$f":"BR196","v":0},{"$f":"BS196","v":0},{"$f":"BT196","v":0},{"$f":"BU196","v":0},{"$f":"BV196","v":0},{"$f":"BW196","v":0},{"$f":"BX196","v":0},{"$f":"BY196","v":0},{"$f":"BZ196","v":0},{"$f":"CA196","v":0},{"$f":"CB196","v":0},{"$f":"CC196","v":0},{"$f":"CD196","v":0},{"$f":"CE196","v":0},{"$f":"CF196","v":0},{"$f":"CG196","v":0}]
[null,null,null,69,null,null,null,null,null,null,null,null,null,null,null,null,null,null,null,null,null,null,null,null,null,null,null,null,null,null,null,null,null,null,null,null,null,null,null,null,null,null,null,null,null,null,null,null,null,null,null,null,null,null,null,null,null,null,null,null,null,null,null,null,null,null,null,null,null,null,null,null,{"$f":"E196","v":1.9},{"$f":"F196","v":2.9},{"$f":"G196","v":3.9},{"$f":"H196","v":4.55},{"$f":"I196","v":5.2},{"$f":"J196","v":6.2},{"$f":"K196","v":7.2},{"$f":"L196","v":6.8000000000000007},{"$f":"M196","v":6.4},{"$f":"N196","v":6.65},{"$f":"O196","v":6.9},{"$f":"P196","v":7.45},{"$f":"Q196","v":8},{"$f":"R196","v":7.55},{"$f":"S196","v":7.1},{"$f":"T196","v":7.55},{"$f":"U196","v":8},{"$f":"V196","v":8.5500000000000007},{"$f":"W196","v":9.1},{"$f":"X196","v":10.433333333333332},{"$f":"Y196","v":11.766666666666666},{"$f":"Z196","v":13.1},{"$f":"AA196","v":11.766666666666666},{"$f":"AB196","v":10.433333333333334},{"$f":"AC196","v":9.1},{"$f":"AD196","v":8.5500000000000007},{"$f":"AE196","v":8},{"$f":"AF196","v":7.55},{"$f":"AG196","v":7.1},{"$f":"AH196","v":7.55},{"$f":"AI196","v":8},{"$f":"AJ196","v":7.45},{"$f":"AK196","v":6.9},{"$f":"AL196","v":6.65},{"$f":"AM196","v":6.4},{"$f":"AN196","v":6.8000000000000007},{"$f":"AO196","v":7.2},{"$f":"AP196","v":6.2},{"$f":"AQ196","v":5.2},{"$f":"AR196","v":4.55},{"$f":"AS196","v":3.9},{"$f":"AT196","v":2.9},{"$f":"AU196","v":1.9},{"$f":"AV196","v":0},{"$f":"AW196","v":0},{"$f":"AX196","v":0},{"$f":"AY196","v":0},{"$f":"AZ196","v":0},{"$f":"BA196","v":0},{"$f":"BB196","v":0},{"$f":"BC196","v":0},{"$f":"BD196","v":0},{"$f":"BE196","v":0},{"$f":"BF196","v":0},{"$f":"BG196","v":0},{"$f":"BH196","v":0},{"$f":"BI196","v":0},{"$f":"BJ196","v":0},{"$f":"BK196","v":0},{"$f":"BL196","v":0},{"$f":"BM196","v":0},{"$f":"BN196","v":0},{"$f":"BO196","v":0},{"$f":"BP196","v":0},{"$f":"BQ196","v":0},{"$f":"BR196","v":0},{"$f":"BS196","v":0},{"$f":"BT196","v":0},{"$f":"BU196","v":0},{"$f":"BV196","v":0},{"$f":"BW196","v":0},{"$f":"BX196","v":0},{"$f":"BY196","v":0},{"$f":"BZ196","v":0},{"$f":"CA196","v":0},{"$f":"CB196","v":0},{"$f":"CC196","v":0},{"$f":"CD196","v":0},{"$f":"CE196","v":0},{"$f":"CF196","v":0},{"$f":"CG196","v":0}]
[null,null,null,70,null,null,null,null,null,null,null,null,null,null,null,null,null,null,null,null,null,null,null,null,null,null,null,null,null,null,null,null,null,null,null,null,null,null,null,null,null,null,null,null,null,null,null,null,null,null,null,null,null,null,null,null,null,null,null,null,null,null,null,null,null,null,null,null,null,null,null,null,null,{"$f":"E196","v":1.9},{"$f":"F196","v":2.9},{"$f":"G196","v":3.9},{"$f":"H196","v":4.55},{"$f":"I196","v":5.2},{"$f":"J196","v":6.2},{"$f":"K196","v":7.2},{"$f":"L196","v":6.8000000000000007},{"$f":"M196","v":6.4},{"$f":"N196","v":6.65},{"$f":"O196","v":6.9},{"$f":"P196","v":7.45},{"$f":"Q196","v":8},{"$f":"R196","v":7.55},{"$f":"S196","v":7.1},{"$f":"T196","v":7.55},{"$f":"U196","v":8},{"$f":"V196","v":8.5500000000000007},{"$f":"W196","v":9.1},{"$f":"X196","v":10.433333333333332},{"$f":"Y196","v":11.766666666666666},{"$f":"Z196","v":13.1},{"$f":"AA196","v":11.766666666666666},{"$f":"AB196","v":10.433333333333334},{"$f":"AC196","v":9.1},{"$f":"AD196","v":8.5500000000000007},{"$f":"AE196","v":8},{"$f":"AF196","v":7.55},{"$f":"AG196","v":7.1},{"$f":"AH196","v":7.55},{"$f":"AI196","v":8},{"$f":"AJ196","v":7.45},{"$f":"AK196","v":6.9},{"$f":"AL196","v":6.65},{"$f":"AM196","v":6.4},{"$f":"AN196","v":6.8000000000000007},{"$f":"AO196","v":7.2},{"$f":"AP196","v":6.2},{"$f":"AQ196","v":5.2},{"$f":"AR196","v":4.55},{"$f":"AS196","v":3.9},{"$f":"AT196","v":2.9},{"$f":"AU196","v":1.9},{"$f":"AV196","v":0},{"$f":"AW196","v":0},{"$f":"AX196","v":0},{"$f":"AY196","v":0},{"$f":"AZ196","v":0},{"$f":"BA196","v":0},{"$f":"BB196","v":0},{"$f":"BC196","v":0},{"$f":"BD196","v":0},{"$f":"BE196","v":0},{"$f":"BF196","v":0},{"$f":"BG196","v":0},{"$f":"BH196","v":0},{"$f":"BI196","v":0},{"$f":"BJ196","v":0},{"$f":"BK196","v":0},{"$f":"BL196","v":0},{"$f":"BM196","v":0},{"$f":"BN196","v":0},{"$f":"BO196","v":0},{"$f":"BP196","v":0},{"$f":"BQ196","v":0},{"$f":"BR196","v":0},{"$f":"BS196","v":0},{"$f":"BT196","v":0},{"$f":"BU196","v":0},{"$f":"BV196","v":0},{"$f":"BW196","v":0},{"$f":"BX196","v":0},{"$f":"BY196","v":0},{"$f":"BZ196","v":0},{"$f":"CA196","v":0},{"$f":"CB196","v":0},{"$f":"CC196","v":0},{"$f":"CD196","v":0},{"$f":"CE196","v":0},{"$f":"CF196","v":0},{"$f":"CG196","v":0}]
[null,null,null,71,null,null,null,null,null,null,null,null,null,null,null,null,null,null,null,null,null,null,null,null,null,null,null,null,null,null,null,null,null,null,null,null,null,null,null,null,null,null,null,null,null,null,null,null,null,null,null,null,null,null,null,null,null,null,null,null,null,null,null,null,null,null,null,null,null,null,null,null,null,null,{"$f":"E196","v":1.9},{"$f":"F196","v":2.9},{"$f":"G196","v":3.9},{"$f":"H196","v":4.55},{"$f":"I196","v":5.2},{"$f":"J196","v":6.2},{"$f":"K196","v":7.2},{"$f":"L196","v":6.8000000000000007},{"$f":"M196","v":6.4},{"$f":"N196","v":6.65},{"$f":"O196","v":6.9},{"$f":"P196","v":7.45},{"$f":"Q196","v":8},{"$f":"R196","v":7.55},{"$f":"S196","v":7.1},{"$f":"T196","v":7.55},{"$f":"U196","v":8},{"$f":"V196","v":8.5500000000000007},{"$f":"W196","v":9.1},{"$f":"X196","v":10.433333333333332},{"$f":"Y196","v":11.766666666666666},{"$f":"Z196","v":13.1},{"$f":"AA196","v":11.766666666666666},{"$f":"AB196","v":10.433333333333334},{"$f":"AC196","v":9.1},{"$f":"AD196","v":8.5500000000000007},{"$f":"AE196","v":8},{"$f":"AF196","v":7.55},{"$f":"AG196","v":7.1},{"$f":"AH196","v":7.55},{"$f":"AI196","v":8},{"$f":"AJ196","v":7.45},{"$f":"AK196","v":6.9},{"$f":"AL196","v":6.65},{"$f":"AM196","v":6.4},{"$f":"AN196","v":6.8000000000000007},{"$f":"AO196","v":7.2},{"$f":"AP196","v":6.2},{"$f":"AQ196","v":5.2},{"$f":"AR196","v":4.55},{"$f":"AS196","v":3.9},{"$f":"AT196","v":2.9},{"$f":"AU196","v":1.9},{"$f":"AV196","v":0},{"$f":"AW196","v":0},{"$f":"AX196","v":0},{"$f":"AY196","v":0},{"$f":"AZ196","v":0},{"$f":"BA196","v":0},{"$f":"BB196","v":0},{"$f":"BC196","v":0},{"$f":"BD196","v":0},{"$f":"BE196","v":0},{"$f":"BF196","v":0},{"$f":"BG196","v":0},{"$f":"BH196","v":0},{"$f":"BI196","v":0},{"$f":"BJ196","v":0},{"$f":"BK196","v":0},{"$f":"BL196","v":0},{"$f":"BM196","v":0},{"$f":"BN196","v":0},{"$f":"BO196","v":0},{"$f":"BP196","v":0},{"$f":"BQ196","v":0},{"$f":"BR196","v":0},{"$f":"BS196","v":0},{"$f":"BT196","v":0},{"$f":"BU196","v":0},{"$f":"BV196","v":0},{"$f":"BW196","v":0},{"$f":"BX196","v":0},{"$f":"BY196","v":0},{"$f":"BZ196","v":0},{"$f":"CA196","v":0},{"$f":"CB196","v":0},{"$f":"CC196","v":0},{"$f":"CD196","v":0},{"$f":"CE196","v":0},{"$f":"CF196","v":0},{"$f":"CG196","v":0}]
[null,null,null,72,null,null,null,null,null,null,null,null,null,null,null,null,null,null,null,null,null,null,null,null,null,null,null,null,null,null,null,null,null,null,null,null,null,null,null,null,null,null,null,null,null,null,null,null,null,null,null,null,null,null,null,null,null,null,null,null,null,null,null,null,null,null,null,null,null,null,null,null,null,null,null,{"$f":"E196","v":1.9},{"$f":"F196","v":2.9},{"$f":"G196","v":3.9},{"$f":"H196","v":4.55},{"$f":"I196","v":5.2},{"$f":"J196","v":6.2},{"$f":"K196","v":7.2},{"$f":"L196","v":6.8000000000000007},{"$f":"M196","v":6.4},{"$f":"N196","v":6.65},{"$f":"O196","v":6.9},{"$f":"P196","v":7.45},{"$f":"Q196","v":8},{"$f":"R196","v":7.55},{"$f":"S196","v":7.1},{"$f":"T196","v":7.55},{"$f":"U196","v":8},{"$f":"V196","v":8.5500000000000007},{"$f":"W196","v":9.1},{"$f":"X196","v":10.433333333333332},{"$f":"Y196","v":11.766666666666666},{"$f":"Z196","v":13.1},{"$f":"AA196","v":11.766666666666666},{"$f":"AB196","v":10.433333333333334},{"$f":"AC196","v":9.1},{"$f":"AD196","v":8.5500000000000007},{"$f":"AE196","v":8},{"$f":"AF196","v":7.55},{"$f":"AG196","v":7.1},{"$f":"AH196","v":7.55},{"$f":"AI196","v":8},{"$f":"AJ196","v":7.45},{"$f":"AK196","v":6.9},{"$f":"AL196","v":6.65},{"$f":"AM196","v":6.4},{"$f":"AN196","v":6.8000000000000007},{"$f":"AO196","v":7.2},{"$f":"AP196","v":6.2},{"$f":"AQ196","v":5.2},{"$f":"AR196","v":4.55},{"$f":"AS196","v":3.9},{"$f":"AT196","v":2.9},{"$f":"AU196","v":1.9},{"$f":"AV196","v":0},{"$f":"AW196","v":0},{"$f":"AX196","v":0},{"$f":"AY196","v":0},{"$f":"AZ196","v":0},{"$f":"BA196","v":0},{"$f":"BB196","v":0},{"$f":"BC196","v":0},{"$f":"BD196","v":0},{"$f":"BE196","v":0},{"$f":"BF196","v":0},{"$f":"BG196","v":0},{"$f":"BH196","v":0},{"$f":"BI196","v":0},{"$f":"BJ196","v":0},{"$f":"BK196","v":0},{"$f":"BL196","v":0},{"$f":"BM196","v":0},{"$f":"BN196","v":0},{"$f":"BO196","v":0},{"$f":"BP196","v":0},{"$f":"BQ196","v":0},{"$f":"BR196","v":0},{"$f":"BS196","v":0},{"$f":"BT196","v":0},{"$f":"BU196","v":0},{"$f":"BV196","v":0},{"$f":"BW196","v":0},{"$f":"BX196","v":0},{"$f":"BY196","v":0},{"$f":"BZ196","v":0},{"$f":"CA196","v":0},{"$f":"CB196","v":0},{"$f":"CC196","v":0},{"$f":"CD196","v":0},{"$f":"CE196","v":0},{"$f":"CF196","v":0},{"$f":"CG196","v":0}]
[null,null,null,73,null,null,null,null,null,null,null,null,null,null,null,null,null,null,null,null,null,null,null,null,null,null,null,null,null,null,null,null,null,null,null,null,null,null,null,null,null,null,null,null,null,null,null,null,null,null,null,null,null,null,null,null,null,null,null,null,null,null,null,null,null,null,null,null,null,null,null,null,null,null,null,null,{"$f":"E196","v":1.9},{"$f":"F196","v":2.9},{"$f":"G196","v":3.9},{"$f":"H196","v":4.55},{"$f":"I196","v":5.2},{"$f":"J196","v":6.2},{"$f":"K196","v":7.2},{"$f":"L196","v":6.8000000000000007},{"$f":"M196","v":6.4},{"$f":"N196","v":6.65},{"$f":"O196","v":6.9},{"$f":"P196","v":7.45},{"$f":"Q196","v":8},{"$f":"R196","v":7.55},{"$f":"S196","v":7.1},{"$f":"T196","v":7.55},{"$f":"U196","v":8},{"$f":"V196","v":8.5500000000000007},{"$f":"W196","v":9.1},{"$f":"X196","v":10.433333333333332},{"$f":"Y196","v":11.766666666666666},{"$f":"Z196","v":13.1},{"$f":"AA196","v":11.766666666666666},{"$f":"AB196","v":10.433333333333334},{"$f":"AC196","v":9.1},{"$f":"AD196","v":8.5500000000000007},{"$f":"AE196","v":8},{"$f":"AF196","v":7.55},{"$f":"AG196","v":7.1},{"$f":"AH196","v":7.55},{"$f":"AI196","v":8},{"$f":"AJ196","v":7.45},{"$f":"AK196","v":6.9},{"$f":"AL196","v":6.65},{"$f":"AM196","v":6.4},{"$f":"AN196","v":6.8000000000000007},{"$f":"AO196","v":7.2},{"$f":"AP196","v":6.2},{"$f":"AQ196","v":5.2},{"$f":"AR196","v":4.55},{"$f":"AS196","v":3.9},{"$f":"AT196","v":2.9},{"$f":"AU196","v":1.9},{"$f":"AV196","v":0},{"$f":"AW196","v":0},{"$f":"AX196","v":0},{"$f":"AY196","v":0},{"$f":"AZ196","v":0},{"$f":"BA196","v":0},{"$f":"BB196","v":0},{"$f":"BC196","v":0},{"$f":"BD196","v":0},{"$f":"BE196","v":0},{"$f":"BF196","v":0},{"$f":"BG196","v":0},{"$f":"BH196","v":0},{"$f":"BI196","v":0},{"$f":"BJ196","v":0},{"$f":"BK196","v":0},{"$f":"BL196","v":0},{"$f":"BM196","v":0},{"$f":"BN196","v":0},{"$f":"BO196","v":0},{"$f":"BP196","v":0},{"$f":"BQ196","v":0},{"$f":"BR196","v":0},{"$f":"BS196","v":0},{"$f":"BT196","v":0},{"$f":"BU196","v":0},{"$f":"BV196","v":0},{"$f":"BW196","v":0},{"$f":"BX196","v":0},{"$f":"BY196","v":0},{"$f":"BZ196","v":0},{"$f":"CA196","v":0},{"$f":"CB196","v":0},{"$f":"CC196","v":0},{"$f":"CD196","v":0},{"$f":"CE196","v":0},{"$f":"CF196","v":0},{"$f":"CG196","v":0}]
[null,null,null,74,null,null,null,null,null,null,null,null,null,null,null,null,null,null,null,null,null,null,null,null,null,null,null,null,null,null,null,null,null,null,null,null,null,null,null,null,null,null,null,null,null,null,null,null,null,null,null,null,null,null,null,null,null,null,null,null,null,null,null,null,null,null,null,null,null,null,null,null,null,null,null,null,null,{"$f":"E196","v":1.9},{"$f":"F196","v":2.9},{"$f":"G196","v":3.9},{"$f":"H196","v":4.55},{"$f":"I196","v":5.2},{"$f":"J196","v":6.2},{"$f":"K196","v":7.2},{"$f":"L196","v":6.8000000000000007},{"$f":"M196","v":6.4},{"$f":"N196","v":6.65},{"$f":"O196","v":6.9},{"$f":"P196","v":7.45},{"$f":"Q196","v":8},{"$f":"R196","v":7.55},{"$f":"S196","v":7.1},{"$f":"T196","v":7.55},{"$f":"U196","v":8},{"$f":"V196","v":8.5500000000000007},{"$f":"W196","v":9.1},{"$f":"X196","v":10.433333333333332},{"$f":"Y196","v":11.766666666666666},{"$f":"Z196","v":13.1},{"$f":"AA196","v":11.766666666666666},{"$f":"AB196","v":10.433333333333334},{"$f":"AC196","v":9.1},{"$f":"AD196","v":8.5500000000000007},{"$f":"AE196","v":8},{"$f":"AF196","v":7.55},{"$f":"AG196","v":7.1},{"$f":"AH196","v":7.55},{"$f":"AI196","v":8},{"$f":"AJ196","v":7.45},{"$f":"AK196","v":6.9},{"$f":"AL196","v":6.65},{"$f":"AM196","v":6.4},{"$f":"AN196","v":6.8000000000000007},{"$f":"AO196","v":7.2},{"$f":"AP196","v":6.2},{"$f":"AQ196","v":5.2},{"$f":"AR196","v":4.55},{"$f":"AS196","v":3.9},{"$f":"AT196","v":2.9},{"$f":"AU196","v":1.9},{"$f":"AV196","v":0},{"$f":"AW196","v":0},{"$f":"AX196","v":0},{"$f":"AY196","v":0},{"$f":"AZ196","v":0},{"$f":"BA196","v":0},{"$f":"BB196","v":0},{"$f":"BC196","v":0},{"$f":"BD196","v":0},{"$f":"BE196","v":0},{"$f":"BF196","v":0},{"$f":"BG196","v":0},{"$f":"BH196","v":0},{"$f":"BI196","v":0},{"$f":"BJ196","v":0},{"$f":"BK196","v":0},{"$f":"BL196","v":0},{"$f":"BM196","v":0},{"$f":"BN196","v":0},{"$f":"BO196","v":0},{"$f":"BP196","v":0},{"$f":"BQ196","v":0},{"$f":"BR196","v":0},{"$f":"BS196","v":0},{"$f":"BT196","v":0},{"$f":"BU196","v":0},{"$f":"BV196","v":0},{"$f":"BW196","v":0},{"$f":"BX196","v":0},{"$f":"BY196","v":0},{"$f":"BZ196","v":0},{"$f":"CA196","v":0},{"$f":"CB196","v":0},{"$f":"CC196","v":0},{"$f":"CD196","v":0},{"$f":"CE196","v":0},{"$f":"CF196","v":0},{"$f":"CG196","v":0}]
[null,null,null,75,null,null,null,null,null,null,null,null,null,null,null,null,null,null,null,null,null,null,null,null,null,null,null,null,null,null,null,null,null,null,null,null,null,null,null,null,null,null,null,null,null,null,null,null,null,null,null,null,null,null,null,null,null,null,null,null,null,null,null,null,null,null,null,null,null,null,null,null,null,null,null,null,null,null,{"$f":"E196","v":1.9},{"$f":"F196","v":2.9},{"$f":"G196","v":3.9},{"$f":"H196","v":4.55},{"$f":"I196","v":5.2},{"$f":"J196","v":6.2},{"$f":"K196","v":7.2},{"$f":"L196","v":6.8000000000000007},{"$f":"M196","v":6.4},{"$f":"N196","v":6.65},{"$f":"O196","v":6.9},{"$f":"P196","v":7.45},{"$f":"Q196","v":8},{"$f":"R196","v":7.55},{"$f":"S196","v":7.1},{"$f":"T196","v":7.55},{"$f":"U196","v":8},{"$f":"V196","v":8.5500000000000007},{"$f":"W196","v":9.1},{"$f":"X196","v":10.433333333333332},{"$f":"Y196","v":11.766666666666666},{"$f":"Z196","v":13.1},{"$f":"AA196","v":11.766666666666666},{"$f":"AB196","v":10.433333333333334},{"$f":"AC196","v":9.1},{"$f":"AD196","v":8.5500000000000007},{"$f":"AE196","v":8},{"$f":"AF196","v":7.55},{"$f":"AG196","v":7.1},{"$f":"AH196","v":7.55},{"$f":"AI196","v":8},{"$f":"AJ196","v":7.45},{"$f":"AK196","v":6.9},{"$f":"AL196","v":6.65},{"$f":"AM196","v":6.4},{"$f":"AN196","v":6.8000000000000007},{"$f":"AO196","v":7.2},{"$f":"AP196","v":6.2},{"$f":"AQ196","v":5.2},{"$f":"AR196","v":4.55},{"$f":"AS196","v":3.9},{"$f":"AT196","v":2.9},{"$f":"AU196","v":1.9},{"$f":"AV196","v":0},{"$f":"AW196","v":0},{"$f":"AX196","v":0},{"$f":"AY196","v":0},{"$f":"AZ196","v":0},{"$f":"BA196","v":0},{"$f":"BB196","v":0},{"$f":"BC196","v":0},{"$f":"BD196","v":0},{"$f":"BE196","v":0},{"$f":"BF196","v":0},{"$f":"BG196","v":0},{"$f":"BH196","v":0},{"$f":"BI196","v":0},{"$f":"BJ196","v":0},{"$f":"BK196","v":0},{"$f":"BL196","v":0},{"$f":"BM196","v":0},{"$f":"BN196","v":0},{"$f":"BO196","v":0},{"$f":"BP196","v":0},{"$f":"BQ196","v":0},{"$f":"BR196","v":0},{"$f":"BS196","v":0},{"$f":"BT196","v":0},{"$f":"BU196","v":0},{"$f":"BV196","v":0},{"$f":"BW196","v":0},{"$f":"BX196","v":0},{"$f":"BY196","v":0},{"$f":"BZ196","v":0},{"$f":"CA196","v":0},{"$f":"CB196","v":0},{"$f":"CC196","v":0},{"$f":"CD196","v":0},{"$f":"CE196","v":0},{"$f":"CF196","v":0},{"$f":"CG196","v":0}]
[null,null,null,76,null,null,null,null,null,null,null,null,null,null,null,null,null,null,null,null,null,null,null,null,null,null,null,null,null,null,null,null,null,null,null,null,null,null,null,null,null,null,null,null,null,null,null,null,null,null,null,null,null,null,null,null,null,null,null,null,null,null,null,null,null,null,null,null,null,null,null,null,null,null,null,null,null,null,null,{"$f":"E196","v":1.9},{"$f":"F196","v":2.9},{"$f":"G196","v":3.9},{"$f":"H196","v":4.55},{"$f":"I196","v":5.2},{"$f":"J196","v":6.2},{"$f":"K196","v":7.2},{"$f":"L196","v":6.8000000000000007},{"$f":"M196","v":6.4},{"$f":"N196","v":6.65},{"$f":"O196","v":6.9},{"$f":"P196","v":7.45},{"$f":"Q196","v":8},{"$f":"R196","v":7.55},{"$f":"S196","v":7.1},{"$f":"T196","v":7.55},{"$f":"U196","v":8},{"$f":"V196","v":8.5500000000000007},{"$f":"W196","v":9.1},{"$f":"X196","v":10.433333333333332},{"$f":"Y196","v":11.766666666666666},{"$f":"Z196","v":13.1},{"$f":"AA196","v":11.766666666666666},{"$f":"AB196","v":10.433333333333334},{"$f":"AC196","v":9.1},{"$f":"AD196","v":8.5500000000000007},{"$f":"AE196","v":8},{"$f":"AF196","v":7.55},{"$f":"AG196","v":7.1},{"$f":"AH196","v":7.55},{"$f":"AI196","v":8},{"$f":"AJ196","v":7.45},{"$f":"AK196","v":6.9},{"$f":"AL196","v":6.65},{"$f":"AM196","v":6.4},{"$f":"AN196","v":6.8000000000000007},{"$f":"AO196","v":7.2},{"$f":"AP196","v":6.2},{"$f":"AQ196","v":5.2},{"$f":"AR196","v":4.55},{"$f":"AS196","v":3.9},{"$f":"AT196","v":2.9},{"$f":"AU196","v":1.9},{"$f":"AV196","v":0},{"$f":"AW196","v":0},{"$f":"AX196","v":0},{"$f":"AY196","v":0},{"$f":"AZ196","v":0},{"$f":"BA196","v":0},{"$f":"BB196","v":0},{"$f":"BC196","v":0},{"$f":"BD196","v":0},{"$f":"BE196","v":0},{"$f":"BF196","v":0},{"$f":"BG196","v":0},{"$f":"BH196","v":0},{"$f":"BI196","v":0},{"$f":"BJ196","v":0},{"$f":"BK196","v":0},{"$f":"BL196","v":0},{"$f":"BM196","v":0},{"$f":"BN196","v":0},{"$f":"BO196","v":0},{"$f":"BP196","v":0},{"$f":"BQ196","v":0},{"$f":"BR196","v":0},{"$f":"BS196","v":0},{"$f":"BT196","v":0},{"$f":"BU196","v":0},{"$f":"BV196","v":0},{"$f":"BW196","v":0},{"$f":"BX196","v":0},{"$f":"BY196","v":0},{"$f":"BZ196","v":0},{"$f":"CA196","v":0},{"$f":"CB196","v":0},{"$f":"CC196","v":0},{"$f":"CD196","v":0},{"$f":"CE196","v":0},{"$f":"CF196","v":0},{"$f":"CG196","v":0}]
[null,null,null,77,null,null,null,null,null,null,null,null,null,null,null,null,null,null,null,null,null,null,null,null,null,null,null,null,null,null,null,null,null,null,null,null,null,null,null,null,null,null,null,null,null,null,null,null,null,null,null,null,null,null,null,null,null,null,null,null,null,null,null,null,null,null,null,null,null,null,null,null,null,null,null,null,null,null,null,null,{"$f":"E196","v":1.9},{"$f":"F196","v":2.9},{"$f":"G196","v":3.9},{"$f":"H196","v":4.55},{"$f":"I196","v":5.2},{"$f":"J196","v":6.2},{"$f":"K196","v":7.2},{"$f":"L196","v":6.8000000000000007},{"$f":"M196","v":6.4},{"$f":"N196","v":6.65},{"$f":"O196","v":6.9},{"$f":"P196","v":7.45},{"$f":"Q196","v":8},{"$f":"R196","v":7.55},{"$f":"S196","v":7.1},{"$f":"T196","v":7.55},{"$f":"U196","v":8},{"$f":"V196","v":8.5500000000000007},{"$f":"W196","v":9.1},{"$f":"X196","v":10.433333333333332},{"$f":"Y196","v":11.766666666666666},{"$f":"Z196","v":13.1},{"$f":"AA196","v":11.766666666666666},{"$f":"AB196","v":10.433333333333334},{"$f":"AC196","v":9.1},{"$f":"AD196","v":8.5500000000000007},{"$f":"AE196","v":8},{"$f":"AF196","v":7.55},{"$f":"AG196","v":7.1},{"$f":"AH196","v":7.55},{"$f":"AI196","v":8},{"$f":"AJ196","v":7.45},{"$f":"AK196","v":6.9},{"$f":"AL196","v":6.65},{"$f":"AM196","v":6.4},{"$f":"AN196","v":6.8000000000000007},{"$f":"AO196","v":7.2},{"$f":"AP196","v":6.2},{"$f":"AQ196","v":5.2},{"$f":"AR196","v":4.55},{"$f":"AS196","v":3.9},{"$f":"AT196","v":2.9},{"$f":"AU196","v":1.9},{"$f":"AV196","v":0},{"$f":"AW196","v":0},{"$f":"AX196","v":0},{"$f":"AY196","v":0},{"$f":"AZ196","v":0},{"$f":"BA196","v":0},{"$f":"BB196","v":0},{"$f":"BC196","v":0},{"$f":"BD196","v":0},{"$f":"BE196","v":0},{"$f":"BF196","v":0},{"$f":"BG196","v":0},{"$f":"BH196","v":0},{"$f":"BI196","v":0},{"$f":"BJ196","v":0},{"$f":"BK196","v":0},{"$f":"BL196","v":0},{"$f":"BM196","v":0},{"$f":"BN196","v":0},{"$f":"BO196","v":0},{"$f":"BP196","v":0},{"$f":"BQ196","v":0},{"$f":"BR196","v":0},{"$f":"BS196","v":0},{"$f":"BT196","v":0},{"$f":"BU196","v":0},{"$f":"BV196","v":0},{"$f":"BW196","v":0},{"$f":"BX196","v":0},{"$f":"BY196","v":0},{"$f":"BZ196","v":0},{"$f":"CA196","v":0},{"$f":"CB196","v":0},{"$f":"CC196","v":0},{"$f":"CD196","v":0},{"$f":"CE196","v":0},{"$f":"CF196","v":0},{"$f":"CG196","v":0}]
[null,null,null,78,null,null,null,null,null,null,null,null,null,null,null,null,null,null,null,null,null,null,null,null,null,null,null,null,null,null,null,null,null,null,null,null,null,null,null,null,null,null,null,null,null,null,null,null,null,null,null,null,null,null,null,null,null,null,null,null,null,null,null,null,null,null,null,null,null,null,null,null,null,null,null,null,null,null,null,null,null,{"$f":"E196","v":1.9},{"$f":"F196","v":2.9},{"$f":"G196","v":3.9},{"$f":"H196","v":4.55},{"$f":"I196","v":5.2},{"$f":"J196","v":6.2},{"$f":"K196","v":7.2},{"$f":"L196","v":6.8000000000000007},{"$f":"M196","v":6.4},{"$f":"N196","v":6.65},{"$f":"O196","v":6.9},{"$f":"P196","v":7.45},{"$f":"Q196","v":8},{"$f":"R196","v":7.55},{"$f":"S196","v":7.1},{"$f":"T196","v":7.55},{"$f":"U196","v":8},{"$f":"V196","v":8.5500000000000007},{"$f":"W196","v":9.1},{"$f":"X196","v":10.433333333333332},{"$f":"Y196","v":11.766666666666666},{"$f":"Z196","v":13.1},{"$f":"AA196","v":11.766666666666666},{"$f":"AB196","v":10.433333333333334},{"$f":"AC196","v":9.1},{"$f":"AD196","v":8.5500000000000007},{"$f":"AE196","v":8},{"$f":"AF196","v":7.55},{"$f":"AG196","v":7.1},{"$f":"AH196","v":7.55},{"$f":"AI196","v":8},{"$f":"AJ196","v":7.45},{"$f":"AK196","v":6.9},{"$f":"AL196","v":6.65},{"$f":"AM196","v":6.4},{"$f":"AN196","v":6.8000000000000007},{"$f":"AO196","v":7.2},{"$f":"AP196","v":6.2},{"$f":"AQ196","v":5.2},{"$f":"AR196","v":4.55},{"$f":"AS196","v":3.9},{"$f":"AT196","v":2.9},{"$f":"AU196","v":1.9},{"$f":"AV196","v":0},{"$f":"AW196","v":0},{"$f":"AX196","v":0},{"$f":"AY196","v":0},{"$f":"AZ196","v":0},{"$f":"BA196","v":0},{"$f":"BB196","v":0},{"$f":"BC196","v":0},{"$f":"BD196","v":0},{"$f":"BE196","v":0},{"$f":"BF196","v":0},{"$f":"BG196","v":0},{"$f":"BH196","v":0},{"$f":"BI196","v":0},{"$f":"BJ196","v":0},{"$f":"BK196","v":0},{"$f":"BL196","v":0},{"$f":"BM196","v":0},{"$f":"BN196","v":0},{"$f":"BO196","v":0},{"$f":"BP196","v":0},{"$f":"BQ196","v":0},{"$f":"BR196","v":0},{"$f":"BS196","v":0},{"$f":"BT196","v":0},{"$f":"BU196","v":0},{"$f":"BV196","v":0},{"$f":"BW196","v":0},{"$f":"BX196","v":0},{"$f":"BY196","v":0},{"$f":"BZ196","v":0},{"$f":"CA196","v":0},{"$f":"CB196","v":0},{"$f":"CC196","v":0},{"$f":"CD196","v":0},{"$f":"CE196","v":0},{"$f":"CF196","v":0},{"$f":"CG196","v":0}]
[null,null,null,79,null,null,null,null,null,null,null,null,null,null,null,null,null,null,null,null,null,null,null,null,null,null,null,null,null,null,null,null,null,null,null,null,null,null,null,null,null,null,null,null,null,null,null,null,null,null,null,null,null,null,null,null,null,null,null,null,null,null,null,null,null,null,null,null,null,null,null,null,null,null,null,null,null,null,null,null,null,null,{"$f":"E196","v":1.9},{"$f":"F196","v":2.9},{"$f":"G196","v":3.9},{"$f":"H196","v":4.55},{"$f":"I196","v":5.2},{"$f":"J196","v":6.2},{"$f":"K196","v":7.2},{"$f":"L196","v":6.8000000000000007},{"$f":"M196","v":6.4},{"$f":"N196","v":6.65},{"$f":"O196","v":6.9},{"$f":"P196","v":7.45},{"$f":"Q196","v":8},{"$f":"R196","v":7.55},{"$f":"S196","v":7.1},{"$f":"T196","v":7.55},{"$f":"U196","v":8},{"$f":"V196","v":8.5500000000000007},{"$f":"W196","v":9.1},{"$f":"X196","v":10.433333333333332},{"$f":"Y196","v":11.766666666666666},{"$f":"Z196","v":13.1},{"$f":"AA196","v":11.766666666666666},{"$f":"AB196","v":10.433333333333334},{"$f":"AC196","v":9.1},{"$f":"AD196","v":8.5500000000000007},{"$f":"AE196","v":8},{"$f":"AF196","v":7.55},{"$f":"AG196","v":7.1},{"$f":"AH196","v":7.55},{"$f":"AI196","v":8},{"$f":"AJ196","v":7.45},{"$f":"AK196","v":6.9},{"$f":"AL196","v":6.65},{"$f":"AM196","v":6.4},{"$f":"AN196","v":6.8000000000000007},{"$f":"AO196","v":7.2},{"$f":"AP196","v":6.2},{"$f":"AQ196","v":5.2},{"$f":"AR196","v":4.55},{"$f":"AS196","v":3.9},{"$f":"AT196","v":2.9},{"$f":"AU196","v":1.9},{"$f":"AV196","v":0},{"$f":"AW196","v":0},{"$f":"AX196","v":0},{"$f":"AY196","v":0},{"$f":"AZ196","v":0},{"$f":"BA196","v":0},{"$f":"BB196","v":0},{"$f":"BC196","v":0},{"$f":"BD196","v":0},{"$f":"BE196","v":0},{"$f":"BF196","v":0},{"$f":"BG196","v":0},{"$f":"BH196","v":0},{"$f":"BI196","v":0},{"$f":"BJ196","v":0},{"$f":"BK196","v":0},{"$f":"BL196","v":0},{"$f":"BM196","v":0},{"$f":"BN196","v":0},{"$f":"BO196","v":0},{"$f":"BP196","v":0},{"$f":"BQ196","v":0},{"$f":"BR196","v":0},{"$f":"BS196","v":0},{"$f":"BT196","v":0},{"$f":"BU196","v":0},{"$f":"BV196","v":0},{"$f":"BW196","v":0},{"$f":"BX196","v":0},{"$f":"BY196","v":0},{"$f":"BZ196","v":0},{"$f":"CA196","v":0},{"$f":"CB196","v":0},{"$f":"CC196","v":0},{"$f":"CD196","v":0},{"$f":"CE196","v":0},{"$f":"CF196","v":0},{"$f":"CG196","v":0}]
[null,null,null,80,null,null,null,null,null,null,null,null,null,null,null,null,null,null,null,null,null,null,null,null,null,null,null,null,null,null,null,null,null,null,null,null,null,null,null,null,null,null,null,null,null,null,null,null,null,null,null,null,null,null,null,null,null,null,null,null,null,null,null,null,null,null,null,null,null,null,null,null,null,null,null,null,null,null,null,null,null,null,null,{"$f":"E196","v":1.9},{"$f":"F196","v":2.9},{"$f":"G196","v":3.9},{"$f":"H196","v":4.55},{"$f":"I196","v":5.2},{"$f":"J196","v":6.2},{"$f":"K196","v":7.2},{"$f":"L196","v":6.8000000000000007},{"$f":"M196","v":6.4},{"$f":"N196","v":6.65},{"$f":"O196","v":6.9},{"$f":"P196","v":7.45},{"$f":"Q196","v":8},{"$f":"R196","v":7.55},{"$f":"S196","v":7.1},{"$f":"T196","v":7.55},{"$f":"U196","v":8},{"$f":"V196","v":8.5500000000000007},{"$f":"W196","v":9.1},{"$f":"X196","v":10.433333333333332},{"$f":"Y196","v":11.766666666666666},{"$f":"Z196","v":13.1},{"$f":"AA196","v":11.766666666666666},{"$f":"AB196","v":10.433333333333334},{"$f":"AC196","v":9.1},{"$f":"AD196","v":8.5500000000000007},{"$f":"AE196","v":8},{"$f":"AF196","v":7.55},{"$f":"AG196","v":7.1},{"$f":"AH196","v":7.55},{"$f":"AI196","v":8},{"$f":"AJ196","v":7.45},{"$f":"AK196","v":6.9},{"$f":"AL196","v":6.65},{"$f":"AM196","v":6.4},{"$f":"AN196","v":6.8000000000000007},{"$f":"AO196","v":7.2},{"$f":"AP196","v":6.2},{"$f":"AQ196","v":5.2},{"$f":"AR196","v":4.55},{"$f":"AS196","v":3.9},{"$f":"AT196","v":2.9},{"$f":"AU196","v":1.9},{"$f":"AV196","v":0},{"$f":"AW196","v":0},{"$f":"AX196","v":0},{"$f":"AY196","v":0},{"$f":"AZ196","v":0},{"$f":"BA196","v":0},{"$f":"BB196","v":0},{"$f":"BC196","v":0},{"$f":"BD196","v":0},{"$f":"BE196","v":0},{"$f":"BF196","v":0},{"$f":"BG196","v":0},{"$f":"BH196","v":0},{"$f":"BI196","v":0},{"$f":"BJ196","v":0},{"$f":"BK196","v":0},{"$f":"BL196","v":0},{"$f":"BM196","v":0},{"$f":"BN196","v":0},{"$f":"BO196","v":0},{"$f":"BP196","v":0},{"$f":"BQ196","v":0},{"$f":"BR196","v":0},{"$f":"BS196","v":0},{"$f":"BT196","v":0},{"$f":"BU196","v":0},{"$f":"BV196","v":0},{"$f":"BW196","v":0},{"$f":"BX196","v":0},{"$f":"BY196","v":0},{"$f":"BZ196","v":0},{"$f":"CA196","v":0},{"$f":"CB196","v":0},{"$f":"CC196","v":0},{"$f":"CD196","v":0},{"$f":"CE196","v":0},{"$f":"CF196","v":0},{"$f":"CG196","v":0}]
[null,null,null,81,null,null,null,null,null,null,null,null,null,null,null,null,null,null,null,null,null,null,null,null,null,null,null,null,null,null,null,null,null,null,null,null,null,null,null,null,null,null,null,null,null,null,null,null,null,null,null,null,null,null,null,null,null,null,null,null,null,null,null,null,null,null,null,null,null,null,null,null,null,null,null,null,null,null,null,null,null,null,null,null,{"$f":"E196","v":1.9},{"$f":"F196","v":2.9},{"$f":"G196","v":3.9},{"$f":"H196","v":4.55},{"$f":"I196","v":5.2},{"$f":"J196","v":6.2},{"$f":"K196","v":7.2},{"$f":"L196","v":6.8000000000000007},{"$f":"M196","v":6.4},{"$f":"N196","v":6.65},{"$f":"O196","v":6.9},{"$f":"P196","v":7.45},{"$f":"Q196","v":8},{"$f":"R196","v":7.55},{"$f":"S196","v":7.1},{"$f":"T196","v":7.55},{"$f":"U196","v":8},{"$f":"V196","v":8.5500000000000007},{"$f":"W196","v":9.1},{"$f":"X196","v":10.433333333333332},{"$f":"Y196","v":11.766666666666666},{"$f":"Z196","v":13.1},{"$f":"AA196","v":11.766666666666666},{"$f":"AB196","v":10.433333333333334},{"$f":"AC196","v":9.1},{"$f":"AD196","v":8.5500000000000007},{"$f":"AE196","v":8},{"$f":"AF196","v":7.55},{"$f":"AG196","v":7.1},{"$f":"AH196","v":7.55},{"$f":"AI196","v":8},{"$f":"AJ196","v":7.45},{"$f":"AK196","v":6.9},{"$f":"AL196","v":6.65},{"$f":"AM196","v":6.4},{"$f":"AN196","v":6.8000000000000007},{"$f":"AO196","v":7.2},{"$f":"AP196","v":6.2},{"$f":"AQ196","v":5.2},{"$f":"AR196","v":4.55},{"$f":"AS196","v":3.9},{"$f":"AT196","v":2.9},{"$f":"AU196","v":1.9},{"$f":"AV196","v":0},{"$f":"AW196","v":0},{"$f":"AX196","v":0},{"$f":"AY196","v":0},{"$f":"AZ196","v":0},{"$f":"BA196","v":0},{"$f":"BB196","v":0},{"$f":"BC196","v":0},{"$f":"BD196","v":0},{"$f":"BE196","v":0},{"$f":"BF196","v":0},{"$f":"BG196","v":0},{"$f":"BH196","v":0},{"$f":"BI196","v":0},{"$f":"BJ196","v":0},{"$f":"BK196","v":0},{"$f":"BL196","v":0},{"$f":"BM196","v":0},{"$f":"BN196","v":0},{"$f":"BO196","v":0},{"$f":"BP196","v":0},{"$f":"BQ196","v":0},{"$f":"BR196","v":0},{"$f":"BS196","v":0},{"$f":"BT196","v":0},{"$f":"BU196","v":0},{"$f":"BV196","v":0},{"$f":"BW196","v":0},{"$f":"BX196","v":0},{"$f":"BY196","v":0},{"$f":"BZ196","v":0},{"$f":"CA196","v":0},{"$f":"CB196","v":0},{"$f":"CC196","v":0},{"$f":"CD196","v":0},{"$f":"CE196","v":0},{"$f":"CF196","v":0},{"$f":"CG196","v":0}]
[null,null,null,82,null,null,null,null,null,null,null,null,null,null,null,null,null,null,null,null,null,null,null,null,null,null,null,null,null,null,null,null,null,null,null,null,null,null,null,null,null,null,null,null,null,null,null,null,null,null,null,null,null,null,null,null,null,null,null,null,null,null,null,null,null,null,null,null,null,null,null,null,null,null,null,null,null,null,null,null,null,null,null,null,null,{"$f":"E196","v":1.9},{"$f":"F196","v":2.9},{"$f":"G196","v":3.9},{"$f":"H196","v":4.55},{"$f":"I196","v":5.2},{"$f":"J196","v":6.2},{"$f":"K196","v":7.2},{"$f":"L196","v":6.8000000000000007},{"$f":"M196","v":6.4},{"$f":"N196","v":6.65},{"$f":"O196","v":6.9},{"$f":"P196","v":7.45},{"$f":"Q196","v":8},{"$f":"R196","v":7.55},{"$f":"S196","v":7.1},{"$f":"T196","v":7.55},{"$f":"U196","v":8},{"$f":"V196","v":8.5500000000000007},{"$f":"W196","v":9.1},{"$f":"X196","v":10.433333333333332},{"$f":"Y196","v":11.766666666666666},{"$f":"Z196","v":13.1},{"$f":"AA196","v":11.766666666666666},{"$f":"AB196","v":10.433333333333334},{"$f":"AC196","v":9.1},{"$f":"AD196","v":8.5500000000000007},{"$f":"AE196","v":8},{"$f":"AF196","v":7.55},{"$f":"AG196","v":7.1},{"$f":"AH196","v":7.55},{"$f":"AI196","v":8},{"$f":"AJ196","v":7.45},{"$f":"AK196","v":6.9},{"$f":"AL196","v":6.65},{"$f":"AM196","v":6.4},{"$f":"AN196","v":6.8000000000000007},{"$f":"AO196","v":7.2},{"$f":"AP196","v":6.2},{"$f":"AQ196","v":5.2},{"$f":"AR196","v":4.55},{"$f":"AS196","v":3.9},{"$f":"AT196","v":2.9},{"$f":"AU196","v":1.9},{"$f":"AV196","v":0},{"$f":"AW196","v":0},{"$f":"AX196","v":0},{"$f":"AY196","v":0},{"$f":"AZ196","v":0},{"$f":"BA196","v":0},{"$f":"BB196","v":0},{"$f":"BC196","v":0},{"$f":"BD196","v":0},{"$f":"BE196","v":0},{"$f":"BF196","v":0},{"$f":"BG196","v":0},{"$f":"BH196","v":0},{"$f":"BI196","v":0},{"$f":"BJ196","v":0},{"$f":"BK196","v":0},{"$f":"BL196","v":0},{"$f":"BM196","v":0},{"$f":"BN196","v":0},{"$f":"BO196","v":0},{"$f":"BP196","v":0},{"$f":"BQ196","v":0},{"$f":"BR196","v":0},{"$f":"BS196","v":0},{"$f":"BT196","v":0},{"$f":"BU196","v":0},{"$f":"BV196","v":0},{"$f":"BW196","v":0},{"$f":"BX196","v":0},{"$f":"BY196","v":0},{"$f":"BZ196","v":0},{"$f":"CA196","v":0},{"$f":"CB196","v":0},{"$f":"CC196","v":0},{"$f":"CD196","v":0},{"$f":"CE196","v":0},{"$f":"CF196","v":0},{"$f":"CG196","v":0}]
[null,null,null,83,null,null,null,null,null,null,null,null,null,null,null,null,null,null,null,null,null,null,null,null,null,null,null,null,null,null,null,null,null,null,null,null,null,null,null,null,null,null,null,null,null,null,null,null,null,null,null,null,null,null,null,null,null,null,null,null,null,null,null,null,null,null,null,null,null,null,null,null,null,null,null,null,null,null,null,null,null,null,null,null,null,null,{"$f":"E196","v":1.9},{"$f":"F196","v":2.9},{"$f":"G196","v":3.9},{"$f":"H196","v":4.55},{"$f":"I196","v":5.2},{"$f":"J196","v":6.2},{"$f":"K196","v":7.2},{"$f":"L196","v":6.8000000000000007},{"$f":"M196","v":6.4},{"$f":"N196","v":6.65},{"$f":"O196","v":6.9},{"$f":"P196","v":7.45},{"$f":"Q196","v":8},{"$f":"R196","v":7.55},{"$f":"S196","v":7.1},{"$f":"T196","v":7.55},{"$f":"U196","v":8},{"$f":"V196","v":8.5500000000000007},{"$f":"W196","v":9.1},{"$f":"X196","v":10.433333333333332},{"$f":"Y196","v":11.766666666666666},{"$f":"Z196","v":13.1},{"$f":"AA196","v":11.766666666666666},{"$f":"AB196","v":10.433333333333334},{"$f":"AC196","v":9.1},{"$f":"AD196","v":8.5500000000000007},{"$f":"AE196","v":8},{"$f":"AF196","v":7.55},{"$f":"AG196","v":7.1},{"$f":"AH196","v":7.55},{"$f":"AI196","v":8},{"$f":"AJ196","v":7.45},{"$f":"AK196","v":6.9},{"$f":"AL196","v":6.65},{"$f":"AM196","v":6.4},{"$f":"AN196","v":6.8000000000000007},{"$f":"AO196","v":7.2},{"$f":"AP196","v":6.2},{"$f":"AQ196","v":5.2},{"$f":"AR196","v":4.55},{"$f":"AS196","v":3.9},{"$f":"AT196","v":2.9},{"$f":"AU196","v":1.9},{"$f":"AV196","v":0},{"$f":"AW196","v":0},{"$f":"AX196","v":0},{"$f":"AY196","v":0},{"$f":"AZ196","v":0},{"$f":"BA196","v":0},{"$f":"BB196","v":0},{"$f":"BC196","v":0},{"$f":"BD196","v":0},{"$f":"BE196","v":0},{"$f":"BF196","v":0},{"$f":"BG196","v":0},{"$f":"BH196","v":0},{"$f":"BI196","v":0},{"$f":"BJ196","v":0},{"$f":"BK196","v":0},{"$f":"BL196","v":0},{"$f":"BM196","v":0},{"$f":"BN196","v":0},{"$f":"BO196","v":0},{"$f":"BP196","v":0},{"$f":"BQ196","v":0},{"$f":"BR196","v":0},{"$f":"BS196","v":0},{"$f":"BT196","v":0},{"$f":"BU196","v":0},{"$f":"BV196","v":0},{"$f":"BW196","v":0},{"$f":"BX196","v":0},{"$f":"BY196","v":0},{"$f":"BZ196","v":0},{"$f":"CA196","v":0},{"$f":"CB196","v":0},{"$f":"CC196","v":0},{"$f":"CD196","v":0},{"$f":"CE196","v":0},{"$f":"CF196","v":0},{"$f":"CG196","v":0}]
[null,null,null,84,null,null,null,null,null,null,null,null,null,null,null,null,null,null,null,null,null,null,null,null,null,null,null,null,null,null,null,null,null,null,null,null,null,null,null,null,null,null,null,null,null,null,null,null,null,null,null,null,null,null,null,null,null,null,null,null,null,null,null,null,null,null,null,null,null,null,null,null,null,null,null,null,null,null,null,null,null,null,null,null,null,null,null,{"$f":"E196","v":1.9},{"$f":"F196","v":2.9},{"$f":"G196","v":3.9},{"$f":"H196","v":4.55},{"$f":"I196","v":5.2},{"$f":"J196","v":6.2},{"$f":"K196","v":7.2},{"$f":"L196","v":6.8000000000000007},{"$f":"M196","v":6.4},{"$f":"N196","v":6.65},{"$f":"O196","v":6.9},{"$f":"P196","v":7.45},{"$f":"Q196","v":8},{"$f":"R196","v":7.55},{"$f":"S196","v":7.1},{"$f":"T196","v":7.55},{"$f":"U196","v":8},{"$f":"V196","v":8.5500000000000007},{"$f":"W196","v":9.1},{"$f":"X196","v":10.433333333333332},{"$f":"Y196","v":11.766666666666666},{"$f":"Z196","v":13.1},{"$f":"AA196","v":11.766666666666666},{"$f":"AB196","v":10.433333333333334},{"$f":"AC196","v":9.1},{"$f":"AD196","v":8.5500000000000007},{"$f":"AE196","v":8},{"$f":"AF196","v":7.55},{"$f":"AG196","v":7.1},{"$f":"AH196","v":7.55},{"$f":"AI196","v":8},{"$f":"AJ196","v":7.45},{"$f":"AK196","v":6.9},{"$f":"AL196","v":6.65},{"$f":"AM196","v":6.4},{"$f":"AN196","v":6.8000000000000007},{"$f":"AO196","v":7.2},{"$f":"AP196","v":6.2},{"$f":"AQ196","v":5.2},{"$f":"AR196","v":4.55},{"$f":"AS196","v":3.9},{"$f":"AT196","v":2.9},{"$f":"AU196","v":1.9},{"$f":"AV196","v":0},{"$f":"AW196","v":0},{"$f":"AX196","v":0},{"$f":"AY196","v":0},{"$f":"AZ196","v":0},{"$f":"BA196","v":0},{"$f":"BB196","v":0},{"$f":"BC196","v":0},{"$f":"BD196","v":0},{"$f":"BE196","v":0},{"$f":"BF196","v":0},{"$f":"BG196","v":0},{"$f":"BH196","v":0},{"$f":"BI196","v":0},{"$f":"BJ196","v":0},{"$f":"BK196","v":0},{"$f":"BL196","v":0},{"$f":"BM196","v":0},{"$f":"BN196","v":0},{"$f":"BO196","v":0},{"$f":"BP196","v":0},{"$f":"BQ196","v":0},{"$f":"BR196","v":0},{"$f":"BS196","v":0},{"$f":"BT196","v":0},{"$f":"BU196","v":0},{"$f":"BV196","v":0},{"$f":"BW196","v":0},{"$f":"BX196","v":0},{"$f":"BY196","v":0},{"$f":"BZ196","v":0},{"$f":"CA196","v":0},{"$f":"CB196","v":0},{"$f":"CC196","v":0},{"$f":"CD196","v":0},{"$f":"CE196","v":0},{"$f":"CF196","v":0},{"$f":"CG196","v":0}]
[null,null,null,85,null,null,null,null,null,null,null,null,null,null,null,null,null,null,null,null,null,null,null,null,null,null,null,null,null,null,null,null,null,null,null,null,null,null,null,null,null,null,null,null,null,null,null,null,null,null,null,null,null,null,null,null,null,null,null,null,null,null,null,null,null,null,null,null,null,null,null,null,null,null,null,null,null,null,null,null,null,null,null,null,null,null,null,null,{"$f":"E196","v":1.9},{"$f":"F196","v":2.9},{"$f":"G196","v":3.9},{"$f":"H196","v":4.55},{"$f":"I196","v":5.2},{"$f":"J196","v":6.2},{"$f":"K196","v":7.2},{"$f":"L196","v":6.8000000000000007},{"$f":"M196","v":6.4},{"$f":"N196","v":6.65},{"$f":"O196","v":6.9},{"$f":"P196","v":7.45},{"$f":"Q196","v":8},{"$f":"R196","v":7.55},{"$f":"S196","v":7.1},{"$f":"T196","v":7.55},{"$f":"U196","v":8},{"$f":"V196","v":8.5500000000000007},{"$f":"W196","v":9.1},{"$f":"X196","v":10.433333333333332},{"$f":"Y196","v":11.766666666666666},{"$f":"Z196","v":13.1},{"$f":"AA196","v":11.766666666666666},{"$f":"AB196","v":10.433333333333334},{"$f":"AC196","v":9.1},{"$f":"AD196","v":8.5500000000000007},{"$f":"AE196","v":8},{"$f":"AF196","v":7.55},{"$f":"AG196","v":7.1},{"$f":"AH196","v":7.55},{"$f":"AI196","v":8},{"$f":"AJ196","v":7.45},{"$f":"AK196","v":6.9},{"$f":"AL196","v":6.65},{"$f":"AM196","v":6.4},{"$f":"AN196","v":6.8000000000000007},{"$f":"AO196","v":7.2},{"$f":"AP196","v":6.2},{"$f":"AQ196","v":5.2},{"$f":"AR196","v":4.55},{"$f":"AS196","v":3.9},{"$f":"AT196","v":2.9},{"$f":"AU196","v":1.9},{"$f":"AV196","v":0},{"$f":"AW196","v":0},{"$f":"AX196","v":0},{"$f":"AY196","v":0},{"$f":"AZ196","v":0},{"$f":"BA196","v":0},{"$f":"BB196","v":0},{"$f":"BC196","v":0},{"$f":"BD196","v":0},{"$f":"BE196","v":0},{"$f":"BF196","v":0},{"$f":"BG196","v":0},{"$f":"BH196","v":0},{"$f":"BI196","v":0},{"$f":"BJ196","v":0},{"$f":"BK196","v":0},{"$f":"BL196","v":0},{"$f":"BM196","v":0},{"$f":"BN196","v":0},{"$f":"BO196","v":0},{"$f":"BP196","v":0},{"$f":"BQ196","v":0},{"$f":"BR196","v":0},{"$f":"BS196","v":0},{"$f":"BT196","v":0},{"$f":"BU196","v":0},{"$f":"BV196","v":0},{"$f":"BW196","v":0},{"$f":"BX196","v":0},{"$f":"BY196","v":0},{"$f":"BZ196","v":0},{"$f":"CA196","v":0},{"$f":"CB196","v":0},{"$f":"CC196","v":0},{"$f":"CD196","v":0},{"$f":"CE196","v":0},{"$f":"CF196","v":0},{"$f":"CG196","v":0}]
[null,null,null,86,null,null,null,null,null,null,null,null,null,null,null,null,null,null,null,null,null,null,null,null,null,null,null,null,null,null,null,null,null,null,null,null,null,null,null,null,null,null,null,null,null,null,null,null,null,null,null,null,null,null,null,null,null,null,null,null,null,null,null,null,null,null,null,null,null,null,null,null,null,null,null,null,null,null,null,null,null,null,null,null,null,null,null,null,null,{"$f":"E196","v":1.9},{"$f":"F196","v":2.9},{"$f":"G196","v":3.9},{"$f":"H196","v":4.55},{"$f":"I196","v":5.2},{"$f":"J196","v":6.2},{"$f":"K196","v":7.2},{"$f":"L196","v":6.8000000000000007},{"$f":"M196","v":6.4},{"$f":"N196","v":6.65},{"$f":"O196","v":6.9},{"$f":"P196","v":7.45},{"$f":"Q196","v":8},{"$f":"R196","v":7.55},{"$f":"S196","v":7.1},{"$f":"T196","v":7.55},{"$f":"U196","v":8},{"$f":"V196","v":8.5500000000000007},{"$f":"W196","v":9.1},{"$f":"X196","v":10.433333333333332},{"$f":"Y196","v":11.766666666666666},{"$f":"Z196","v":13.1},{"$f":"AA196","v":11.766666666666666},{"$f":"AB196","v":10.433333333333334},{"$f":"AC196","v":9.1},{"$f":"AD196","v":8.5500000000000007},{"$f":"AE196","v":8},{"$f":"AF196","v":7.55},{"$f":"AG196","v":7.1},{"$f":"AH196","v":7.55},{"$f":"AI196","v":8},{"$f":"AJ196","v":7.45},{"$f":"AK196","v":6.9},{"$f":"AL196","v":6.65},{"$f":"AM196","v":6.4},{"$f":"AN196","v":6.8000000000000007},{"$f":"AO196","v":7.2},{"$f":"AP196","v":6.2},{"$f":"AQ196","v":5.2},{"$f":"AR196","v":4.55},{"$f":"AS196","v":3.9},{"$f":"AT196","v":2.9},{"$f":"AU196","v":1.9},{"$f":"AV196","v":0},{"$f":"AW196","v":0},{"$f":"AX196","v":0},{"$f":"AY196","v":0},{"$f":"AZ196","v":0},{"$f":"BA196","v":0},{"$f":"BB196","v":0},{"$f":"BC196","v":0},{"$f":"BD196","v":0},{"$f":"BE196","v":0},{"$f":"BF196","v":0},{"$f":"BG196","v":0},{"$f":"BH196","v":0},{"$f":"BI196","v":0},{"$f":"BJ196","v":0},{"$f":"BK196","v":0},{"$f":"BL196","v":0},{"$f":"BM196","v":0},{"$f":"BN196","v":0},{"$f":"BO196","v":0},{"$f":"BP196","v":0},{"$f":"BQ196","v":0},{"$f":"BR196","v":0},{"$f":"BS196","v":0},{"$f":"BT196","v":0},{"$f":"BU196","v":0},{"$f":"BV196","v":0},{"$f":"BW196","v":0},{"$f":"BX196","v":0},{"$f":"BY196","v":0},{"$f":"BZ196","v":0},{"$f":"CA196","v":0},{"$f":"CB196","v":0},{"$f":"CC196","v":0},{"$f":"CD196","v":0},{"$f":"CE196","v":0},{"$f":"CF196","v":0},{"$f":"CG196","v":0}]
[null,null,null,87,null,null,null,null,null,null,null,null,null,null,null,null,null,null,null,null,null,null,null,null,null,null,null,null,null,null,null,null,null,null,null,null,null,null,null,null,null,null,null,null,null,null,null,null,null,null,null,null,null,null,null,null,null,null,null,null,null,null,null,null,null,null,null,null,null,null,null,null,null,null,null,null,null,null,null,null,null,null,null,null,null,null,null,null,null,null,{"$f":"E196","v":1.9},{"$f":"F196","v":2.9},{"$f":"G196","v":3.9},{"$f":"H196","v":4.55},{"$f":"I196","v":5.2},{"$f":"J196","v":6.2},{"$f":"K196","v":7.2},{"$f":"L196","v":6.8000000000000007},{"$f":"M196","v":6.4},{"$f":"N196","v":6.65},{"$f":"O196","v":6.9},{"$f":"P196","v":7.45},{"$f":"Q196","v":8},{"$f":"R196","v":7.55},{"$f":"S196","v":7.1},{"$f":"T196","v":7.55},{"$f":"U196","v":8},{"$f":"V196","v":8.5500000000000007},{"$f":"W196","v":9.1},{"$f":"X196","v":10.433333333333332},{"$f":"Y196","v":11.766666666666666},{"$f":"Z196","v":13.1},{"$f":"AA196","v":11.766666666666666},{"$f":"AB196","v":10.433333333333334},{"$f":"AC196","v":9.1},{"$f":"AD196","v":8.5500000000000007},{"$f":"AE196","v":8},{"$f":"AF196","v":7.55},{"$f":"AG196","v":7.1},{"$f":"AH196","v":7.55},{"$f":"AI196","v":8},{"$f":"AJ196","v":7.45},{"$f":"AK196","v":6.9},{"$f":"AL196","v":6.65},{"$f":"AM196","v":6.4},{"$f":"AN196","v":6.8000000000000007},{"$f":"AO196","v":7.2},{"$f":"AP196","v":6.2},{"$f":"AQ196","v":5.2},{"$f":"AR196","v":4.55},{"$f":"AS196","v":3.9},{"$f":"AT196","v":2.9},{"$f":"AU196","v":1.9},{"$f":"AV196","v":0},{"$f":"AW196","v":0},{"$f":"AX196","v":0},{"$f":"AY196","v":0},{"$f":"AZ196","v":0},{"$f":"BA196","v":0},{"$f":"BB196","v":0},{"$f":"BC196","v":0},{"$f":"BD196","v":0},{"$f":"BE196","v":0},{"$f":"BF196","v":0},{"$f":"BG196","v":0},{"$f":"BH196","v":0},{"$f":"BI196","v":0},{"$f":"BJ196","v":0},{"$f":"BK196","v":0},{"$f":"BL196","v":0},{"$f":"BM196","v":0},{"$f":"BN196","v":0},{"$f":"BO196","v":0},{"$f":"BP196","v":0},{"$f":"BQ196","v":0},{"$f":"BR196","v":0},{"$f":"BS196","v":0},{"$f":"BT196","v":0},{"$f":"BU196","v":0},{"$f":"BV196","v":0},{"$f":"BW196","v":0},{"$f":"BX196","v":0},{"$f":"BY196","v":0},{"$f":"BZ196","v":0},{"$f":"CA196","v":0},{"$f":"CB196","v":0},{"$f":"CC196","v":0},{"$f":"CD196","v":0},{"$f":"CE196","v":0},{"$f":"CF196","v":0},{"$f":"CG196","v":0}]
[null,null,null,88,null,null,null,null,null,null,null,null,null,null,null,null,null,null,null,null,null,null,null,null,null,null,null,null,null,null,null,null,null,null,null,null,null,null,null,null,null,null,null,null,null,null,null,null,null,null,null,null,null,null,null,null,null,null,null,null,null,null,null,null,null,null,null,null,null,null,null,null,null,null,null,null,null,null,null,null,null,null,null,null,null,null,null,null,null,null,null,{"$f":"E196","v":1.9},{"$f":"F196","v":2.9},{"$f":"G196","v":3.9},{"$f":"H196","v":4.55},{"$f":"I196","v":5.2},{"$f":"J196","v":6.2},{"$f":"K196","v":7.2},{"$f":"L196","v":6.8000000000000007},{"$f":"M196","v":6.4},{"$f":"N196","v":6.65},{"$f":"O196","v":6.9},{"$f":"P196","v":7.45},{"$f":"Q196","v":8},{"$f":"R196","v":7.55},{"$f":"S196","v":7.1},{"$f":"T196","v":7.55},{"$f":"U196","v":8},{"$f":"V196","v":8.5500000000000007},{"$f":"W196","v":9.1},{"$f":"X196","v":10.433333333333332},{"$f":"Y196","v":11.766666666666666},{"$f":"Z196","v":13.1},{"$f":"AA196","v":11.766666666666666},{"$f":"AB196","v":10.433333333333334},{"$f":"AC196","v":9.1},{"$f":"AD196","v":8.5500000000000007},{"$f":"AE196","v":8},{"$f":"AF196","v":7.55},{"$f":"AG196","v":7.1},{"$f":"AH196","v":7.55},{"$f":"AI196","v":8},{"$f":"AJ196","v":7.45},{"$f":"AK196","v":6.9},{"$f":"AL196","v":6.65},{"$f":"AM196","v":6.4},{"$f":"AN196","v":6.8000000000000007},{"$f":"AO196","v":7.2},{"$f":"AP196","v":6.2},{"$f":"AQ196","v":5.2},{"$f":"AR196","v":4.55},{"$f":"AS196","v":3.9},{"$f":"AT196","v":2.9},{"$f":"AU196","v":1.9},{"$f":"AV196","v":0},{"$f":"AW196","v":0},{"$f":"AX196","v":0},{"$f":"AY196","v":0},{"$f":"AZ196","v":0},{"$f":"BA196","v":0},{"$f":"BB196","v":0},{"$f":"BC196","v":0},{"$f":"BD196","v":0},{"$f":"BE196","v":0},{"$f":"BF196","v":0},{"$f":"BG196","v":0},{"$f":"BH196","v":0},{"$f":"BI196","v":0},{"$f":"BJ196","v":0},{"$f":"BK196","v":0},{"$f":"BL196","v":0},{"$f":"BM196","v":0},{"$f":"BN196","v":0},{"$f":"BO196","v":0},{"$f":"BP196","v":0},{"$f":"BQ196","v":0},{"$f":"BR196","v":0},{"$f":"BS196","v":0},{"$f":"BT196","v":0},{"$f":"BU196","v":0},{"$f":"BV196","v":0},{"$f":"BW196","v":0},{"$f":"BX196","v":0},{"$f":"BY196","v":0},{"$f":"BZ196","v":0},{"$f":"CA196","v":0},{"$f":"CB196","v":0},{"$f":"CC196","v":0},{"$f":"CD196","v":0},{"$f":"CE196","v":0},{"$f":"CF196","v":0},{"$f":"CG196","v":0}]
[null,null,null,89,null,null,null,null,null,null,null,null,null,null,null,null,null,null,null,null,null,null,null,null,null,null,null,null,null,null,null,null,null,null,null,null,null,null,null,null,null,null,null,null,null,null,null,null,null,null,null,null,null,null,null,null,null,null,null,null,null,null,null,null,null,null,null,null,null,null,null,null,null,null,null,null,null,null,null,null,null,null,null,null,null,null,null,null,null,null,null,null,{"$f":"E196","v":1.9},{"$f":"F196","v":2.9},{"$f":"G196","v":3.9},{"$f":"H196","v":4.55},{"$f":"I196","v":5.2},{"$f":"J196","v":6.2},{"$f":"K196","v":7.2},{"$f":"L196","v":6.8000000000000007},{"$f":"M196","v":6.4},{"$f":"N196","v":6.65},{"$f":"O196","v":6.9},{"$f":"P196","v":7.45},{"$f":"Q196","v":8},{"$f":"R196","v":7.55},{"$f":"S196","v":7.1},{"$f":"T196","v":7.55},{"$f":"U196","v":8},{"$f":"V196","v":8.5500000000000007},{"$f":"W196","v":9.1},{"$f":"X196","v":10.433333333333332},{"$f":"Y196","v":11.766666666666666},{"$f":"Z196","v":13.1},{"$f":"AA196","v":11.766666666666666},{"$f":"AB196","v":10.433333333333334},{"$f":"AC196","v":9.1},{"$f":"AD196","v":8.5500000000000007},{"$f":"AE196","v":8},{"$f":"AF196","v":7.55},{"$f":"AG196","v":7.1},{"$f":"AH196","v":7.55},{"$f":"AI196","v":8},{"$f":"AJ196","v":7.45},{"$f":"AK196","v":6.9},{"$f":"AL196","v":6.65},{"$f":"AM196","v":6.4},{"$f":"AN196","v":6.8000000000000007},{"$f":"AO196","v":7.2},{"$f":"AP196","v":6.2},{"$f":"AQ196","v":5.2},{"$f":"AR196","v":4.55},{"$f":"AS196","v":3.9},{"$f":"AT196","v":2.9},{"$f":"AU196","v":1.9},{"$f":"AV196","v":0},{"$f":"AW196","v":0},{"$f":"AX196","v":0},{"$f":"AY196","v":0},{"$f":"AZ196","v":0},{"$f":"BA196","v":0},{"$f":"BB196","v":0},{"$f":"BC196","v":0},{"$f":"BD196","v":0},{"$f":"BE196","v":0},{"$f":"BF196","v":0},{"$f":"BG196","v":0},{"$f":"BH196","v":0},{"$f":"BI196","v":0},{"$f":"BJ196","v":0},{"$f":"BK196","v":0},{"$f":"BL196","v":0},{"$f":"BM196","v":0},{"$f":"BN196","v":0},{"$f":"BO196","v":0},{"$f":"BP196","v":0},{"$f":"BQ196","v":0},{"$f":"BR196","v":0},{"$f":"BS196","v":0},{"$f":"BT196","v":0},{"$f":"BU196","v":0},{"$f":"BV196","v":0},{"$f":"BW196","v":0},{"$f":"BX196","v":0},{"$f":"BY196","v":0},{"$f":"BZ196","v":0},{"$f":"CA196","v":0},{"$f":"CB196","v":0},{"$f":"CC196","v":0},{"$f":"CD196","v":0},{"$f":"CE196","v":0},{"$f":"CF196","v":0},{"$f":"CG196","v":0}]
[null,null,null,90,null,null,null,null,null,null,null,null,null,null,null,null,null,null,null,null,null,null,null,null,null,null,null,null,null,null,null,null,null,null,null,null,null,null,null,null,null,null,null,null,null,null,null,null,null,null,null,null,null,null,null,null,null,null,null,null,null,null,null,null,null,null,null,null,null,null,null,null,null,null,null,null,null,null,null,null,null,null,null,null,null,null,null,null,null,null,null,null,null,{"$f":"E196","v":1.9},{"$f":"F196","v":2.9},{"$f":"G196","v":3.9},{"$f":"H196","v":4.55},{"$f":"I196","v":5.2},{"$f":"J196","v":6.2},{"$f":"K196","v":7.2},{"$f":"L196","v":6.8000000000000007},{"$f":"M196","v":6.4},{"$f":"N196","v":6.65},{"$f":"O196","v":6.9},{"$f":"P196","v":7.45},{"$f":"Q196","v":8},{"$f":"R196","v":7.55},{"$f":"S196","v":7.1},{"$f":"T196","v":7.55},{"$f":"U196","v":8},{"$f":"V196","v":8.5500000000000007},{"$f":"W196","v":9.1},{"$f":"X196","v":10.433333333333332},{"$f":"Y196","v":11.766666666666666},{"$f":"Z196","v":13.1},{"$f":"AA196","v":11.766666666666666},{"$f":"AB196","v":10.433333333333334},{"$f":"AC196","v":9.1},{"$f":"AD196","v":8.5500000000000007},{"$f":"AE196","v":8},{"$f":"AF196","v":7.55},{"$f":"AG196","v":7.1},{"$f":"AH196","v":7.55},{"$f":"AI196","v":8},{"$f":"AJ196","v":7.45},{"$f":"AK196","v":6.9},{"$f":"AL196","v":6.65},{"$f":"AM196","v":6.4},{"$f":"AN196","v":6.8000000000000007},{"$f":"AO196","v":7.2},{"$f":"AP196","v":6.2},{"$f":"AQ196","v":5.2},{"$f":"AR196","v":4.55},{"$f":"AS196","v":3.9},{"$f":"AT196","v":2.9},{"$f":"AU196","v":1.9},{"$f":"AV196","v":0},{"$f":"AW196","v":0},{"$f":"AX196","v":0},{"$f":"AY196","v":0},{"$f":"AZ196","v":0},{"$f":"BA196","v":0},{"$f":"BB196","v":0},{"$f":"BC196","v":0},{"$f":"BD196","v":0},{"$f":"BE196","v":0},{"$f":"BF196","v":0},{"$f":"BG196","v":0},{"$f":"BH196","v":0},{"$f":"BI196","v":0},{"$f":"BJ196","v":0},{"$f":"BK196","v":0},{"$f":"BL196","v":0},{"$f":"BM196","v":0},{"$f":"BN196","v":0},{"$f":"BO196","v":0},{"$f":"BP196","v":0},{"$f":"BQ196","v":0},{"$f":"BR196","v":0},{"$f":"BS196","v":0},{"$f":"BT196","v":0},{"$f":"BU196","v":0},{"$f":"BV196","v":0},{"$f":"BW196","v":0},{"$f":"BX196","v":0},{"$f":"BY196","v":0},{"$f":"BZ196","v":0},{"$f":"CA196","v":0},{"$f":"CB196","v":0},{"$f":"CC196","v":0},{"$f":"CD196","v":0},{"$f":"CE196","v":0},{"$f":"CF196","v":0},{"$f":"CG196","v":0}]
[null,null,null,91,null,null,null,null,null,null,null,null,null,null,null,null,null,null,null,null,null,null,null,null,null,null,null,null,null,null,null,null,null,null,null,null,null,null,null,null,null,null,null,null,null,null,null,null,null,null,null,null,null,null,null,null,null,null,null,null,null,null,null,null,null,null,null,null,null,null,null,null,null,null,null,null,null,null,null,null,null,null,null,null,null,null,null,null,null,null,null,null,null,null,{"$f":"E196","v":1.9},{"$f":"F196","v":2.9},{"$f":"G196","v":3.9},{"$f":"H196","v":4.55},{"$f":"I196","v":5.2},{"$f":"J196","v":6.2},{"$f":"K196","v":7.2},{"$f":"L196","v":6.8000000000000007},{"$f":"M196","v":6.4},{"$f":"N196","v":6.65},{"$f":"O196","v":6.9},{"$f":"P196","v":7.45},{"$f":"Q196","v":8},{"$f":"R196","v":7.55},{"$f":"S196","v":7.1},{"$f":"T196","v":7.55},{"$f":"U196","v":8},{"$f":"V196","v":8.5500000000000007},{"$f":"W196","v":9.1},{"$f":"X196","v":10.433333333333332},{"$f":"Y196","v":11.766666666666666},{"$f":"Z196","v":13.1},{"$f":"AA196","v":11.766666666666666},{"$f":"AB196","v":10.433333333333334},{"$f":"AC196","v":9.1},{"$f":"AD196","v":8.5500000000000007},{"$f":"AE196","v":8},{"$f":"AF196","v":7.55},{"$f":"AG196","v":7.1},{"$f":"AH196","v":7.55},{"$f":"AI196","v":8},{"$f":"AJ196","v":7.45},{"$f":"AK196","v":6.9},{"$f":"AL196","v":6.65},{"$f":"AM196","v":6.4},{"$f":"AN196","v":6.8000000000000007},{"$f":"AO196","v":7.2},{"$f":"AP196","v":6.2},{"$f":"AQ196","v":5.2},{"$f":"AR196","v":4.55},{"$f":"AS196","v":3.9},{"$f":"AT196","v":2.9},{"$f":"AU196","v":1.9},{"$f":"AV196","v":0},{"$f":"AW196","v":0},{"$f":"AX196","v":0},{"$f":"AY196","v":0},{"$f":"AZ196","v":0},{"$f":"BA196","v":0},{"$f":"BB196","v":0},{"$f":"BC196","v":0},{"$f":"BD196","v":0},{"$f":"BE196","v":0},{"$f":"BF196","v":0},{"$f":"BG196","v":0},{"$f":"BH196","v":0},{"$f":"BI196","v":0},{"$f":"BJ196","v":0},{"$f":"BK196","v":0},{"$f":"BL196","v":0},{"$f":"BM196","v":0},{"$f":"BN196","v":0},{"$f":"BO196","v":0},{"$f":"BP196","v":0},{"$f":"BQ196","v":0},{"$f":"BR196","v":0},{"$f":"BS196","v":0},{"$f":"BT196","v":0},{"$f":"BU196","v":0},{"$f":"BV196","v":0},{"$f":"BW196","v":0},{"$f":"BX196","v":0},{"$f":"BY196","v":0},{"$f":"BZ196","v":0},{"$f":"CA196","v":0},{"$f":"CB196","v":0},{"$f":"CC196","v":0},{"$f":"CD196","v":0},{"$f":"CE196","v":0},{"$f":"CF196","v":0},{"$f":"CG196","v":0}]
[null,null,null,92,null,null,null,null,null,null,null,null,null,null,null,null,null,null,null,null,null,null,null,null,null,null,null,null,null,null,null,null,null,null,null,null,null,null,null,null,null,null,null,null,null,null,null,null,null,null,null,null,null,null,null,null,null,null,null,null,null,null,null,null,null,null,null,null,null,null,null,null,null,null,null,null,null,null,null,null,null,null,null,null,null,null,null,null,null,null,null,null,null,null,null,{"$f":"E196","v":1.9},{"$f":"F196","v":2.9},{"$f":"G196","v":3.9},{"$f":"H196","v":4.55},{"$f":"I196","v":5.2},{"$f":"J196","v":6.2},{"$f":"K196","v":7.2},{"$f":"L196","v":6.8000000000000007},{"$f":"M196","v":6.4},{"$f":"N196","v":6.65},{"$f":"O196","v":6.9},{"$f":"P196","v":7.45},{"$f":"Q196","v":8},{"$f":"R196","v":7.55},{"$f":"S196","v":7.1},{"$f":"T196","v":7.55},{"$f":"U196","v":8},{"$f":"V196","v":8.5500000000000007},{"$f":"W196","v":9.1},{"$f":"X196","v":10.433333333333332},{"$f":"Y196","v":11.766666666666666},{"$f":"Z196","v":13.1},{"$f":"AA196","v":11.766666666666666},{"$f":"AB196","v":10.433333333333334},{"$f":"AC196","v":9.1},{"$f":"AD196","v":8.5500000000000007},{"$f":"AE196","v":8},{"$f":"AF196","v":7.55},{"$f":"AG196","v":7.1},{"$f":"AH196","v":7.55},{"$f":"AI196","v":8},{"$f":"AJ196","v":7.45},{"$f":"AK196","v":6.9},{"$f":"AL196","v":6.65},{"$f":"AM196","v":6.4},{"$f":"AN196","v":6.8000000000000007},{"$f":"AO196","v":7.2},{"$f":"AP196","v":6.2},{"$f":"AQ196","v":5.2},{"$f":"AR196","v":4.55},{"$f":"AS196","v":3.9},{"$f":"AT196","v":2.9},{"$f":"AU196","v":1.9},{"$f":"AV196","v":0},{"$f":"AW196","v":0},{"$f":"AX196","v":0},{"$f":"AY196","v":0},{"$f":"AZ196","v":0},{"$f":"BA196","v":0},{"$f":"BB196","v":0},{"$f":"BC196","v":0},{"$f":"BD196","v":0},{"$f":"BE196","v":0},{"$f":"BF196","v":0},{"$f":"BG196","v":0},{"$f":"BH196","v":0},{"$f":"BI196","v":0},{"$f":"BJ196","v":0},{"$f":"BK196","v":0},{"$f":"BL196","v":0},{"$f":"BM196","v":0},{"$f":"BN196","v":0},{"$f":"BO196","v":0},{"$f":"BP196","v":0},{"$f":"BQ196","v":0},{"$f":"BR196","v":0},{"$f":"BS196","v":0},{"$f":"BT196","v":0},{"$f":"BU196","v":0},{"$f":"BV196","v":0},{"$f":"BW196","v":0},{"$f":"BX196","v":0},{"$f":"BY196","v":0},{"$f":"BZ196","v":0},{"$f":"CA196","v":0},{"$f":"CB196","v":0},{"$f":"CC196","v":0},{"$f":"CD196","v":0},{"$f":"CE196","v":0},{"$f":"CF196","v":0},{"$f":"CG196","v":0}]
[null,null,null,93,null,null,null,null,null,null,null,null,null,null,null,null,null,null,null,null,null,null,null,null,null,null,null,null,null,null,null,null,null,null,null,null,null,null,null,null,null,null,null,null,null,null,null,null,null,null,null,null,null,null,null,null,null,null,null,null,null,null,null,null,null,null,null,null,null,null,null,null,null,null,null,null,null,null,null,null,null,null,null,null,null,null,null,null,null,null,null,null,null,null,null,null,{"$f":"E196","v":1.9},{"$f":"F196","v":2.9},{"$f":"G196","v":3.9},{"$f":"H196","v":4.55},{"$f":"I196","v":5.2},{"$f":"J196","v":6.2},{"$f":"K196","v":7.2},{"$f":"L196","v":6.8000000000000007},{"$f":"M196","v":6.4},{"$f":"N196","v":6.65},{"$f":"O196","v":6.9},{"$f":"P196","v":7.45},{"$f":"Q196","v":8},{"$f":"R196","v":7.55},{"$f":"S196","v":7.1},{"$f":"T196","v":7.55},{"$f":"U196","v":8},{"$f":"V196","v":8.5500000000000007},{"$f":"W196","v":9.1},{"$f":"X196","v":10.433333333333332},{"$f":"Y196","v":11.766666666666666},{"$f":"Z196","v":13.1},{"$f":"AA196","v":11.766666666666666},{"$f":"AB196","v":10.433333333333334},{"$f":"AC196","v":9.1},{"$f":"AD196","v":8.5500000000000007},{"$f":"AE196","v":8},{"$f":"AF196","v":7.55},{"$f":"AG196","v":7.1},{"$f":"AH196","v":7.55},{"$f":"AI196","v":8},{"$f":"AJ196","v":7.45},{"$f":"AK196","v":6.9},{"$f":"AL196","v":6.65},{"$f":"AM196","v":6.4},{"$f":"AN196","v":6.8000000000000007},{"$f":"AO196","v":7.2},{"$f":"AP196","v":6.2},{"$f":"AQ196","v":5.2},{"$f":"AR196","v":4.55},{"$f":"AS196","v":3.9},{"$f":"AT196","v":2.9},{"$f":"AU196","v":1.9},{"$f":"AV196","v":0},{"$f":"AW196","v":0},{"$f":"AX196","v":0},{"$f":"AY196","v":0},{"$f":"AZ196","v":0},{"$f":"BA196","v":0},{"$f":"BB196","v":0},{"$f":"BC196","v":0},{"$f":"BD196","v":0},{"$f":"BE196","v":0},{"$f":"BF196","v":0},{"$f":"BG196","v":0},{"$f":"BH196","v":0},{"$f":"BI196","v":0},{"$f":"BJ196","v":0},{"$f":"BK196","v":0},{"$f":"BL196","v":0},{"$f":"BM196","v":0},{"$f":"BN196","v":0},{"$f":"BO196","v":0},{"$f":"BP196","v":0},{"$f":"BQ196","v":0},{"$f":"BR196","v":0},{"$f":"BS196","v":0},{"$f":"BT196","v":0},{"$f":"BU196","v":0},{"$f":"BV196","v":0},{"$f":"BW196","v":0},{"$f":"BX196","v":0},{"$f":"BY196","v":0},{"$f":"BZ196","v":0},{"$f":"CA196","v":0},{"$f":"CB196","v":0},{"$f":"CC196","v":0},{"$f":"CD196","v":0},{"$f":"CE196","v":0},{"$f":"CF196","v":0},{"$f":"CG196","v":0}]
[null,null,null,94,null,null,null,null,null,null,null,null,null,null,null,null,null,null,null,null,null,null,null,null,null,null,null,null,null,null,null,null,null,null,null,null,null,null,null,null,null,null,null,null,null,null,null,null,null,null,null,null,null,null,null,null,null,null,null,null,null,null,null,null,null,null,null,null,null,null,null,null,null,null,null,null,null,null,null,null,null,null,null,null,null,null,null,null,null,null,null,null,null,null,null,null,null,{"$f":"E196","v":1.9},{"$f":"F196","v":2.9},{"$f":"G196","v":3.9},{"$f":"H196","v":4.55},{"$f":"I196","v":5.2},{"$f":"J196","v":6.2},{"$f":"K196","v":7.2},{"$f":"L196","v":6.8000000000000007},{"$f":"M196","v":6.4},{"$f":"N196","v":6.65},{"$f":"O196","v":6.9},{"$f":"P196","v":7.45},{"$f":"Q196","v":8},{"$f":"R196","v":7.55},{"$f":"S196","v":7.1},{"$f":"T196","v":7.55},{"$f":"U196","v":8},{"$f":"V196","v":8.5500000000000007},{"$f":"W196","v":9.1},{"$f":"X196","v":10.433333333333332},{"$f":"Y196","v":11.766666666666666},{"$f":"Z196","v":13.1},{"$f":"AA196","v":11.766666666666666},{"$f":"AB196","v":10.433333333333334},{"$f":"AC196","v":9.1},{"$f":"AD196","v":8.5500000000000007},{"$f":"AE196","v":8},{"$f":"AF196","v":7.55},{"$f":"AG196","v":7.1},{"$f":"AH196","v":7.55},{"$f":"AI196","v":8},{"$f":"AJ196","v":7.45},{"$f":"AK196","v":6.9},{"$f":"AL196","v":6.65},{"$f":"AM196","v":6.4},{"$f":"AN196","v":6.8000000000000007},{"$f":"AO196","v":7.2},{"$f":"AP196","v":6.2},{"$f":"AQ196","v":5.2},{"$f":"AR196","v":4.55},{"$f":"AS196","v":3.9},{"$f":"AT196","v":2.9},{"$f":"AU196","v":1.9},{"$f":"AV196","v":0},{"$f":"AW196","v":0},{"$f":"AX196","v":0},{"$f":"AY196","v":0},{"$f":"AZ196","v":0},{"$f":"BA196","v":0},{"$f":"BB196","v":0},{"$f":"BC196","v":0},{"$f":"BD196","v":0},{"$f":"BE196","v":0},{"$f":"BF196","v":0},{"$f":"BG196","v":0},{"$f":"BH196","v":0},{"$f":"BI196","v":0},{"$f":"BJ196","v":0},{"$f":"BK196","v":0},{"$f":"BL196","v":0},{"$f":"BM196","v":0},{"$f":"BN196","v":0},{"$f":"BO196","v":0},{"$f":"BP196","v":0},{"$f":"BQ196","v":0},{"$f":"BR196","v":0},{"$f":"BS196","v":0},{"$f":"BT196","v":0},{"$f":"BU196","v":0},{"$f":"BV196","v":0},{"$f":"BW196","v":0},{"$f":"BX196","v":0},{"$f":"BY196","v":0},{"$f":"BZ196","v":0},{"$f":"CA196","v":0},{"$f":"CB196","v":0},{"$f":"CC196","v":0},{"$f":"CD196","v":0},{"$f":"CE196","v":0},{"$f":"CF196","v":0},{"$f":"CG196","v":0}]
[null,null,null,95,null,null,null,null,null,null,null,null,null,null,null,null,null,null,null,null,null,null,null,null,null,null,null,null,null,null,null,null,null,null,null,null,null,null,null,null,null,null,null,null,null,null,null,null,null,null,null,null,null,null,null,null,null,null,null,null,null,null,null,null,null,null,null,null,null,null,null,null,null,null,null,null,null,null,null,null,null,null,null,null,null,null,null,null,null,null,null,null,null,null,null,null,null,null,{"$f":"E196","v":1.9},{"$f":"F196","v":2.9},{"$f":"G196","v":3.9},{"$f":"H196","v":4.55},{"$f":"I196","v":5.2},{"$f":"J196","v":6.2},{"$f":"K196","v":7.2},{"$f":"L196","v":6.8000000000000007},{"$f":"M196","v":6.4},{"$f":"N196","v":6.65},{"$f":"O196","v":6.9},{"$f":"P196","v":7.45},{"$f":"Q196","v":8},{"$f":"R196","v":7.55},{"$f":"S196","v":7.1},{"$f":"T196","v":7.55},{"$f":"U196","v":8},{"$f":"V196","v":8.5500000000000007},{"$f":"W196","v":9.1},{"$f":"X196","v":10.433333333333332},{"$f":"Y196","v":11.766666666666666},{"$f":"Z196","v":13.1},{"$f":"AA196","v":11.766666666666666},{"$f":"AB196","v":10.433333333333334},{"$f":"AC196","v":9.1},{"$f":"AD196","v":8.5500000000000007},{"$f":"AE196","v":8},{"$f":"AF196","v":7.55},{"$f":"AG196","v":7.1},{"$f":"AH196","v":7.55},{"$f":"AI196","v":8},{"$f":"AJ196","v":7.45},{"$f":"AK196","v":6.9},{"$f":"AL196","v":6.65},{"$f":"AM196","v":6.4},{"$f":"AN196","v":6.8000000000000007},{"$f":"AO196","v":7.2},{"$f":"AP196","v":6.2},{"$f":"AQ196","v":5.2},{"$f":"AR196","v":4.55},{"$f":"AS196","v":3.9},{"$f":"AT196","v":2.9},{"$f":"AU196","v":1.9},{"$f":"AV196","v":0},{"$f":"AW196","v":0},{"$f":"AX196","v":0},{"$f":"AY196","v":0},{"$f":"AZ196","v":0},{"$f":"BA196","v":0},{"$f":"BB196","v":0},{"$f":"BC196","v":0},{"$f":"BD196","v":0},{"$f":"BE196","v":0},{"$f":"BF196","v":0},{"$f":"BG196","v":0},{"$f":"BH196","v":0},{"$f":"BI196","v":0},{"$f":"BJ196","v":0},{"$f":"BK196","v":0},{"$f":"BL196","v":0},{"$f":"BM196","v":0},{"$f":"BN196","v":0},{"$f":"BO196","v":0},{"$f":"BP196","v":0},{"$f":"BQ196","v":0},{"$f":"BR196","v":0},{"$f":"BS196","v":0},{"$f":"BT196","v":0},{"$f":"BU196","v":0},{"$f":"BV196","v":0},{"$f":"BW196","v":0},{"$f":"BX196","v":0},{"$f":"BY196","v":0},{"$f":"BZ196","v":0},{"$f":"CA196","v":0},{"$f":"CB196","v":0},{"$f":"CC196","v":0},{"$f":"CD196","v":0},{"$f":"CE196","v":0},{"$f":"CF196","v":0},{"$f":"CG196","v":0}]
[null,null,null,96,null,null,null,null,null,null,null,null,null,null,null,null,null,null,null,null,null,null,null,null,null,null,null,null,null,null,null,null,null,null,null,null,null,null,null,null,null,null,null,null,null,null,null,null,null,null,null,null,null,null,null,null,null,null,null,null,null,null,null,null,null,null,null,null,null,null,null,null,null,null,null,null,null,null,null,null,null,null,null,null,null,null,null,null,null,null,null,null,null,null,null,null,null,null,null,{"$f":"E196","v":1.9},{"$f":"F196","v":2.9},{"$f":"G196","v":3.9},{"$f":"H196","v":4.55},{"$f":"I196","v":5.2},{"$f":"J196","v":6.2},{"$f":"K196","v":7.2},{"$f":"L196","v":6.8000000000000007},{"$f":"M196","v":6.4},{"$f":"N196","v":6.65},{"$f":"O196","v":6.9},{"$f":"P196","v":7.45},{"$f":"Q196","v":8},{"$f":"R196","v":7.55},{"$f":"S196","v":7.1},{"$f":"T196","v":7.55},{"$f":"U196","v":8},{"$f":"V196","v":8.5500000000000007},{"$f":"W196","v":9.1},{"$f":"X196","v":10.433333333333332},{"$f":"Y196","v":11.766666666666666},{"$f":"Z196","v":13.1},{"$f":"AA196","v":11.766666666666666},{"$f":"AB196","v":10.433333333333334},{"$f":"AC196","v":9.1},{"$f":"AD196","v":8.5500000000000007},{"$f":"AE196","v":8},{"$f":"AF196","v":7.55},{"$f":"AG196","v":7.1},{"$f":"AH196","v":7.55},{"$f":"AI196","v":8},{"$f":"AJ196","v":7.45},{"$f":"AK196","v":6.9},{"$f":"AL196","v":6.65},{"$f":"AM196","v":6.4},{"$f":"AN196","v":6.8000000000000007},{"$f":"AO196","v":7.2},{"$f":"AP196","v":6.2},{"$f":"AQ196","v":5.2},{"$f":"AR196","v":4.55},{"$f":"AS196","v":3.9},{"$f":"AT196","v":2.9},{"$f":"AU196","v":1.9},{"$f":"AV196","v":0},{"$f":"AW196","v":0},{"$f":"AX196","v":0},{"$f":"AY196","v":0},{"$f":"AZ196","v":0},{"$f":"BA196","v":0},{"$f":"BB196","v":0},{"$f":"BC196","v":0},{"$f":"BD196","v":0},{"$f":"BE196","v":0},{"$f":"BF196","v":0},{"$f":"BG196","v":0},{"$f":"BH196","v":0},{"$f":"BI196","v":0},{"$f":"BJ196","v":0},{"$f":"BK196","v":0},{"$f":"BL196","v":0},{"$f":"BM196","v":0},{"$f":"BN196","v":0},{"$f":"BO196","v":0},{"$f":"BP196","v":0},{"$f":"BQ196","v":0},{"$f":"BR196","v":0},{"$f":"BS196","v":0},{"$f":"BT196","v":0},{"$f":"BU196","v":0},{"$f":"BV196","v":0},{"$f":"BW196","v":0},{"$f":"BX196","v":0},{"$f":"BY196","v":0},{"$f":"BZ196","v":0},{"$f":"CA196","v":0},{"$f":"CB196","v":0},{"$f":"CC196","v":0},{"$f":"CD196","v":0},{"$f":"CE196","v":0},{"$f":"CF196","v":0},{"$f":"CG196","v":0}]
[null,null,null,97,null,null,null,null,null,null,null,null,null,null,null,null,null,null,null,null,null,null,null,null,null,null,null,null,null,null,null,null,null,null,null,null,null,null,null,null,null,null,null,null,null,null,null,null,null,null,null,null,null,null,null,null,null,null,null,null,null,null,null,null,null,null,null,null,null,null,null,null,null,null,null,null,null,null,null,null,null,null,null,null,null,null,null,null,null,null,null,null,null,null,null,null,null,null,null,null,{"$f":"E196","v":1.9},{"$f":"F196","v":2.9},{"$f":"G196","v":3.9},{"$f":"H196","v":4.55},{"$f":"I196","v":5.2},{"$f":"J196","v":6.2},{"$f":"K196","v":7.2},{"$f":"L196","v":6.8000000000000007},{"$f":"M196","v":6.4},{"$f":"N196","v":6.65},{"$f":"O196","v":6.9},{"$f":"P196","v":7.45},{"$f":"Q196","v":8},{"$f":"R196","v":7.55},{"$f":"S196","v":7.1},{"$f":"T196","v":7.55},{"$f":"U196","v":8},{"$f":"V196","v":8.5500000000000007},{"$f":"W196","v":9.1},{"$f":"X196","v":10.433333333333332},{"$f":"Y196","v":11.766666666666666},{"$f":"Z196","v":13.1},{"$f":"AA196","v":11.766666666666666},{"$f":"AB196","v":10.433333333333334},{"$f":"AC196","v":9.1},{"$f":"AD196","v":8.5500000000000007},{"$f":"AE196","v":8},{"$f":"AF196","v":7.55},{"$f":"AG196","v":7.1},{"$f":"AH196","v":7.55},{"$f":"AI196","v":8},{"$f":"AJ196","v":7.45},{"$f":"AK196","v":6.9},{"$f":"AL196","v":6.65},{"$f":"AM196","v":6.4},{"$f":"AN196","v":6.8000000000000007},{"$f":"AO196","v":7.2},{"$f":"AP196","v":6.2},{"$f":"AQ196","v":5.2},{"$f":"AR196","v":4.55},{"$f":"AS196","v":3.9},{"$f":"AT196","v":2.9},{"$f":"AU196","v":1.9},{"$f":"AV196","v":0},{"$f":"AW196","v":0},{"$f":"AX196","v":0},{"$f":"AY196","v":0},{"$f":"AZ196","v":0},{"$f":"BA196","v":0},{"$f":"BB196","v":0},{"$f":"BC196","v":0},{"$f":"BD196","v":0},{"$f":"BE196","v":0},{"$f":"BF196","v":0},{"$f":"BG196","v":0},{"$f":"BH196","v":0},{"$f":"BI196","v":0},{"$f":"BJ196","v":0},{"$f":"BK196","v":0},{"$f":"BL196","v":0},{"$f":"BM196","v":0},{"$f":"BN196","v":0},{"$f":"BO196","v":0},{"$f":"BP196","v":0},{"$f":"BQ196","v":0},{"$f":"BR196","v":0},{"$f":"BS196","v":0},{"$f":"BT196","v":0},{"$f":"BU196","v":0},{"$f":"BV196","v":0},{"$f":"BW196","v":0},{"$f":"BX196","v":0},{"$f":"BY196","v":0},{"$f":"BZ196","v":0},{"$f":"CA196","v":0},{"$f":"CB196","v":0},{"$f":"CC196","v":0},{"$f":"CD196","v":0},{"$f":"CE196","v":0},{"$f":"CF196","v":0},{"$f":"CG196","v":0}]
[null,null,null,98,null,null,null,null,null,null,null,null,null,null,null,null,null,null,null,null,null,null,null,null,null,null,null,null,null,null,null,null,null,null,null,null,null,null,null,null,null,null,null,null,null,null,null,null,null,null,null,null,null,null,null,null,null,null,null,null,null,null,null,null,null,null,null,null,null,null,null,null,null,null,null,null,null,null,null,null,null,null,null,null,null,null,null,null,null,null,null,null,null,null,null,null,null,null,null,null,null,{"$f":"E196","v":1.9},{"$f":"F196","v":2.9},{"$f":"G196","v":3.9},{"$f":"H196","v":4.55},{"$f":"I196","v":5.2},{"$f":"J196","v":6.2},{"$f":"K196","v":7.2},{"$f":"L196","v":6.8000000000000007},{"$f":"M196","v":6.4},{"$f":"N196","v":6.65},{"$f":"O196","v":6.9},{"$f":"P196","v":7.45},{"$f":"Q196","v":8},{"$f":"R196","v":7.55},{"$f":"S196","v":7.1},{"$f":"T196","v":7.55},{"$f":"U196","v":8},{"$f":"V196","v":8.5500000000000007},{"$f":"W196","v":9.1},{"$f":"X196","v":10.433333333333332},{"$f":"Y196","v":11.766666666666666},{"$f":"Z196","v":13.1},{"$f":"AA196","v":11.766666666666666},{"$f":"AB196","v":10.433333333333334},{"$f":"AC196","v":9.1},{"$f":"AD196","v":8.5500000000000007},{"$f":"AE196","v":8},{"$f":"AF196","v":7.55},{"$f":"AG196","v":7.1},{"$f":"AH196","v":7.55},{"$f":"AI196","v":8},{"$f":"AJ196","v":7.45},{"$f":"AK196","v":6.9},{"$f":"AL196","v":6.65},{"$f":"AM196","v":6.4},{"$f":"AN196","v":6.8000000000000007},{"$f":"AO196","v":7.2},{"$f":"AP196","v":6.2},{"$f":"AQ196","v":5.2},{"$f":"AR196","v":4.55},{"$f":"AS196","v":3.9},{"$f":"AT196","v":2.9},{"$f":"AU196","v":1.9},{"$f":"AV196","v":0},{"$f":"AW196","v":0},{"$f":"AX196","v":0},{"$f":"AY196","v":0},{"$f":"AZ196","v":0},{"$f":"BA196","v":0},{"$f":"BB196","v":0},{"$f":"BC196","v":0},{"$f":"BD196","v":0},{"$f":"BE196","v":0},{"$f":"BF196","v":0},{"$f":"BG196","v":0},{"$f":"BH196","v":0},{"$f":"BI196","v":0},{"$f":"BJ196","v":0},{"$f":"BK196","v":0},{"$f":"BL196","v":0},{"$f":"BM196","v":0},{"$f":"BN196","v":0},{"$f":"BO196","v":0},{"$f":"BP196","v":0},{"$f":"BQ196","v":0},{"$f":"BR196","v":0},{"$f":"BS196","v":0},{"$f":"BT196","v":0},{"$f":"BU196","v":0},{"$f":"BV196","v":0},{"$f":"BW196","v":0},{"$f":"BX196","v":0},{"$f":"BY196","v":0},{"$f":"BZ196","v":0},{"$f":"CA196","v":0},{"$f":"CB196","v":0},{"$f":"CC196","v":0},{"$f":"CD196","v":0},{"$f":"CE196","v":0},{"$f":"CF196","v":0},{"$f":"CG196","v":0}]
[null,null,null,99,null,null,null,null,null,null,null,null,null,null,null,null,null,null,null,null,null,null,null,null,null,null,null,null,null,null,null,null,null,null,null,null,null,null,null,null,null,null,null,null,null,null,null,null,null,null,null,null,null,null,null,null,null,null,null,null,null,null,null,null,null,null,null,null,null,null,null,null,null,null,null,null,null,null,null,null,null,null,null,null,null,null,null,null,null,null,null,null,null,null,null,null,null,null,null,null,null,null,{"$f":"E196","v":1.9},{"$f":"F196","v":2.9},{"$f":"G196","v":3.9},{"$f":"H196","v":4.55},{"$f":"I196","v":5.2},{"$f":"J196","v":6.2},{"$f":"K196","v":7.2},{"$f":"L196","v":6.8000000000000007},{"$f":"M196","v":6.4},{"$f":"N196","v":6.65},{"$f":"O196","v":6.9},{"$f":"P196","v":7.45},{"$f":"Q196","v":8},{"$f":"R196","v":7.55},{"$f":"S196","v":7.1},{"$f":"T196","v":7.55},{"$f":"U196","v":8},{"$f":"V196","v":8.5500000000000007},{"$f":"W196","v":9.1},{"$f":"X196","v":10.433333333333332},{"$f":"Y196","v":11.766666666666666},{"$f":"Z196","v":13.1},{"$f":"AA196","v":11.766666666666666},{"$f":"AB196","v":10.433333333333334},{"$f":"AC196","v":9.1},{"$f":"AD196","v":8.5500000000000007},{"$f":"AE196","v":8},{"$f":"AF196","v":7.55},{"$f":"AG196","v":7.1},{"$f":"AH196","v":7.55},{"$f":"AI196","v":8},{"$f":"AJ196","v":7.45},{"$f":"AK196","v":6.9},{"$f":"AL196","v":6.65},{"$f":"AM196","v":6.4},{"$f":"AN196","v":6.8000000000000007},{"$f":"AO196","v":7.2},{"$f":"AP196","v":6.2},{"$f":"AQ196","v":5.2},{"$f":"AR196","v":4.55},{"$f":"AS196","v":3.9},{"$f":"AT196","v":2.9},{"$f":"AU196","v":1.9},{"$f":"AV196","v":0},{"$f":"AW196","v":0},{"$f":"AX196","v":0},{"$f":"AY196","v":0},{"$f":"AZ196","v":0},{"$f":"BA196","v":0},{"$f":"BB196","v":0},{"$f":"BC196","v":0},{"$f":"BD196","v":0},{"$f":"BE196","v":0},{"$f":"BF196","v":0},{"$f":"BG196","v":0},{"$f":"BH196","v":0},{"$f":"BI196","v":0},{"$f":"BJ196","v":0},{"$f":"BK196","v":0},{"$f":"BL196","v":0},{"$f":"BM196","v":0},{"$f":"BN196","v":0},{"$f":"BO196","v":0},{"$f":"BP196","v":0},{"$f":"BQ196","v":0},{"$f":"BR196","v":0},{"$f":"BS196","v":0},{"$f":"BT196","v":0},{"$f":"BU196","v":0},{"$f":"BV196","v":0},{"$f":"BW196","v":0},{"$f":"BX196","v":0},{"$f":"BY196","v":0},{"$f":"BZ196","v":0},{"$f":"CA196","v":0},{"$f":"CB196","v":0},{"$f":"CC196","v":0},{"$f":"CD196","v":0},{"$f":"CE196","v":0},{"$f":"CF196","v":0},{"$f":"CG196","v":0}]
[null,null,null,100,null,null,null,null,null,null,null,null,null,null,null,null,null,null,null,null,null,null,null,null,null,null,null,null,null,null,null,null,null,null,null,null,null,null,null,null,null,null,null,null,null,null,null,null,null,null,null,null,null,null,null,null,null,null,null,null,null,null,null,null,null,null,null,null,null,null,null,null,null,null,null,null,null,null,null,null,null,null,null,null,null,null,null,null,null,null,null,null,null,null,null,null,null,null,null,null,null,null,null,{"$f":"E196","v":1.9},{"$f":"F196","v":2.9},{"$f":"G196","v":3.9},{"$f":"H196","v":4.55},{"$f":"I196","v":5.2},{"$f":"J196","v":6.2},{"$f":"K196","v":7.2},{"$f":"L196","v":6.8000000000000007},{"$f":"M196","v":6.4},{"$f":"N196","v":6.65},{"$f":"O196","v":6.9},{"$f":"P196","v":7.45},{"$f":"Q196","v":8},{"$f":"R196","v":7.55},{"$f":"S196","v":7.1},{"$f":"T196","v":7.55},{"$f":"U196","v":8},{"$f":"V196","v":8.5500000000000007},{"$f":"W196","v":9.1},{"$f":"X196","v":10.433333333333332},{"$f":"Y196","v":11.766666666666666},{"$f":"Z196","v":13.1},{"$f":"AA196","v":11.766666666666666},{"$f":"AB196","v":10.433333333333334},{"$f":"AC196","v":9.1},{"$f":"AD196","v":8.5500000000000007},{"$f":"AE196","v":8},{"$f":"AF196","v":7.55},{"$f":"AG196","v":7.1},{"$f":"AH196","v":7.55},{"$f":"AI196","v":8},{"$f":"AJ196","v":7.45},{"$f":"AK196","v":6.9},{"$f":"AL196","v":6.65},{"$f":"AM196","v":6.4},{"$f":"AN196","v":6.8000000000000007},{"$f":"AO196","v":7.2},{"$f":"AP196","v":6.2},{"$f":"AQ196","v":5.2},{"$f":"AR196","v":4.55},{"$f":"AS196","v":3.9},{"$f":"AT196","v":2.9},{"$f":"AU196","v":1.9},{"$f":"AV196","v":0},{"$f":"AW196","v":0},{"$f":"AX196","v":0},{"$f":"AY196","v":0},{"$f":"AZ196","v":0},{"$f":"BA196","v":0},{"$f":"BB196","v":0},{"$f":"BC196","v":0},{"$f":"BD196","v":0},{"$f":"BE196","v":0},{"$f":"BF196","v":0},{"$f":"BG196","v":0},{"$f":"BH196","v":0},{"$f":"BI196","v":0},{"$f":"BJ196","v":0},{"$f":"BK196","v":0},{"$f":"BL196","v":0},{"$f":"BM196","v":0},{"$f":"BN196","v":0},{"$f":"BO196","v":0},{"$f":"BP196","v":0},{"$f":"BQ196","v":0},{"$f":"BR196","v":0},{"$f":"BS196","v":0},{"$f":"BT196","v":0},{"$f":"BU196","v":0},{"$f":"BV196","v":0},{"$f":"BW196","v":0},{"$f":"BX196","v":0},{"$f":"BY196","v":0},{"$f":"BZ196","v":0},{"$f":"CA196","v":0},{"$f":"CB196","v":0},{"$f":"CC196","v":0},{"$f":"CD196","v":0},{"$f":"CE196","v":0},{"$f":"CF196","v":0},{"$f":"CG196","v":0}]
[]
[null,"to & fro"]
["Bout","cv","average"]
[{"$f":"A110","v":1},{"$f":"IF($D110<=$B$6,STDEV(OFFSET(D304,0,2*$B$11-D304+$B$12):OFFSET(D304,0,2*$B$11+D304-1+$B$12))/C304,\"\")","v":0},{"$f":"IF($D110<=$B$6,AVERAGE(OFFSET(D304,0,2*$B$11-D304+$B$12):OFFSET(D304,0,2*$B$11+D304-1+$B$12)),\"\")","v":301.2999999999999},{"$f":"D7","v":1},{"$f":"SUM(E201:E300)","v":1.9},{"$f":"SUM(F201:F300)","v":4.8},8.6999999999999993,13.25,18.45,24.649999999999995,31.849999999999998,38.65,45.05,51.699999999999996,58.6,66.050000000000011,74.050000000000026,81.600000000000023,88.700000000000017,96.250000000000014,104.25000000000003,112.80000000000003,121.90000000000003,132.33333333333337,144.10000000000005,157.20000000000002,168.96666666666667,179.4,188.5,197.05,205.05,212.60000000000002,219.70000000000002,227.25000000000003,235.25000000000003,242.70000000000005,249.60000000000002,256.25,262.64999999999998,269.45,276.64999999999998,282.84999999999997,288.0499999999999,292.59999999999991,296.49999999999989,299.39999999999992,301.2999999999999,301.2999999999999,301.2999999999999,301.2999999999999,301.2999999999999,301.2999999999999,301.2999999999999,301.2999999999999,301.2999999999999,301.2999999999999,301.2999999999999,301.2999999999999,301.2999999999999,301.2999999999999,301.2999999999999,301.2999999999999,301.2999999999999,301.2999999999999,301.2999999999999,301.2999999999999,301.2999999999999,301.2999999999999,301.2999999999999,{"$f":"SUM(BR201:BR300)","v":301.2999999999999},301.2999999999999,301.2999999999999,301.2999999999999,301.2999999999999,301.2999999999999,301.2999999999999,301.2999999999999,301.2999999999999,301.2999999999999,301.2999999999999,301.2999999999999,301.2999999999999,301.2999999999999,301.2999999999999,301.2999999999999]
[2,{"$f":"IF($D111<=$B$6,STDEV(OFFSET(D305,0,2*$B$11-D305+$B$12):OFFSET(D305,0,2*$B$11+D305-1+$B$12))/C305,\"\")","v":2.171690358717354E-3},{"$f":"IF($D111<=$B$6,AVERAGE(OFFSET(D305,0,2*$B$11-D305+$B$12):OFFSET(D305,0,2*$B$11+D305-1+$B$12)),\"\")","v":150.64999999999998},2,{"$f":"E201+E203+E205+E207+E209+E211+E213+E215+E217+E219+E221+E223+E225+E227+E229+E231+E233+E235+E237+E239+E241+E243+E245+E247+E249+E251+E253+E255+E257+E259+E261+E263+E265+E267+E269+E271+E273+E275+E277+E279+E281+E283+E285+E287+E289+E291+E293+E295+E297+E299","v":1.9},{"$f":"F201+F203+F205+F207+F209+F211+F213+F215+F217+F219+F221+F223+F225+F227+F229+F231+F233+F235+F237+F239+F241+F243+F245+F247+F249+F251+F253+F255+F257+F259+F261+F263+F265+F267+F269+F271+F273+F275+F277+F279+F281+F283+F285+F287+F289+F291+F293+F295+F297+F299","v":2.9},5.8,7.4499999999999993,11,13.65,18.2,20.45,24.599999999999998,27.1,31.499999999999996,34.550000000000004,39.5,42.099999999999994,46.6,49.65,54.6,58.199999999999996,63.7,68.63333333333334,75.466666666666683,81.733333333333334,87.233333333333348,92.166666666666671,96.333333333333371,100.71666666666667,104.33333333333336,108.26666666666667,111.43333333333337,115.81666666666666,119.43333333333335,123.26666666666667,126.33333333333336,129.91666666666666,132.73333333333335,136.71666666666667,139.93333333333334,142.91666666666669,145.13333333333333,147.46666666666667,149.0333333333333,150.36666666666667,150.93333333333331,150.36666666666667,150.93333333333331,150.36666666666667,150.93333333333331,150.36666666666667,150.93333333333331,150.36666666666667,150.93333333333331,150.36666666666667,150.93333333333331,150.36666666666667,150.93333333333331,150.36666666666667,150.93333333333331,150.36666666666667,150.93333333333331,150.36666666666667,150.93333333333331,150.36666666666667,150.93333333333331,150.36666666666667,150.93333333333331,{"$f":"BR201+BR203+BR205+BR207+BR209+BR211+BR213+BR215+BR217+BR219+BR221+BR223+BR225+BR227+BR229+BR231+BR233+BR235+BR237+BR239+BR241+BR243+BR245+BR247+BR249+BR251+BR253+BR255+BR257+BR259+BR261+BR263+BR265+BR267+BR269+BR271+BR273+BR275+BR277+BR279+BR281+BR283+BR285+BR287+BR289+BR291+BR293+BR295+BR297+BR299","v":150.36666666666667},150.93333333333331,150.36666666666667,150.93333333333331,150.36666666666667,150.93333333333331,150.36666666666667,150.93333333333331,150.36666666666667,150.93333333333331,150.36666666666667,150.93333333333331,150.36666666666667,150.93333333333331,150.36666666666667,150.93333333333331,150.36666666666667]
[3,{"$f":"IF($D112<=$B$6,STDEV(OFFSET(D306,0,2*$B$11-D306+$B$12):OFFSET(D306,0,2*$B$11+D306-1+$B$12))/C306,\"\")","v":1.9795533863788333E-2},{"$f":"IF($D112<=$B$6,AVERAGE(OFFSET(D306,0,2*$B$11-D306+$B$12):OFFSET(D306,0,2*$B$11+D306-1+$B$12)),\"\")","v":100.43333333333334},3,{"$f":"E201+E204+E207+E210+E213+E216+E219+E222+E225+E228+E231+E234+E237+E240+E243+E246+E249+E252+E255+E258+E261+E264+E267+E270+E273+E276+E279+E282+E285+E288+E291+E294+E297+E300","v":1.9},{"$f":"F201+F204+F207+F210+F213+F216+F219+F222+F225+F228+F231+F234+F237+F240+F243+F246+F249+F252+F255+F258+F261+F264+F267+F270+F273+F276+F279+F282+F285+F288+F291+F294+F297+F300","v":2.9},3.9,6.4499999999999993,8.1,10.1,13.65,14.9,16.5,20.3,21.8,23.95,28.3,29.349999999999998,31.05,35.85,37.35,39.6,44.949999999999996,47.783333333333339,51.366666666666667,58.05,59.54999999999999,61.800000000000004,67.150000000000006,68.100000000000009,69.800000000000011,74.7,75.2,77.350000000000009,82.7,82.65,84.250000000000014,89.350000000000009,89.050000000000011,91.050000000000011,96.550000000000011,95.250000000000014,96.250000000000014,101.10000000000001,99.149999999999991,99.15,103,99.149999999999991,99.15,103,99.149999999999991,99.15,103,99.149999999999991,99.15,103,99.149999999999991,99.15,103,99.149999999999991,99.15,103,99.149999999999991,99.15,103,99.149999999999991,99.15,103,99.149999999999991,{"$f":"BR201+BR204+BR207+BR210+BR213+BR216+BR219+BR222+BR225+BR228+BR231+BR234+BR237+BR240+BR243+BR246+BR249+BR252+BR255+BR258+BR261+BR264+BR267+BR270+BR273+BR276+BR279+BR282+BR285+BR288+BR291+BR294+BR297+BR300","v":99.15},103,99.149999999999991,99.15,103,99.149999999999991,99.15,103,99.149999999999991,99.15,103,99.149999999999991,99.15,103,99.149999999999991,99.15,103,99.149999999999991]
[4,{"$f":"IF($D113<=$B$6,STDEV(OFFSET(D307,0,2*$B$11-D307+$B$12):OFFSET(D307,0,2*$B$11+D307-1+$B$12))/C307,\"\")","v":1.6348271400529153E-2},{"$f":"IF($D113<=$B$6,AVERAGE(OFFSET(D307,0,2*$B$11-D307+$B$12):OFFSET(D307,0,2*$B$11+D307-1+$B$12)),\"\")","v":75.325000000000017},4,{"$f":"E201+E205+E209+E213+E217+E221+E225+E229+E233+E237+E241+E277+E281+E285+E289+E293+E297+E245+E249+E253+E257+E261+E265+E269+E273","v":1.9},{"$f":"F201+F205+F209+F213+F217+F221+F225+F229+F233+F237+F241+F277+F281+F285+F289+F293+F297+F245+F249+F253+F257+F261+F265+F269+F273","v":2.9},3.9,4.55,7.1,9.1,11.1,11.350000000000001,13.500000000000002,15.750000000000002,18,18.8,21.5,23.299999999999997,25.099999999999998,26.35,29.499999999999996,31.849999999999998,34.200000000000003,36.783333333333331,41.266666666666666,44.95,45.966666666666669,47.216666666666669,50.366666666666667,53.5,53.966666666666669,54.766666666666666,57.466666666666669,61.05,61.966666666666669,62.216666666666669,64.366666666666674,67.7,68.366666666666674,69.016666666666666,71.566666666666677,73.90000000000002,73.566666666666677,73.566666666666663,75.466666666666683,76.800000000000011,75.466666666666683,73.566666666666663,75.466666666666683,76.800000000000011,75.466666666666683,73.566666666666663,75.466666666666683,76.800000000000011,75.466666666666683,73.566666666666663,75.466666666666683,76.800000000000011,75.466666666666683,73.566666666666663,75.466666666666683,76.800000000000011,75.466666666666683,73.566666666666663,75.466666666666683,76.800000000000011,75.466666666666683,73.566666666666663,75.466666666666683,{"$f":"BR201+BR205+BR209+BR213+BR217+BR221+BR225+BR229+BR233+BR237+BR241+BR277+BR281+BR285+BR289+BR293+BR297+BR245+BR249+BR253+BR257+BR261+BR265+BR269+BR273","v":76.800000000000011},75.466666666666683,73.566666666666663,75.466666666666683,76.800000000000011,75.466666666666683,73.566666666666663,75.466666666666683,76.800000000000011,75.466666666666683,73.566666666666663,75.466666666666669,76.800000000000011,75.466666666666669,73.566666666666663,75.466666666666669,76.800000000000011,75.466666666666669,73.566666666666677]
[5,{"$f":"IF($D114<=$B$6,STDEV(OFFSET(D308,0,2*$B$11-D308+$B$12):OFFSET(D308,0,2*$B$11+D308-1+$B$12))/C308,\"\")","v":4.9729810317948028E-2},{"$f":"IF($D114<=$B$6,AVERAGE(OFFSET(D308,0,2*$B$11-D308+$B$12):OFFSET(D308,0,2*$B$11+D308-1+$B$12)),\"\")","v":60.260000000000005},5,{"$f":"E201+E206+E211+E216+E221+E226+E231+E236+E241+E246+E251+E256+E261+E266+E271+E276+E281+E286+E291+E296","v":1.9},{"$f":"F201+F206+F211+F216+F221+F226+F231+F236+F241+F246+F251+F256+F261+F266+F271+F276+F281+F286+F291+F296","v":2.9},3.9,4.55,5.2,8.1,10.1,10.700000000000001,10.95,11.850000000000001,15.000000000000002,17.55,18.7,18.5,18.95,22.549999999999997,25.549999999999997,27.25,27.599999999999998,29.383333333333329,34.31666666666667,38.65,39.016666666666666,38.033333333333331,38.483333333333334,42.866666666666667,46.650000000000006,46.56666666666667,45.133333333333326,46.033333333333331,50.866666666666667,54.1,53.466666666666661,51.783333333333324,52.43333333333333,57.666666666666664,61.300000000000004,59.666666666666664,56.983333333333327,56.983333333333334,61.566666666666663,64.2,61.566666666666656,56.983333333333327,56.983333333333334,61.566666666666663,64.2,61.566666666666656,56.983333333333327,56.983333333333334,61.566666666666663,64.2,61.566666666666656,56.983333333333327,56.983333333333334,61.566666666666663,64.2,61.566666666666656,56.983333333333327,56.983333333333334,61.566666666666663,64.2,61.566666666666656,56.983333333333327,56.983333333333334,{"$f":"BR201+BR206+BR211+BR216+BR221+BR226+BR231+BR236+BR241+BR246+BR251+BR256+BR261+BR266+BR271+BR276+BR281+BR286+BR291+BR296","v":61.566666666666663},64.2,61.566666666666656,56.983333333333327,56.983333333333334,61.566666666666663,64.2,61.566666666666656,56.983333333333327,56.983333333333334,61.566666666666663,64.2,61.566666666666656,56.983333333333327,56.983333333333334,61.566666666666663,64.2,61.566666666666656,56.983333333333327,56.983333333333334]
[6,{"$f":"IF($D115<=$B$6,STDEV(OFFSET(D309,0,2*$B$11-D309+$B$12):OFFSET(D309,0,2*$B$11+D309-1+$B$12))/C309,\"\")","v":2.2370993530522219E-2},{"$f":"IF($D115<=$B$6,AVERAGE(OFFSET(D309,0,2*$B$11-D309+$B$12):OFFSET(D309,0,2*$B$11+D309-1+$B$12)),\"\")","v":50.216666666666661},6,{"$f":"E201+E207+E213+E219+E225+E231+E237+E243+E249+E255+E261+E267+E273+E279+E285+E291+E297","v":1.9},{"$f":"F201+F207+F213+F219+F225+F231+F237+F243+F249+F255+F261+F267+F273+F279+F285+F291+F297","v":2.9},3.9,4.55,5.2,6.2,9.1,9.7000000000000011,10.3,11.2,12.100000000000001,13.65,17.099999999999998,17.25,17.399999999999999,18.75,20.100000000000001,22.2,26.2,27.68333333333333,29.166666666666664,31.849999999999998,31.866666666666664,32.633333333333333,35.299999999999997,36.233333333333334,37.166666666666664,39.4,38.966666666666669,40.183333333333337,43.300000000000004,43.68333333333333,44.066666666666663,46.04999999999999,45.366666666666667,46.983333333333341,50.5,49.883333333333333,49.266666666666666,50.599999999999994,49.266666666666666,49.88333333333334,52.400000000000006,49.883333333333333,49.266666666666666,50.599999999999994,49.266666666666666,49.88333333333334,52.400000000000006,49.883333333333333,49.266666666666666,50.599999999999994,49.266666666666666,49.88333333333334,52.400000000000006,49.883333333333333,49.266666666666666,50.599999999999994,49.266666666666666,49.88333333333334,52.400000000000006,49.883333333333333,49.266666666666666,50.599999999999994,49.266666666666666,{"$f":"BR201+BR207+BR213+BR219+BR225+BR231+BR237+BR243+BR249+BR255+BR261+BR267+BR273+BR279+BR285+BR291+BR297","v":49.88333333333334},52.400000000000006,49.883333333333333,49.266666666666666,50.599999999999994,49.266666666666666,49.88333333333334,52.400000000000006,49.883333333333333,49.266666666666666,50.599999999999994,49.266666666666666,49.88333333333334,52.400000000000006,49.883333333333333,49.266666666666666,50.599999999999994,49.266666666666666,49.88333333333334,52.400000000000006,49.883333333333333]
[7,{"$f":"IF($D116<=$B$6,STDEV(OFFSET(D310,0,2*$B$11-D310+$B$12):OFFSET(D310,0,2*$B$11+D310-1+$B$12))/C310,\"\")","v":2.2941776710883762E-2},{"$f":"IF($D116<=$B$6,AVERAGE(OFFSET(D310,0,2*$B$11-D310+$B$12):OFFSET(D310,0,2*$B$11+D310-1+$B$12)),\"\")","v":43.042857142857144},7,{"$f":"E201+E208+E215+E222+E229+E236+E243+E250+E257+E264+E271+E278+E285+E292+E299","v":1.9},{"$f":"F201+F208+F215+F222+F229+F236+F243+F250+F257+F264+F271+F278+F285+F292+F299","v":2.9},3.9,4.55,5.2,6.2,7.2,8.7000000000000011,9.3000000000000007,10.55,11.45,12.65,14.2,14.75,15.8,16.849999999999998,18.55,20,21.75,24.633333333333329,26.516666666666666,28.9,28.616666666666667,28.983333333333334,29.099999999999998,30.299999999999997,32.633333333333333,34.06666666666667,35.999999999999993,36.166666666666664,36.983333333333334,36.549999999999997,37.200000000000003,39.283333333333331,40.466666666666669,42.800000000000004,43.36666666666666,43.18333333333333,41.75,41.750000000000007,43.183333333333337,43.366666666666667,44.699999999999996,43.36666666666666,43.18333333333333,41.75,41.750000000000007,43.183333333333337,43.366666666666667,44.699999999999996,43.36666666666666,43.18333333333333,41.75,41.750000000000007,43.183333333333337,43.366666666666667,44.699999999999996,43.36666666666666,43.18333333333333,41.75,41.750000000000007,43.183333333333337,43.366666666666667,44.699999999999996,43.36666666666666,{"$f":"BR201+BR208+BR215+BR222+BR229+BR236+BR243+BR250+BR257+BR264+BR271+BR278+BR285+BR292+BR299","v":43.18333333333333},41.75,41.750000000000007,43.183333333333337,43.366666666666667,44.699999999999996,43.36666666666666,43.18333333333333,41.75,41.750000000000007,43.183333333333337,43.366666666666667,44.699999999999996,43.36666666666666,43.18333333333333,41.75,41.750000000000007,43.183333333333337,43.366666666666667,44.699999999999996,43.36666666666666,43.18333333333333]
[8,{"$f":"IF($D117<=$B$6,STDEV(OFFSET(D311,0,2*$B$11-D311+$B$12):OFFSET(D311,0,2*$B$11+D311-1+$B$12))/C311,\"\")","v":4.5203489141722571E-2},{"$f":"IF($D117<=$B$6,AVERAGE(OFFSET(D311,0,2*$B$11-D311+$B$12):OFFSET(D311,0,2*$B$11+D311-1+$B$12)),\"\")","v":37.662500000000009},8,{"$f":"E201+E209+E217+E225+E233+E241+E249+E257+E265+E273+E281+E289+E297","v":1.9},{"$f":"F201+F209+F217+F225+F233+F241+F249+F257+F265+F273+F281+F289+F297","v":2.9},3.9,4.55,5.2,6.2,7.2,6.8000000000000007,8.3000000000000007,9.5500000000000007,10.8,12,13.2,13.75,14.3,14.350000000000001,16.3,18.100000000000001,19.899999999999999,22.433333333333334,24.966666666666665,26.849999999999998,26.066666666666666,24.783333333333335,25.4,26.65,27.9,29.983333333333331,32.06666666666667,34.4,34.06666666666667,32.233333333333334,32.299999999999997,33.299999999999997,34.299999999999997,36.783333333333331,39.266666666666666,40.6,39.266666666666666,36.783333333333331,36.199999999999996,36.200000000000003,36.199999999999996,36.783333333333331,39.266666666666666,40.6,39.266666666666666,36.783333333333331,36.199999999999996,36.200000000000003,36.199999999999996,36.783333333333331,39.266666666666666,40.6,39.266666666666666,36.783333333333331,36.199999999999996,36.200000000000003,36.199999999999996,36.783333333333331,39.266666666666666,40.6,39.266666666666666,36.783333333333331,36.199999999999996,{"$f":"BR201+BR209+BR217+BR225+BR233+BR241+BR249+BR257+BR265+BR273+BR281+BR289+BR297","v":36.200000000000003},36.199999999999996,36.783333333333331,39.266666666666666,40.6,39.266666666666666,36.783333333333331,36.199999999999996,36.200000000000003,36.199999999999996,36.783333333333331,39.266666666666666,40.6,39.266666666666666,36.783333333333331,36.199999999999996,36.200000000000003,36.199999999999996,36.783333333333331,39.266666666666666,40.6,39.266666666666666,36.783333333333331]
[9,{"$f":"IF($D118<=$B$6,STDEV(OFFSET(D312,0,2*$B$11-D312+$B$12):OFFSET(D312,0,2*$B$11+D312-1+$B$12))/C312,\"\")","v":8.1858417825690311E-2},{"$f":"IF($D118<=$B$6,AVERAGE(OFFSET(D312,0,2*$B$11-D312+$B$12):OFFSET(D312,0,2*$B$11+D312-1+$B$12)),\"\")","v":33.477777777777774},9,{"$f":"E201+E210+E219+E228+E237+E246+E255+E264+E273+E282+E291+E300","v":1.9},{"$f":"F201+F210+F219+F228+F237+F246+F255+F264+F273+F282+F291+F300","v":2.9},3.9,4.55,5.2,6.2,7.2,6.8000000000000007,6.4,8.5500000000000007,9.8000000000000007,11.35,12.55,12.75,13.3,14.75,14.8,14.950000000000001,17.649999999999999,20.233333333333331,23.116666666666664,25.650000000000002,24.516666666666666,23.733333333333331,23.849999999999998,23.35,22.950000000000003,25.199999999999996,27.333333333333329,30.666666666666664,33.65,31.966666666666665,30.633333333333336,30.5,29.750000000000004,29.75,32.4,33.533333333333331,35.866666666666667,38.199999999999996,35.866666666666667,33.533333333333339,32.4,29.750000000000004,29.75,32.4,33.533333333333331,35.866666666666667,38.199999999999996,35.866666666666667,33.533333333333339,32.4,29.750000000000004,29.75,32.4,33.533333333333331,35.866666666666667,38.199999999999996,35.866666666666667,33.533333333333339,32.4,29.750000000000004,29.75,32.4,33.533333333333331,{"$f":"BR201+BR210+BR219+BR228+BR237+BR246+BR255+BR264+BR273+BR282+BR291+BR300","v":35.866666666666667},38.199999999999996,35.866666666666667,33.533333333333339,32.4,29.750000000000004,29.75,32.4,33.533333333333331,35.866666666666667,38.199999999999996,35.866666666666667,33.533333333333339,32.4,29.750000000000004,29.75,32.4,33.533333333333331,35.866666666666667,38.199999999999996,35.866666666666667,33.533333333333339,32.4,29.750000000000004]
[10,{"$f":"IF($D119<=$B$6,STDEV(OFFSET(D313,0,2*$B$11-D313+$B$12):OFFSET(D313,0,2*$B$11+D313-1+$B$12))/C313,\"\")","v":6.744800828268889E-2},{"$f":"IF($D119<=$B$6,AVERAGE(OFFSET(D313,0,2*$B$11-D313+$B$12):OFFSET(D313,0,2*$B$11+D313-1+$B$12)),\"\")","v":30.130000000000003},10,{"$f":"E201+E211+E221+E231+E241+E251+E261+E271+E281+E291","v":1.9},{"$f":"F201+F211+F221+F231+F241+F251+F261+F271+F281+F291","v":2.9},3.9,4.55,5.2,6.2,7.2,6.8000000000000007,6.4,6.65,8.8000000000000007,10.35,11.9,12.1,12.3,13.75,15.2,15.350000000000001,15.5,17.083333333333332,20.566666666666663,23.45,23.666666666666664,22.533333333333335,21.4,22.3,23.2,22.900000000000002,22.6,24.633333333333333,28.566666666666663,30.9,30.566666666666663,29.183333333333337,27.8,29.1,30.4,29.1,27.799999999999997,29.18333333333333,32.466666666666661,33.799999999999997,32.466666666666669,29.183333333333337,27.8,29.1,30.4,29.1,27.799999999999997,29.18333333333333,32.466666666666661,33.799999999999997,32.466666666666669,29.183333333333337,27.8,29.1,30.4,29.1,27.799999999999997,29.18333333333333,32.466666666666661,33.799999999999997,32.466666666666669,29.183333333333337,27.8,{"$f":"BR201+BR211+BR221+BR231+BR241+BR251+BR261+BR271+BR281+BR291","v":29.1},30.4,29.1,27.799999999999997,29.18333333333333,32.466666666666661,33.799999999999997,32.466666666666669,29.183333333333337,27.8,29.1,30.4,29.1,27.799999999999997,29.18333333333333,32.466666666666661,33.799999999999997,32.466666666666669,29.183333333333337,27.8,29.1,30.4,29.1,27.799999999999997,29.18333333333333]
[11,{"$f":"IF($D120<=$B$6,STDEV(OFFSET(D314,0,2*$B$11-D314+$B$12):OFFSET(D314,0,2*$B$11+D314-1+$B$12))/C314,\"\")","v":1.2083311375204591E-2},{"$f":"IF($D120<=$B$6,AVERAGE(OFFSET(D314,0,2*$B$11-D314+$B$12):OFFSET(D314,0,2*$B$11+D314-1+$B$12)),\"\")","v":27.390909090909087},11,{"$f":"E201+E212+E223+E234+E245+E256+E267+E278+E289+E300","v":1.9},{"$f":"F201+F212+F223+F234+F245+F256+F267+F278+F289+F300","v":2.9},3.9,4.55,5.2,6.2,7.2,6.8000000000000007,6.4,6.65,6.9,9.35,10.9,11.45,11.649999999999999,12.75,14.2,15.75,15.9,16.833333333333332,18.416666666666664,20,21.116666666666664,21.333333333333332,20.549999999999997,20.2,20.75,21.75,22.85,23.45,24.833333333333329,25.866666666666667,26.9,27.766666666666662,27.733333333333334,27.349999999999998,27.400000000000002,26.95,26.95,27.4,27.349999999999998,27.733333333333334,27.766666666666666,26.9,27.766666666666662,27.733333333333334,27.349999999999998,27.400000000000002,26.95,26.95,27.4,27.349999999999998,27.733333333333334,27.766666666666666,26.9,27.766666666666662,27.733333333333334,27.349999999999998,27.400000000000002,26.95,26.95,27.4,27.349999999999998,27.733333333333334,27.766666666666666,{"$f":"BR201+BR212+BR223+BR234+BR245+BR256+BR267+BR278+BR289+BR300","v":26.9},27.766666666666662,27.733333333333334,27.349999999999998,27.400000000000002,26.95,26.95,27.4,27.349999999999998,27.733333333333334,27.766666666666666,26.9,27.766666666666662,27.733333333333334,27.349999999999998,27.400000000000002,26.95,26.95,27.4,27.349999999999998,27.733333333333334,27.766666666666666,26.9,27.766666666666662,27.733333333333334,27.349999999999998]
[12,{"$f":"IF($D121<=$B$6,STDEV(OFFSET(D315,0,2*$B$11-D315+$B$12):OFFSET(D315,0,2*$B$11+D315-1+$B$12))/C315,\"\")","v":3.086942695783083E-2},{"$f":"IF($D121<=$B$6,AVERAGE(OFFSET(D315,0,2*$B$11-D315+$B$12):OFFSET(D315,0,2*$B$11+D315-1+$B$12)),\"\")","v":25.108333333333334},12,{"$f":"E201+E213+E225+E237+E249+E261+E273+E285+E297","v":1.9},{"$f":"F201+F213+F225+F237+F249+F261+F273+F285+F297","v":2.9},3.9,4.55,5.2,6.2,7.2,6.8000000000000007,6.4,6.65,6.9,7.45,9.9,10.45,11,12.1,13.2,14.75,16.3,17.233333333333334,18.166666666666664,19.75,18.666666666666664,17.883333333333333,19,19,19,19.649999999999999,20.3,22.3,24.3,24.683333333333334,25.066666666666663,26.4,25.066666666666663,24.683333333333334,26.2,25.2,24.199999999999996,24.2,24.2,25.2,26.2,24.683333333333334,25.066666666666663,26.4,25.066666666666663,24.683333333333334,26.2,25.2,24.199999999999996,24.2,24.2,25.2,26.2,24.683333333333334,25.066666666666663,26.4,25.066666666666663,24.683333333333334,26.2,25.2,24.199999999999996,24.2,24.2,{"$f":"BR201+BR213+BR225+BR237+BR249+BR261+BR273+BR285+BR297","v":25.2},26.2,24.683333333333334,25.066666666666663,26.4,25.066666666666663,24.683333333333334,26.2,25.2,24.199999999999996,24.2,24.2,25.2,26.2,24.683333333333334,25.066666666666663,26.4,25.066666666666663,24.683333333333334,26.2,25.2,24.199999999999996,24.2,24.2,25.2,26.2,24.683333333333334]
[13,{"$f":"IF($D122<=$B$6,STDEV(OFFSET(D316,0,2*$B$11-D316+$B$12):OFFSET(D316,0,2*$B$11+D316-1+$B$12))/C316,\"\")","v":6.9665038041689012E-2},{"$f":"IF($D122<=$B$6,AVERAGE(OFFSET(D316,0,2*$B$11-D316+$B$12):OFFSET(D316,0,2*$B$11+D316-1+$B$12)),\"\")","v":23.176923076923078},13,{"$f":"E201+E214+E227+E240+E253+E266+E279+E292","v":1.9},{"$f":"F201+F214+F227+F240+F253+F266+F279+F292","v":2.9},3.9,4.55,5.2,6.2,7.2,6.8000000000000007,6.4,6.65,6.9,7.45,8,9.4499999999999993,10,11.45,12.55,13.75,15.3,17.633333333333333,18.566666666666666,19.5,18.416666666666664,17.333333333333336,16.55,16.55,17.45,17.549999999999997,18.549999999999997,20.100000000000001,21.75,22.75,24.533333333333331,25.216666666666665,25.9,25.216666666666669,24.533333333333331,22.75,21.75,22,21.449999999999996,21.45,22,21.75,22.75,24.533333333333331,25.216666666666665,25.9,25.216666666666669,24.533333333333331,22.75,21.75,22,21.449999999999996,21.45,22,21.75,22.75,24.533333333333331,25.216666666666665,25.9,25.216666666666669,24.533333333333331,22.75,21.75,{"$f":"BR201+BR214+BR227+BR240+BR253+BR266+BR279+BR292","v":22},21.449999999999996,21.45,22,21.75,22.75,24.533333333333331,25.216666666666665,25.9,25.216666666666669,24.533333333333331,22.75,21.75,22,21.449999999999996,21.45,22,21.75,22.75,24.533333333333331,25.216666666666665,25.9,25.216666666666669,24.533333333333331,22.75,21.75,22,21.449999999999996]
[14,{"$f":"IF($D123<=$B$6,STDEV(OFFSET(D317,0,2*$B$11-D317+$B$12):OFFSET(D317,0,2*$B$11+D317-1+$B$12))/C317,\"\")","v":0.13090638854972561},{"$f":"IF($D123<=$B$6,AVERAGE(OFFSET(D317,0,2*$B$11-D317+$B$12):OFFSET(D317,0,2*$B$11+D317-1+$B$12)),\"\")","v":21.521428571428572},14,{"$f":"E201+E215+E229+E243+E257+E271+E285+E299","v":1.9},{"$f":"F201+F215+F229+F243+F257+F271+F285+F299","v":2.9},3.9,4.55,5.2,6.2,7.2,6.8000000000000007,6.4,6.65,6.9,7.45,8,7.55,9,10.45,11.9,13.100000000000001,14.3,16.633333333333333,18.966666666666665,19.899999999999999,18.166666666666664,17.083333333333336,16,16,16,15.1,16.099999999999998,18,19.899999999999999,20.55,21.2,23.283333333333331,25.366666666666664,26.7,25.366666666666667,23.283333333333331,21.200000000000003,20.55,19.899999999999999,18,18,18,19.899999999999999,20.55,21.2,23.283333333333331,25.366666666666664,26.7,25.366666666666667,23.283333333333331,21.200000000000003,20.55,19.899999999999999,18,18,18,19.899999999999999,20.55,21.2,23.283333333333331,25.366666666666664,26.7,25.366666666666667,{"$f":"BR201+BR215+BR229+BR243+BR257+BR271+BR285+BR299","v":23.283333333333331},21.200000000000003,20.55,19.899999999999999,18,18,18,19.899999999999999,20.55,21.2,23.283333333333331,25.366666666666664,26.7,25.366666666666667,23.283333333333331,21.200000000000003,20.55,19.899999999999999,18,18,18,19.899999999999999,20.55,21.2,23.283333333333331,25.366666666666664,26.7,25.366666666666667,23.283333333333331]
[15,{"$f":"IF($D124<=$B$6,STDEV(OFFSET(D318,0,2*$B$11-D318+$B$12):OFFSET(D318,0,2*$B$11+D318-1+$B$12))/C318,\"\")","v":0.17857769851057939},{"$f":"IF($D124<=$B$6,AVERAGE(OFFSET(D318,0,2*$B$11-D318+$B$12):OFFSET(D318,0,2*$B$11+D318-1+$B$12)),\"\")","v":20.086666666666666},15,{"$f":"E201+E216+E231+E246+E261+E276+E291","v":1.9},{"$f":"F201+F216+F231+F246+F261+F276+F291","v":2.9},3.9,4.55,5.2,6.2,7.2,6.8000000000000007,6.4,6.65,6.9,7.45,8,7.55,7.1,9.4499999999999993,10.9,12.450000000000001,13.649999999999999,15.633333333333333,17.966666666666665,20.3,18.566666666666666,16.833333333333336,15.75,15.450000000000001,15.45,15.55,14.649999999999999,14.649999999999999,17.45,18.349999999999998,19.350000000000001,20.3,22.033333333333331,24.766666666666666,27.5,24.766666666666666,22.033333333333331,20.299999999999997,19.350000000000001,18.350000000000001,17.45,14.649999999999999,14.649999999999999,17.45,18.349999999999998,19.350000000000001,20.3,22.033333333333331,24.766666666666666,27.5,24.766666666666666,22.033333333333331,20.299999999999997,19.350000000000001,18.350000000000001,17.45,14.649999999999999,14.649999999999999,17.45,18.349999999999998,19.350000000000001,20.3,22.033333333333331,{"$f":"BR201+BR216+BR231+BR246+BR261+BR276+BR291","v":24.766666666666666},27.5,24.766666666666666,22.033333333333331,20.299999999999997,19.350000000000001,18.350000000000001,17.45,14.649999999999999,14.649999999999999,17.45,18.349999999999998,19.350000000000001,20.3,22.033333333333331,24.766666666666666,27.5,24.766666666666666,22.033333333333331,20.299999999999997,19.350000000000001,18.350000000000001,17.45,14.649999999999999,14.649999999999999,17.45,18.349999999999998,19.350000000000001,20.3,22.033333333333331]
[16,{"$f":"IF($D125<=$B$6,STDEV(OFFSET(D319,0,2*$B$11-D319+$B$12):OFFSET(D319,0,2*$B$11+D319-1+$B$12))/C319,\"\")","v":0.19071765249718026},{"$f":"IF($D125<=$B$6,AVERAGE(OFFSET(D319,0,2*$B$11-D319+$B$12):OFFSET(D319,0,2*$B$11+D319-1+$B$12)),\"\")","v":18.831250000000001},16,{"$f":"E201+E217+E233+E249+E265+E281+E297","v":1.9},{"$f":"F201+F217+F233+F249+F265+F281+F297","v":2.9},3.9,4.55,5.2,6.2,7.2,6.8000000000000007,6.4,6.65,6.9,7.45,8,7.55,7.1,7.55,9.9,11.450000000000001,13,14.983333333333331,16.966666666666665,19.3,18.966666666666665,17.233333333333334,15.5,15.200000000000001,14.9,15,15.1,15.1,15.1,15,16.8,18.100000000000001,19.399999999999999,21.783333333333335,24.166666666666664,25.5,24.166666666666664,21.783333333333335,19.399999999999999,18.100000000000001,16.8,15,15.1,15.1,15.1,15,16.8,18.100000000000001,19.399999999999999,21.783333333333335,24.166666666666664,25.5,24.166666666666664,21.783333333333335,19.399999999999999,18.100000000000001,16.8,15,15.1,15.1,15.1,15,16.8,{"$f":"BR201+BR217+BR233+BR249+BR265+BR281+BR297","v":18.100000000000001},19.399999999999999,21.783333333333335,24.166666666666664,25.5,24.166666666666664,21.783333333333335,19.399999999999999,18.100000000000001,16.8,15,15.1,15.1,15.1,15,16.8,18.100000000000001,19.399999999999999,21.783333333333335,24.166666666666664,25.5,24.166666666666664,21.783333333333335,19.399999999999999,18.100000000000001,16.8,15,15.1,15.1,15.1,15]
[17,{"$f":"IF($D126<=$B$6,STDEV(OFFSET(D320,0,2*$B$11-D320+$B$12):OFFSET(D320,0,2*$B$11+D320-1+$B$12))/C320,\"\")","v":0.18744281234757981},{"$f":"IF($D126<=$B$6,AVERAGE(OFFSET(D320,0,2*$B$11-D320+$B$12):OFFSET(D320,0,2*$B$11+D320-1+$B$12)),\"\")","v":17.723529411764705},17,{"$f":"E201+E218+E235+E252+E269+E286","v":1.9},{"$f":"F201+F218+F235+F252+F269+F286","v":2.9},3.9,4.55,5.2,6.2,7.2,6.8000000000000007,6.4,6.65,6.9,7.45,8,7.55,7.1,7.55,8,10.450000000000001,12,14.333333333333332,16.316666666666666,18.3,17.966666666666665,17.633333333333333,15.9,14.950000000000001,14.65,14.45,14.55,15.55,15.55,14.55,14.45,14.65,16.850000000000001,18.8,21.533333333333331,22.516666666666666,23.5,22.516666666666666,21.533333333333335,18.8,16.850000000000001,14.65,14.45,14.55,15.55,15.55,14.55,14.45,14.65,16.850000000000001,18.8,21.533333333333331,22.516666666666666,23.5,22.516666666666666,21.533333333333335,18.8,16.850000000000001,14.65,14.45,14.55,15.55,15.55,{"$f":"BR201+BR218+BR235+BR252+BR269+BR286","v":14.55},14.45,14.65,16.850000000000001,18.8,21.533333333333331,22.516666666666666,23.5,22.516666666666666,21.533333333333335,18.8,16.850000000000001,14.65,14.45,14.55,15.55,15.55,14.55,14.45,14.65,16.850000000000001,18.8,21.533333333333331,22.516666666666666,23.5,22.516666666666666,21.533333333333335,18.8,16.850000000000001,14.65,14.45,14.55]
[18,{"$f":"IF($D127<=$B$6,STDEV(OFFSET(D321,0,2*$B$11-D321+$B$12):OFFSET(D321,0,2*$B$11+D321-1+$B$12))/C321,\"\")","v":0.16474168096065922},{"$f":"IF($D127<=$B$6,AVERAGE(OFFSET(D321,0,2*$B$11-D321+$B$12):OFFSET(D321,0,2*$B$11+D321-1+$B$12)),\"\")","v":16.738888888888891},18,{"$f":"E201+E219+E237+E255+E273+E291","v":1.9},{"$f":"F201+F219+F237+F255+F273+F291","v":2.9},3.9,4.55,5.2,6.2,7.2,6.8000000000000007,6.4,6.65,6.9,7.45,8,7.55,7.1,7.55,8,8.5500000000000007,11,13.333333333333332,15.666666666666666,17.649999999999999,16.966666666666665,16.633333333333333,16.3,15.350000000000001,14.4,14.2,14,15,16,15,14,14.2,14.4,15.350000000000001,18.2,19.533333333333331,20.866666666666664,22.2,20.866666666666667,19.533333333333335,18.2,15.350000000000001,14.4,14.2,14,15,16,15,14,14.2,14.4,15.350000000000001,18.2,19.533333333333331,20.866666666666664,22.2,20.866666666666667,19.533333333333335,18.2,15.350000000000001,14.4,14.2,14,{"$f":"BR201+BR219+BR237+BR255+BR273+BR291","v":15},16,15,14,14.2,14.4,15.350000000000001,18.2,19.533333333333331,20.866666666666664,22.2,20.866666666666667,19.533333333333335,18.2,15.350000000000001,14.4,14.2,14,15,16,15,14,14.2,14.4,15.350000000000001,18.2,19.533333333333331,20.866666666666664,22.2,20.866666666666667,19.533333333333335,18.2,15.350000000000001]
[19,{"$f":"IF($D128<=$B$6,STDEV(OFFSET(D322,0,2*$B$11-D322+$B$12):OFFSET(D322,0,2*$B$11+D322-1+$B$12))/C322,\"\")","v":0.12860731044071552},{"$f":"IF($D128<=$B$6,AVERAGE(OFFSET(D322,0,2*$B$11-D322+$B$12):OFFSET(D322,0,2*$B$11+D322-1+$B$12)),\"\")","v":15.857894736842105},19,{"$f":"E201+E220+E239+E258+E277+E296","v":1.9},{"$f":"F201+F220+F239+F258+F277+F296","v":2.9},3.9,4.55,5.2,6.2,7.2,6.8000000000000007,6.4,6.65,6.9,7.45,8,7.55,7.1,7.55,8,8.5500000000000007,9.1,12.333333333333332,14.666666666666666,17,16.316666666666666,15.633333333333333,15.3,15.75,14.8,13.95,13.75,14.45,15.45,15.45,14.45,13.75,13.95,14.8,15.75,15.3,17.533333333333331,19.216666666666665,20.9,19.216666666666665,17.533333333333335,15.3,15.75,14.8,13.95,13.75,14.45,15.45,15.45,14.45,13.75,13.95,14.8,15.75,15.3,17.533333333333331,19.216666666666665,20.9,19.216666666666665,17.533333333333335,15.3,15.75,14.8,{"$f":"BR201+BR220+BR239+BR258+BR277+BR296","v":13.95},13.75,14.45,15.45,15.45,14.45,13.75,13.95,14.8,15.75,15.3,17.533333333333331,19.216666666666665,20.9,19.216666666666665,17.533333333333335,15.3,15.75,14.8,13.95,13.75,14.45,15.45,15.45,14.45,13.75,13.95,14.8,15.75,15.3,17.533333333333331,19.216666666666665,20.9,19.216666666666665]
[20,{"$f":"IF($D129<=$B$6,STDEV(OFFSET(D323,0,2*$B$11-D323+$B$12):OFFSET(D323,0,2*$B$11+D323-1+$B$12))/C323,\"\")","v":9.036854972195818E-2},{"$f":"IF($D129<=$B$6,AVERAGE(OFFSET(D323,0,2*$B$11-D323+$B$12):OFFSET(D323,0,2*$B$11+D323-1+$B$12)),\"\")","v":15.065000000000001},20,{"$f":"E201+E221+E241+E261+E281","v":1.9},{"$f":"F201+F221+F241+F261+F281","v":2.9},3.9,4.55,5.2,6.2,7.2,6.8000000000000007,6.4,6.65,6.9,7.45,8,7.55,7.1,7.55,8,8.5500000000000007,9.1,10.433333333333332,13.666666666666666,16,15.666666666666666,14.983333333333334,14.3,14.75,15.2,14.350000000000001,13.5,14.2,14.9,14.9,14.9,14.2,13.5,14.350000000000001,15.2,14.75,14.3,14.983333333333331,17.566666666666666,18.899999999999999,17.566666666666666,14.983333333333334,14.3,14.75,15.2,14.350000000000001,13.5,14.2,14.9,14.9,14.9,14.2,13.5,14.350000000000001,15.2,14.75,14.3,14.983333333333331,17.566666666666666,18.899999999999999,17.566666666666666,14.983333333333334,14.3,{"$f":"BR201+BR221+BR241+BR261+BR281","v":14.75},15.2,14.350000000000001,13.5,14.2,14.9,14.9,14.9,14.2,13.5,14.350000000000001,15.2,14.75,14.3,14.983333333333331,17.566666666666666,18.899999999999999,17.566666666666666,14.983333333333334,14.3,14.75,15.2,14.350000000000001,13.5,14.2,14.9,14.9,14.9,14.2,13.5,14.350000000000001,15.2,14.75,14.3,14.983333333333331]
[21,{"$f":"IF($D130<=$B$6,STDEV(OFFSET(D324,0,2*$B$11-D324+$B$12):OFFSET(D324,0,2*$B$11+D324-1+$B$12))/C324,\"\")","v":4.7877875642953885E-2},{"$f":"IF($D130<=$B$6,AVERAGE(OFFSET(D324,0,2*$B$11-D324+$B$12):OFFSET(D324,0,2*$B$11+D324-1+$B$12)),\"\")","v":14.347619047619045},21,{"$f":"E201+E222+E243+E264+E285","v":1.9},{"$f":"F201+F222+F243+F264+F285","v":2.9},3.9,4.55,5.2,6.2,7.2,6.8000000000000007,6.4,6.65,6.9,7.45,8,7.55,7.1,7.55,8,8.5500000000000007,9.1,10.433333333333332,11.766666666666666,15,14.666666666666666,14.333333333333334,13.649999999999999,13.75,14.2,14.75,13.9,13.95,14.65,14.350000000000001,14.350000000000001,14.65,13.95,13.9,14.75,14.2,13.75,13.649999999999999,14.333333333333332,14.666666666666666,16.899999999999999,14.666666666666666,14.333333333333334,13.649999999999999,13.75,14.2,14.75,13.9,13.95,14.65,14.350000000000001,14.350000000000001,14.65,13.95,13.9,14.75,14.2,13.75,13.649999999999999,14.333333333333332,14.666666666666666,16.899999999999999,14.666666666666666,{"$f":"BR201+BR222+BR243+BR264+BR285","v":14.333333333333334},13.649999999999999,13.75,14.2,14.75,13.9,13.95,14.65,14.350000000000001,14.350000000000001,14.65,13.95,13.9,14.75,14.2,13.75,13.649999999999999,14.333333333333332,14.666666666666666,16.899999999999999,14.666666666666666,14.333333333333334,13.649999999999999,13.75,14.2,14.75,13.9,13.95,14.65,14.350000000000001,14.350000000000001,14.65,13.95,13.9,14.75,14.2]
[22,{"$f":"IF($D131<=$B$6,STDEV(OFFSET(D325,0,2*$B$11-D325+$B$12):OFFSET(D325,0,2*$B$11+D325-1+$B$12))/C325,\"\")","v":3.7631137014222708E-2},{"$f":"IF($D131<=$B$6,AVERAGE(OFFSET(D325,0,2*$B$11-D325+$B$12):OFFSET(D325,0,2*$B$11+D325-1+$B$12)),\"\")","v":13.695454545454549},22,{"$f":"E201+E223+E245+E267+E289","v":1.9},{"$f":"F201+F223+F245+F267+F289","v":2.9},3.9,4.55,5.2,6.2,7.2,6.8000000000000007,6.4,6.65,6.9,7.45,8,7.55,7.1,7.55,8,8.5500000000000007,9.1,10.433333333333332,11.766666666666666,13.1,13.666666666666666,13.333333333333334,13,13.100000000000001,13.2,13.75,14.3,14.350000000000001,14.4,14.100000000000001,13.8,14.100000000000001,14.4,14.350000000000001,14.3,13.75,13.2,13.100000000000001,13,13.333333333333332,13.666666666666666,13.1,13.666666666666666,13.333333333333334,13,13.100000000000001,13.2,13.75,14.3,14.350000000000001,14.4,14.100000000000001,13.8,14.100000000000001,14.4,14.350000000000001,14.3,13.75,13.2,13.100000000000001,13,13.333333333333332,13.666666666666666,{"$f":"BR201+BR223+BR245+BR267+BR289","v":13.1},13.666666666666666,13.333333333333334,13,13.100000000000001,13.2,13.75,14.3,14.350000000000001,14.4,14.100000000000001,13.8,14.100000000000001,14.4,14.350000000000001,14.3,13.75,13.2,13.100000000000001,13,13.333333333333332,13.666666666666666,13.1,13.666666666666666,13.333333333333334,13,13.100000000000001,13.2,13.75,14.3,14.350000000000001,14.4,14.100000000000001,13.8,14.100000000000001,14.4,14.350000000000001]
[23,{"$f":"IF($D132<=$B$6,STDEV(OFFSET(D326,0,2*$B$11-D326+$B$12):OFFSET(D326,0,2*$B$11+D326-1+$B$12))/C326,\"\")","v":7.4933878677919646E-2},{"$f":"IF($D132<=$B$6,AVERAGE(OFFSET(D326,0,2*$B$11-D326+$B$12):OFFSET(D326,0,2*$B$11+D326-1+$B$12)),\"\")","v":13.1},23,{"$f":"E201+E224+E247+E270+E293","v":1.9},{"$f":"F201+F224+F247+F270+F293","v":2.9},3.9,4.55,5.2,6.2,7.2,6.8000000000000007,6.4,6.65,6.9,7.45,8,7.55,7.1,7.55,8,8.5500000000000007,9.1,10.433333333333332,11.766666666666666,13.1,11.766666666666666,12.333333333333334,12,12.450000000000001,12.55,12.75,13.3,14.75,14.8,13.850000000000001,13.55,13.55,13.850000000000001,14.8,14.75,13.3,12.75,12.55,12.450000000000001,12,12.333333333333332,11.766666666666666,13.1,11.766666666666666,12.333333333333334,12,12.450000000000001,12.55,12.75,13.3,14.75,14.8,13.850000000000001,13.55,13.55,13.850000000000001,14.8,14.75,13.3,12.75,12.55,12.450000000000001,12,{"$f":"BR201+BR224+BR247+BR270+BR293","v":12.333333333333332},11.766666666666666,13.1,11.766666666666666,12.333333333333334,12,12.450000000000001,12.55,12.75,13.3,14.75,14.8,13.850000000000001,13.55,13.55,13.850000000000001,14.8,14.75,13.3,12.75,12.55,12.450000000000001,12,12.333333333333332,11.766666666666666,13.1,11.766666666666666,12.333333333333334,12,12.450000000000001,12.55,12.75,13.3,14.75,14.8,13.850000000000001,13.55,13.55]
[24,{"$f":"IF($D133<=$B$6,STDEV(OFFSET(D327,0,2*$B$11-D327+$B$12):OFFSET(D327,0,2*$B$11+D327-1+$B$12))/C327,\"\")","v":0.10835145262756793},{"$f":"IF($D133<=$B$6,AVERAGE(OFFSET(D327,0,2*$B$11-D327+$B$12):OFFSET(D327,0,2*$B$11+D327-1+$B$12)),\"\")","v":12.554166666666669},24,{"$f":"E201+E225+E249+E273+E297","v":1.9},{"$f":"F201+F225+F249+F273+F297","v":2.9},3.9,4.55,5.2,6.2,7.2,6.8000000000000007,6.4,6.65,6.9,7.45,8,7.55,7.1,7.55,8,8.5500000000000007,9.1,10.433333333333332,11.766666666666666,13.1,11.766666666666666,10.433333333333334,11,11.450000000000001,11.9,12.1,12.3,13.75,15.2,14.25,13.3,13.3,13.3,14.25,15.2,13.75,12.3,12.1,11.9,11.450000000000001,11,10.433333333333332,11.766666666666666,13.1,11.766666666666666,10.433333333333334,11,11.450000000000001,11.9,12.1,12.3,13.75,15.2,14.25,13.3,13.3,13.3,14.25,15.2,13.75,12.3,12.1,11.9,{"$f":"BR201+BR225+BR249+BR273+BR297","v":11.450000000000001},11,10.433333333333332,11.766666666666666,13.1,11.766666666666666,10.433333333333334,11,11.450000000000001,11.9,12.1,12.3,13.75,15.2,14.25,13.3,13.3,13.3,14.25,15.2,13.75,12.3,12.1,11.9,11.450000000000001,11,10.433333333333332,11.766666666666666,13.1,11.766666666666666,10.433333333333334,11,11.450000000000001,11.9,12.1,12.3,13.75,15.2,14.25]
[25,{"$f":"IF($D134<=$B$6,STDEV(OFFSET(D328,0,2*$B$11-D328+$B$12):OFFSET(D328,0,2*$B$11+D328-1+$B$12))/C328,\"\")","v":0.13399077007269866},{"$f":"IF($D134<=$B$6,AVERAGE(OFFSET(D328,0,2*$B$11-D328+$B$12):OFFSET(D328,0,2*$B$11+D328-1+$B$12)),\"\")","v":12.052},25,{"$f":"E201+E226+E251+E276","v":1.9},{"$f":"F201+F226+F251+F276","v":2.9},3.9,4.55,5.2,6.2,7.2,6.8000000000000007,6.4,6.65,6.9,7.45,8,7.55,7.1,7.55,8,8.5500000000000007,9.1,10.433333333333332,11.766666666666666,13.1,11.766666666666666,10.433333333333334,9.1,10.450000000000001,10.9,11.45,11.649999999999999,12.75,14.2,14.65,13.700000000000001,13.05,13.05,13.700000000000001,14.65,14.2,12.75,11.649999999999999,11.45,10.9,10.450000000000001,9.1,10.433333333333332,11.766666666666666,13.1,11.766666666666666,10.433333333333334,9.1,10.450000000000001,10.9,11.45,11.649999999999999,12.75,14.2,14.65,13.700000000000001,13.05,13.05,13.700000000000001,14.65,14.2,12.75,11.649999999999999,{"$f":"BR201+BR226+BR251+BR276","v":11.45},10.9,10.450000000000001,9.1,10.433333333333332,11.766666666666666,13.1,11.766666666666666,10.433333333333334,9.1,10.450000000000001,10.9,11.45,11.649999999999999,12.75,14.2,14.65,13.700000000000001,13.05,13.05,13.700000000000001,14.65,14.2,12.75,11.649999999999999,11.45,10.9,10.450000000000001,9.1,10.433333333333332,11.766666666666666,13.1,11.766666666666666,10.433333333333334,9.1,8.5500000000000007,8,7.55,7.1,7.55]
[26,{"$f":"IF($D135<=$B$6,STDEV(OFFSET(D329,0,2*$B$11-D329+$B$12):OFFSET(D329,0,2*$B$11+D329-1+$B$12))/C329,\"\")","v":0.15292477917339323},{"$f":"IF($D135<=$B$6,AVERAGE(OFFSET(D329,0,2*$B$11-D329+$B$12):OFFSET(D329,0,2*$B$11+D329-1+$B$12)),\"\")","v":11.588461538461541},26,{"$f":"E201+E227+E253+E279","v":1.9},{"$f":"F201+F227+F253+F279","v":2.9},3.9,4.55,5.2,6.2,7.2,6.8000000000000007,6.4,6.65,6.9,7.45,8,7.55,7.1,7.55,8,8.5500000000000007,9.1,10.433333333333332,11.766666666666666,13.1,11.766666666666666,10.433333333333334,9.1,8.5500000000000007,9.9,10.45,11,12.1,13.2,13.65,14.100000000000001,13.450000000000001,12.8,13.450000000000001,14.100000000000001,13.65,13.2,12.1,11,10.45,9.9,8.5500000000000007,9.1,10.433333333333332,11.766666666666666,13.1,11.766666666666666,10.433333333333334,9.1,8.5500000000000007,9.9,10.45,11,12.1,13.2,13.65,14.100000000000001,13.450000000000001,12.8,13.450000000000001,14.100000000000001,13.65,13.2,{"$f":"BR201+BR227+BR253+BR279","v":12.1},11,10.45,9.9,8.5500000000000007,9.1,10.433333333333332,11.766666666666666,13.1,11.766666666666666,10.433333333333334,9.1,8.5500000000000007,9.9,10.45,11,12.1,13.2,13.65,14.100000000000001,13.450000000000001,12.8,13.450000000000001,14.100000000000001,13.65,13.2,12.1,11,10.45,9.9,8.5500000000000007,9.1,10.433333333333332,11.766666666666666,13.1,11.766666666666666,10.433333333333334,9.1,8.5500000000000007,8,7.55]
[27,{"$f":"IF($D136<=$B$6,STDEV(OFFSET(D330,0,2*$B$11-D330+$B$12):OFFSET(D330,0,2*$B$11+D330-1+$B$12))/C330,\"\")","v":0.16964524417931881},{"$f":"IF($D136<=$B$6,AVERAGE(OFFSET(D330,0,2*$B$11-D330+$B$12):OFFSET(D330,0,2*$B$11+D330-1+$B$12)),\"\")","v":11.159259259259262},27,{"$f":"E201+E228+E255+E282","v":1.9},{"$f":"F201+F228+F255+F282","v":2.9},3.9,4.55,5.2,6.2,7.2,6.8000000000000007,6.4,6.65,6.9,7.45,8,7.55,7.1,7.55,8,8.5500000000000007,9.1,10.433333333333332,11.766666666666666,13.1,11.766666666666666,10.433333333333334,9.1,8.5500000000000007,8,9.4499999999999993,10,11.45,12.55,12.65,13.100000000000001,13.850000000000001,13.200000000000001,13.200000000000001,13.850000000000001,13.100000000000001,12.65,12.55,11.45,10,9.4499999999999993,8,8.5500000000000007,9.1,10.433333333333332,11.766666666666666,13.1,11.766666666666666,10.433333333333334,9.1,8.5500000000000007,8,9.4499999999999993,10,11.45,12.55,12.65,13.100000000000001,13.850000000000001,13.200000000000001,13.200000000000001,13.850000000000001,13.100000000000001,{"$f":"BR201+BR228+BR255+BR282","v":12.65},12.55,11.45,10,9.4499999999999993,8,8.5500000000000007,9.1,10.433333333333332,11.766666666666666,13.1,11.766666666666666,10.433333333333334,9.1,8.5500000000000007,8,9.4499999999999993,10,11.45,12.55,12.65,13.100000000000001,13.850000000000001,13.200000000000001,13.200000000000001,13.850000000000001,13.100000000000001,12.65,12.55,11.45,10,9.4499999999999993,8,8.5500000000000007,9.1,10.433333333333332,11.766666666666666,13.1,11.766666666666666,10.433333333333334,9.1,8.5500000000000007]
[28,{"$f":"IF($D137<=$B$6,STDEV(OFFSET(D331,0,2*$B$11-D331+$B$12):OFFSET(D331,0,2*$B$11+D331-1+$B$12))/C331,\"\")","v":0.18367259062555194},{"$f":"IF($D137<=$B$6,AVERAGE(OFFSET(D331,0,2*$B$11-D331+$B$12):OFFSET(D331,0,2*$B$11+D331-1+$B$12)),\"\")","v":10.760714285714288},28,{"$f":"E201+E229+E257+E285","v":1.9},{"$f":"F201+F229+F257+F285","v":2.9},3.9,4.55,5.2,6.2,7.2,6.8000000000000007,6.4,6.65,6.9,7.45,8,7.55,7.1,7.55,8,8.5500000000000007,9.1,10.433333333333332,11.766666666666666,13.1,11.766666666666666,10.433333333333334,9.1,8.5500000000000007,8,7.55,9,10.45,11.9,12,12.100000000000001,12.850000000000001,13.600000000000001,13.600000000000001,13.600000000000001,12.850000000000001,12.100000000000001,12,11.9,10.45,9,7.55,8,8.5500000000000007,9.1,10.433333333333332,11.766666666666666,13.1,11.766666666666666,10.433333333333334,9.1,8.5500000000000007,8,7.55,9,10.45,11.9,12,12.100000000000001,12.850000000000001,13.600000000000001,13.600000000000001,13.600000000000001,{"$f":"BR201+BR229+BR257+BR285","v":12.850000000000001},12.100000000000001,12,11.9,10.45,9,7.55,8,8.5500000000000007,9.1,10.433333333333332,11.766666666666666,13.1,11.766666666666666,10.433333333333334,9.1,8.5500000000000007,8,7.55,9,10.45,11.9,12,12.100000000000001,12.850000000000001,13.600000000000001,13.600000000000001,13.600000000000001,12.850000000000001,12.100000000000001,12,11.9,10.45,9,7.55,8,8.5500000000000007,9.1,10.433333333333332,11.766666666666666,13.1,11.766666666666666,10.433333333333334]
[29,{"$f":"IF($D138<=$B$6,STDEV(OFFSET(D332,0,2*$B$11-D332+$B$12):OFFSET(D332,0,2*$B$11+D332-1+$B$12))/C332,\"\")","v":0.19494448270475656},{"$f":"IF($D138<=$B$6,AVERAGE(OFFSET(D332,0,2*$B$11-D332+$B$12):OFFSET(D332,0,2*$B$11+D332-1+$B$12)),\"\")","v":10.389655172413798},29,{"$f":"E201+E230+E259+E288","v":1.9},{"$f":"F201+F230+F259+F288","v":2.9},3.9,4.55,5.2,6.2,7.2,6.8000000000000007,6.4,6.65,6.9,7.45,8,7.55,7.1,7.55,8,8.5500000000000007,9.1,10.433333333333332,11.766666666666666,13.1,11.766666666666666,10.433333333333334,9.1,8.5500000000000007,8,7.55,7.1,9.4499999999999993,10.9,11.35,11.45,11.850000000000001,12.600000000000001,14,14,12.600000000000001,11.850000000000001,11.45,11.35,10.9,9.4499999999999993,7.1,7.55,8,8.5500000000000007,9.1,10.433333333333332,11.766666666666666,13.1,11.766666666666666,10.433333333333334,9.1,8.5500000000000007,8,7.55,7.1,9.4499999999999993,10.9,11.35,11.45,11.850000000000001,12.600000000000001,14,{"$f":"BR201+BR230+BR259+BR288","v":14},12.600000000000001,11.850000000000001,11.45,11.35,10.9,9.4499999999999993,7.1,7.55,8,8.5500000000000007,9.1,10.433333333333332,11.766666666666666,13.1,11.766666666666666,10.433333333333334,9.1,8.5500000000000007,8,7.55,7.1,9.4499999999999993,10.9,11.35,11.45,11.850000000000001,12.600000000000001,14,14,12.600000000000001,11.850000000000001,11.45,11.35,10.9,9.4499999999999993,7.1,7.55,8,8.5500000000000007,9.1,10.433333333333332,11.766666666666666,13.1]
[30,{"$f":"IF($D139<=$B$6,STDEV(OFFSET(D333,0,2*$B$11-D333+$B$12):OFFSET(D333,0,2*$B$11+D333-1+$B$12))/C333,\"\")","v":0.19891033611633702},{"$f":"IF($D139<=$B$6,AVERAGE(OFFSET(D333,0,2*$B$11-D333+$B$12):OFFSET(D333,0,2*$B$11+D333-1+$B$12)),\"\")","v":10.043333333333335},30,{"$f":"E201+E231+E261+E291","v":1.9},{"$f":"F201+F231+F261+F291","v":2.9},3.9,4.55,5.2,6.2,7.2,6.8000000000000007,6.4,6.65,6.9,7.45,8,7.55,7.1,7.55,8,8.5500000000000007,9.1,10.433333333333332,11.766666666666666,13.1,11.766666666666666,10.433333333333334,9.1,8.5500000000000007,8,7.55,7.1,7.55,9.9,10.35,10.8,11.2,11.600000000000001,13,14.4,13,11.600000000000001,11.2,10.8,10.35,9.9,7.55,7.1,7.55,8,8.5500000000000007,9.1,10.433333333333332,11.766666666666666,13.1,11.766666666666666,10.433333333333334,9.1,8.5500000000000007,8,7.55,7.1,7.55,9.9,10.35,10.8,11.2,11.600000000000001,{"$f":"BR201+BR231+BR261+BR291","v":13},14.4,13,11.600000000000001,11.2,10.8,10.35,9.9,7.55,7.1,7.55,8,8.5500000000000007,9.1,10.433333333333332,11.766666666666666,13.1,11.766666666666666,10.433333333333334,9.1,8.5500000000000007,8,7.55,7.1,7.55,9.9,10.35,10.8,11.2,11.600000000000001,13,14.4,13,11.600000000000001,11.2,10.8,10.35,9.9,7.55,7.1,7.55,8,8.5500000000000007,9.1,10.433333333333332]
[31,{"$f":"IF($D140<=$B$6,STDEV(OFFSET(D334,0,2*$B$11-D334+$B$12):OFFSET(D334,0,2*$B$11+D334-1+$B$12))/C334,\"\")","v":0.19618730712503973},{"$f":"IF($D140<=$B$6,AVERAGE(OFFSET(D334,0,2*$B$11-D334+$B$12):OFFSET(D334,0,2*$B$11+D334-1+$B$12)),\"\")","v":9.7193548387096822},31,{"$f":"E201+E232+E263+E294","v":1.9},{"$f":"F201+F232+F263+F294","v":2.9},3.9,4.55,5.2,6.2,7.2,6.8000000000000007,6.4,6.65,6.9,7.45,8,7.55,7.1,7.55,8,8.5500000000000007,9.1,10.433333333333332,11.766666666666666,13.1,11.766666666666666,10.433333333333334,9.1,8.5500000000000007,8,7.55,7.1,7.55,8,9.35,9.8000000000000007,10.55,10.95,12,13.4,13.4,12,10.95,10.55,9.8000000000000007,9.35,8,7.55,7.1,7.55,8,8.5500000000000007,9.1,10.433333333333332,11.766666666666666,13.1,11.766666666666666,10.433333333333334,9.1,8.5500000000000007,8,7.55,7.1,7.55,8,9.35,9.8000000000000007,10.55,{"$f":"BR201+BR232+BR263+BR294","v":10.95},12,13.4,13.4,12,10.95,10.55,9.8000000000000007,9.35,8,7.55,7.1,7.55,8,8.5500000000000007,9.1,10.433333333333332,11.766666666666666,13.1,11.766666666666666,10.433333333333334,9.1,8.5500000000000007,8,7.55,7.1,7.55,8,9.35,9.8000000000000007,10.55,10.95,12,13.4,13.4,12,10.95,10.55,9.8000000000000007,9.35,8,7.55,7.1,7.55,8,8.5500000000000007]
[32,{"$f":"IF($D141<=$B$6,STDEV(OFFSET(D335,0,2*$B$11-D335+$B$12):OFFSET(D335,0,2*$B$11+D335-1+$B$12))/C335,\"\")","v":0.1942284159085805},{"$f":"IF($D141<=$B$6,AVERAGE(OFFSET(D335,0,2*$B$11-D335+$B$12):OFFSET(D335,0,2*$B$11+D335-1+$B$12)),\"\")","v":9.4156250000000021},32,{"$f":"E201+E233+E265+E297","v":1.9},{"$f":"F201+F233+F265+F297","v":2.9},3.9,4.55,5.2,6.2,7.2,6.8000000000000007,6.4,6.65,6.9,7.45,8,7.55,7.1,7.55,8,8.5500000000000007,9.1,10.433333333333332,11.766666666666666,13.1,11.766666666666666,10.433333333333334,9.1,8.5500000000000007,8,7.55,7.1,7.55,8,7.45,8.8000000000000007,9.5500000000000007,10.3,11.350000000000001,12.4,12.4,12.4,11.350000000000001,10.3,9.5500000000000007,8.8000000000000007,7.45,8,7.55,7.1,7.55,8,8.5500000000000007,9.1,10.433333333333332,11.766666666666666,13.1,11.766666666666666,10.433333333333334,9.1,8.5500000000000007,8,7.55,7.1,7.55,8,7.45,8.8000000000000007,{"$f":"BR201+BR233+BR265+BR297","v":9.5500000000000007},10.3,11.350000000000001,12.4,12.4,12.4,11.350000000000001,10.3,9.5500000000000007,8.8000000000000007,7.45,8,7.55,7.1,7.55,8,8.5500000000000007,9.1,10.433333333333332,11.766666666666666,13.1,11.766666666666666,10.433333333333334,9.1,8.5500000000000007,8,7.55,7.1,7.55,8,7.45,8.8000000000000007,9.5500000000000007,10.3,11.350000000000001,12.4,12.4,12.4,11.350000000000001,10.3,9.5500000000000007,8.8000000000000007,7.45,8,7.55,7.1,7.55]
[33,{"$f":"IF($D142<=$B$6,STDEV(OFFSET(D336,0,2*$B$11-D336+$B$12):OFFSET(D336,0,2*$B$11+D336-1+$B$12))/C336,\"\")","v":0.19437164454337358},{"$f":"IF($D142<=$B$6,AVERAGE(OFFSET(D336,0,2*$B$11-D336+$B$12):OFFSET(D336,0,2*$B$11+D336-1+$B$12)),\"\")","v":9.1303030303030308},33,{"$f":"E201+E234+E267+E300","v":1.9},{"$f":"F201+F234+F267+F300","v":2.9},3.9,4.55,5.2,6.2,7.2,6.8000000000000007,6.4,6.65,6.9,7.45,8,7.55,7.1,7.55,8,8.5500000000000007,9.1,10.433333333333332,11.766666666666666,13.1,11.766666666666666,10.433333333333334,9.1,8.5500000000000007,8,7.55,7.1,7.55,8,7.45,6.9,8.5500000000000007,9.3000000000000007,10.700000000000001,11.75,11.4,11.4,11.75,10.700000000000001,9.3000000000000007,8.5500000000000007,6.9,7.45,8,7.55,7.1,7.55,8,8.5500000000000007,9.1,10.433333333333332,11.766666666666666,13.1,11.766666666666666,10.433333333333334,9.1,8.5500000000000007,8,7.55,7.1,7.55,8,7.45,{"$f":"BR201+BR234+BR267+BR300","v":6.9},8.5500000000000007,9.3000000000000007,10.700000000000001,11.75,11.4,11.4,11.75,10.700000000000001,9.3000000000000007,8.5500000000000007,6.9,7.45,8,7.55,7.1,7.55,8,8.5500000000000007,9.1,10.433333333333332,11.766666666666666,13.1,11.766666666666666,10.433333333333334,9.1,8.5500000000000007,8,7.55,7.1,7.55,8,7.45,6.9,8.5500000000000007,9.3000000000000007,10.700000000000001,11.75,11.4,11.4,11.75,10.700000000000001,9.3000000000000007,8.5500000000000007,6.9,7.45,8,7.55]
[34,{"$f":"IF($D143<=$B$6,STDEV(OFFSET(D337,0,2*$B$11-D337+$B$12):OFFSET(D337,0,2*$B$11+D337-1+$B$12))/C337,\"\")","v":0.19415264728522622},{"$f":"IF($D143<=$B$6,AVERAGE(OFFSET(D337,0,2*$B$11-D337+$B$12):OFFSET(D337,0,2*$B$11+D337-1+$B$12)),\"\")","v":8.8617647058823543},34,{"$f":"E201+E235+E269","v":1.9},{"$f":"F201+F235+F269","v":2.9},3.9,4.55,5.2,6.2,7.2,6.8000000000000007,6.4,6.65,6.9,7.45,8,7.55,7.1,7.55,8,8.5500000000000007,9.1,10.433333333333332,11.766666666666666,13.1,11.766666666666666,10.433333333333334,9.1,8.5500000000000007,8,7.55,7.1,7.55,8,7.45,6.9,6.65,8.3000000000000007,9.7000000000000011,11.1,10.75,10.4,10.75,11.1,9.7000000000000011,8.3000000000000007,6.65,6.9,7.45,8,7.55,7.1,7.55,8,8.5500000000000007,9.1,10.433333333333332,11.766666666666666,13.1,11.766666666666666,10.433333333333334,9.1,8.5500000000000007,8,7.55,7.1,7.55,8,{"$f":"BR201+BR235+BR269","v":7.45},6.9,6.65,8.3000000000000007,9.7000000000000011,11.1,10.75,10.4,10.75,11.1,9.7000000000000011,8.3000000000000007,6.65,6.9,7.45,8,7.55,7.1,7.55,8,8.5500000000000007,9.1,10.433333333333332,11.766666666666666,13.1,11.766666666666666,10.433333333333334,9.1,8.5500000000000007,8,7.55,7.1,7.55,8,7.45,6.9,6.65,6.4,6.8000000000000007,7.2,6.2,5.2,4.55,3.9,2.9,1.9,0,0,0]
[35,{"$f":"IF($D144<=$B$6,STDEV(OFFSET(D338,0,2*$B$11-D338+$B$12):OFFSET(D338,0,2*$B$11+D338-1+$B$12))/C338,\"\")","v":0.19302062886235336},{"$f":"IF($D144<=$B$6,AVERAGE(OFFSET(D338,0,2*$B$11-D338+$B$12):OFFSET(D338,0,2*$B$11+D338-1+$B$12)),\"\")","v":8.6085714285714321},35,{"$f":"E201+E236+E271","v":1.9},{"$f":"F201+F236+F271","v":2.9},3.9,4.55,5.2,6.2,7.2,6.8000000000000007,6.4,6.65,6.9,7.45,8,7.55,7.1,7.55,8,8.5500000000000007,9.1,10.433333333333332,11.766666666666666,13.1,11.766666666666666,10.433333333333334,9.1,8.5500000000000007,8,7.55,7.1,7.55,8,7.45,6.9,6.65,6.4,8.7000000000000011,10.1,10.1,9.75,9.75,10.1,10.1,8.7000000000000011,6.4,6.65,6.9,7.45,8,7.55,7.1,7.55,8,8.5500000000000007,9.1,10.433333333333332,11.766666666666666,13.1,11.766666666666666,10.433333333333334,9.1,8.5500000000000007,8,7.55,7.1,7.55,{"$f":"BR201+BR236+BR271","v":8},7.45,6.9,6.65,6.4,8.7000000000000011,10.1,10.1,9.75,9.75,10.1,10.1,8.7000000000000011,6.4,6.65,6.9,7.45,8,7.55,7.1,7.55,8,8.5500000000000007,9.1,10.433333333333332,11.766666666666666,13.1,11.766666666666666,10.433333333333334,9.1,8.5500000000000007,8,7.55,7.1,7.55,8,7.45,6.9,6.65,6.4,6.8000000000000007,7.2,6.2,5.2,4.55,3.9,2.9,1.9,0,0]
[36,{"$f":"IF($D145<=$B$6,STDEV(OFFSET(D339,0,2*$B$11-D339+$B$12):OFFSET(D339,0,2*$B$11+D339-1+$B$12))/C339,\"\")","v":0.19014774472028431},{"$f":"IF($D145<=$B$6,AVERAGE(OFFSET(D339,0,2*$B$11-D339+$B$12):OFFSET(D339,0,2*$B$11+D339-1+$B$12)),\"\")","v":8.3694444444444471},36,{"$f":"E201+E237+E273","v":1.9},{"$f":"F201+F237+F273","v":2.9},3.9,4.55,5.2,6.2,7.2,6.8000000000000007,6.4,6.65,6.9,7.45,8,7.55,7.1,7.55,8,8.5500000000000007,9.1,10.433333333333332,11.766666666666666,13.1,11.766666666666666,10.433333333333334,9.1,8.5500000000000007,8,7.55,7.1,7.55,8,7.45,6.9,6.65,6.4,6.8000000000000007,9.1,9.1,9.1,9.1,9.1,9.1,9.1,6.8000000000000007,6.4,6.65,6.9,7.45,8,7.55,7.1,7.55,8,8.5500000000000007,9.1,10.433333333333332,11.766666666666666,13.1,11.766666666666666,10.433333333333334,9.1,8.5500000000000007,8,7.55,7.1,{"$f":"BR201+BR237+BR273","v":7.55},8,7.45,6.9,6.65,6.4,6.8000000000000007,9.1,9.1,9.1,9.1,9.1,9.1,9.1,6.8000000000000007,6.4,6.65,6.9,7.45,8,7.55,7.1,7.55,8,8.5500000000000007,9.1,10.433333333333332,11.766666666666666,13.1,11.766666666666666,10.433333333333334,9.1,8.5500000000000007,8,7.55,7.1,7.55,8,7.45,6.9,6.65,6.4,6.8000000000000007,7.2,6.2,5.2,4.55,3.9,2.9,1.9,0]
[37,{"$f":"IF($D146<=$B$6,STDEV(OFFSET(D340,0,2*$B$11-D340+$B$12):OFFSET(D340,0,2*$B$11+D340-1+$B$12))/C340,\"\")","v":0.18993697358151346},{"$f":"IF($D146<=$B$6,AVERAGE(OFFSET(D340,0,2*$B$11-D340+$B$12):OFFSET(D340,0,2*$B$11+D340-1+$B$12)),\"\")","v":8.143243243243246},37,{"$f":"E201+E238+E275","v":1.9},{"$f":"F201+F238+F275","v":2.9},3.9,4.55,5.2,6.2,7.2,6.8000000000000007,6.4,6.65,6.9,7.45,8,7.55,7.1,7.55,8,8.5500000000000007,9.1,10.433333333333332,11.766666666666666,13.1,11.766666666666666,10.433333333333334,9.1,8.5500000000000007,8,7.55,7.1,7.55,8,7.45,6.9,6.65,6.4,6.8000000000000007,7.2,8.1,8.1,8.4499999999999993,8.4499999999999993,8.1,8.1,7.2,6.8000000000000007,6.4,6.65,6.9,7.45,8,7.55,7.1,7.55,8,8.5500000000000007,9.1,10.433333333333332,11.766666666666666,13.1,11.766666666666666,10.433333333333334,9.1,8.5500000000000007,8,7.55,{"$f":"BR201+BR238+BR275","v":7.1},7.55,8,7.45,6.9,6.65,6.4,6.8000000000000007,7.2,8.1,8.1,8.4499999999999993,8.4499999999999993,8.1,8.1,7.2,6.8000000000000007,6.4,6.65,6.9,7.45,8,7.55,7.1,7.55,8,8.5500000000000007,9.1,10.433333333333332,11.766666666666666,13.1,11.766666666666666,10.433333333333334,9.1,8.5500000000000007,8,7.55,7.1,7.55,8,7.45,6.9,6.65,6.4,6.8000000000000007,7.2,6.2,5.2,4.55,3.9,2.9,1.9]
[38,{"$f":"IF($D147<=$B$6,STDEV(OFFSET(D341,0,2*$B$11-D341+$B$12):OFFSET(D341,0,2*$B$11+D341-1+$B$12))/C341,\"\")","v":0.20198755774061525},{"$f":"IF($D147<=$B$6,AVERAGE(OFFSET(D341,0,2*$B$11-D341+$B$12):OFFSET(D341,0,2*$B$11+D341-1+$B$12)),\"\")","v":7.9289473684210563},38,{"$f":"E201+E239+E277","v":1.9},{"$f":"F201+F239+F277","v":2.9},3.9,4.55,5.2,6.2,7.2,6.8000000000000007,6.4,6.65,6.9,7.45,8,7.55,7.1,7.55,8,8.5500000000000007,9.1,10.433333333333332,11.766666666666666,13.1,11.766666666666666,10.433333333333334,9.1,8.5500000000000007,8,7.55,7.1,7.55,8,7.45,6.9,6.65,6.4,6.8000000000000007,7.2,6.2,7.1,7.4499999999999993,7.8,7.4499999999999993,7.1,6.2,7.2,6.8000000000000007,6.4,6.65,6.9,7.45,8,7.55,7.1,7.55,8,8.5500000000000007,9.1,10.433333333333332,11.766666666666666,13.1,11.766666666666666,10.433333333333334,9.1,8.5500000000000007,8,{"$f":"BR201+BR239+BR277","v":7.55},7.1,7.55,8,7.45,6.9,6.65,6.4,6.8000000000000007,7.2,6.2,7.1,7.4499999999999993,7.8,7.4499999999999993,7.1,6.2,7.2,6.8000000000000007,6.4,6.65,6.9,7.45,8,7.55,7.1,7.55,8,8.5500000000000007,9.1,10.433333333333332,11.766666666666666,13.1,11.766666666666666,10.433333333333334,9.1,8.5500000000000007,8,7.55,7.1,7.55,8,7.45,6.9,6.65,6.4,6.8000000000000007,7.2,6.2,5.2,4.55,3.9,2.9]
[39,{"$f":"IF($D148<=$B$6,STDEV(OFFSET(D342,0,2*$B$11-D342+$B$12):OFFSET(D342,0,2*$B$11+D342-1+$B$12))/C342,\"\")","v":0.22326351138827691},{"$f":"IF($D148<=$B$6,AVERAGE(OFFSET(D342,0,2*$B$11-D342+$B$12):OFFSET(D342,0,2*$B$11+D342-1+$B$12)),\"\")","v":7.7256410256410257},39,{"$f":"E201+E240+E279","v":1.9},{"$f":"F201+F240+F279","v":2.9},3.9,4.55,5.2,6.2,7.2,6.8000000000000007,6.4,6.65,6.9,7.45,8,7.55,7.1,7.55,8,8.5500000000000007,9.1,10.433333333333332,11.766666666666666,13.1,11.766666666666666,10.433333333333334,9.1,8.5500000000000007,8,7.55,7.1,7.55,8,7.45,6.9,6.65,6.4,6.8000000000000007,7.2,6.2,5.2,6.4499999999999993,6.8,6.8,6.4499999999999993,5.2,6.2,7.2,6.8000000000000007,6.4,6.65,6.9,7.45,8,7.55,7.1,7.55,8,8.5500000000000007,9.1,10.433333333333332,11.766666666666666,13.1,11.766666666666666,10.433333333333334,9.1,8.5500000000000007,{"$f":"BR201+BR240+BR279","v":8},7.55,7.1,7.55,8,7.45,6.9,6.65,6.4,6.8000000000000007,7.2,6.2,5.2,6.4499999999999993,6.8,6.8,6.4499999999999993,5.2,6.2,7.2,6.8000000000000007,6.4,6.65,6.9,7.45,8,7.55,7.1,7.55,8,8.5500000000000007,9.1,10.433333333333332,11.766666666666666,13.1,11.766666666666666,10.433333333333334,9.1,8.5500000000000007,8,7.55,7.1,7.55,8,7.45,6.9,6.65,6.4,6.8000000000000007,7.2,6.2,5.2,4.55,3.9]
[40,{"$f":"IF($D149<=$B$6,STDEV(OFFSET(D343,0,2*$B$11-D343+$B$12):OFFSET(D343,0,2*$B$11+D343-1+$B$12))/C343,\"\")","v":0.24937652813452083},{"$f":"IF($D149<=$B$6,AVERAGE(OFFSET(D343,0,2*$B$11-D343+$B$12):OFFSET(D343,0,2*$B$11+D343-1+$B$12)),\"\")","v":7.5324999999999989},40,{"$f":"E201+E241+E281","v":1.9},{"$f":"F201+F241+F281","v":2.9},3.9,4.55,5.2,6.2,7.2,6.8000000000000007,6.4,6.65,6.9,7.45,8,7.55,7.1,7.55,8,8.5500000000000007,9.1,10.433333333333332,11.766666666666666,13.1,11.766666666666666,10.433333333333334,9.1,8.5500000000000007,8,7.55,7.1,7.55,8,7.45,6.9,6.65,6.4,6.8000000000000007,7.2,6.2,5.2,4.55,5.8,5.8,5.8,4.55,5.2,6.2,7.2,6.8000000000000007,6.4,6.65,6.9,7.45,8,7.55,7.1,7.55,8,8.5500000000000007,9.1,10.433333333333332,11.766666666666666,13.1,11.766666666666666,10.433333333333334,9.1,{"$f":"BR201+BR241+BR281","v":8.5500000000000007},8,7.55,7.1,7.55,8,7.45,6.9,6.65,6.4,6.8000000000000007,7.2,6.2,5.2,4.55,5.8,5.8,5.8,4.55,5.2,6.2,7.2,6.8000000000000007,6.4,6.65,6.9,7.45,8,7.55,7.1,7.55,8,8.5500000000000007,9.1,10.433333333333332,11.766666666666666,13.1,11.766666666666666,10.433333333333334,9.1,8.5500000000000007,8,7.55,7.1,7.55,8,7.45,6.9,6.65,6.4,6.8000000000000007,7.2,6.2,5.2,4.55]
[41,{"$f":"IF($D150<=$B$6,STDEV(OFFSET(D344,0,2*$B$11-D344+$B$12):OFFSET(D344,0,2*$B$11+D344-1+$B$12))/C344,\"\")","v":0.27904713268591524},{"$f":"IF($D150<=$B$6,AVERAGE(OFFSET(D344,0,2*$B$11-D344+$B$12):OFFSET(D344,0,2*$B$11+D344-1+$B$12)),\"\")","v":7.3487804878048752},41,{"$f":"E201+E242+E283","v":1.9},{"$f":"F201+F242+F283","v":2.9},3.9,4.55,5.2,6.2,7.2,6.8000000000000007,6.4,6.65,6.9,7.45,8,7.55,7.1,7.55,8,8.5500000000000007,9.1,10.433333333333332,11.766666666666666,13.1,11.766666666666666,10.433333333333334,9.1,8.5500000000000007,8,7.55,7.1,7.55,8,7.45,6.9,6.65,6.4,6.8000000000000007,7.2,6.2,5.2,4.55,3.9,4.8,4.8,3.9,4.55,5.2,6.2,7.2,6.8000000000000007,6.4,6.65,6.9,7.45,8,7.55,7.1,7.55,8,8.5500000000000007,9.1,10.433333333333332,11.766666666666666,13.1,11.766666666666666,10.433333333333334,{"$f":"BR201+BR242+BR283","v":9.1},8.5500000000000007,8,7.55,7.1,7.55,8,7.45,6.9,6.65,6.4,6.8000000000000007,7.2,6.2,5.2,4.55,3.9,4.8,4.8,3.9,4.55,5.2,6.2,7.2,6.8000000000000007,6.4,6.65,6.9,7.45,8,7.55,7.1,7.55,8,8.5500000000000007,9.1,10.433333333333332,11.766666666666666,13.1,11.766666666666666,10.433333333333334,9.1,8.5500000000000007,8,7.55,7.1,7.55,8,7.45,6.9,6.65,6.4,6.8000000000000007,7.2,6.2,5.2]
[42,{"$f":"IF($D151<=$B$6,STDEV(OFFSET(D345,0,2*$B$11-D345+$B$12):OFFSET(D345,0,2*$B$11+D345-1+$B$12))/C345,\"\")","v":0.31223086082484253},{"$f":"IF($D151<=$B$6,AVERAGE(OFFSET(D345,0,2*$B$11-D345+$B$12):OFFSET(D345,0,2*$B$11+D345-1+$B$12)),\"\")","v":7.1738095238095214},42,{"$f":"E201+E243+E285","v":1.9},{"$f":"F201+F243+F285","v":2.9},3.9,4.55,5.2,6.2,7.2,6.8000000000000007,6.4,6.65,6.9,7.45,8,7.55,7.1,7.55,8,8.5500000000000007,9.1,10.433333333333332,11.766666666666666,13.1,11.766666666666666,10.433333333333334,9.1,8.5500000000000007,8,7.55,7.1,7.55,8,7.45,6.9,6.65,6.4,6.8000000000000007,7.2,6.2,5.2,4.55,3.9,2.9,3.8,2.9,3.9,4.55,5.2,6.2,7.2,6.8000000000000007,6.4,6.65,6.9,7.45,8,7.55,7.1,7.55,8,8.5500000000000007,9.1,10.433333333333332,11.766666666666666,13.1,11.766666666666666,{"$f":"BR201+BR243+BR285","v":10.433333333333334},9.1,8.5500000000000007,8,7.55,7.1,7.55,8,7.45,6.9,6.65,6.4,6.8000000000000007,7.2,6.2,5.2,4.55,3.9,2.9,3.8,2.9,3.9,4.55,5.2,6.2,7.2,6.8000000000000007,6.4,6.65,6.9,7.45,8,7.55,7.1,7.55,8,8.5500000000000007,9.1,10.433333333333332,11.766666666666666,13.1,11.766666666666666,10.433333333333334,9.1,8.5500000000000007,8,7.55,7.1,7.55,8,7.45,6.9,6.65,6.4,6.8000000000000007,7.2,6.2]
[43,{"$f":"IF($D152<=$B$6,STDEV(OFFSET(D346,0,2*$B$11-D346+$B$12):OFFSET(D346,0,2*$B$11+D346-1+$B$12))/C346,\"\")","v":0.34700266258645834},{"$f":"IF($D152<=$B$6,AVERAGE(OFFSET(D346,0,2*$B$11-D346+$B$12):OFFSET(D346,0,2*$B$11+D346-1+$B$12)),\"\")","v":7.0069767441860442},43,{"$f":"E201+E244+E287","v":1.9},{"$f":"F201+F244+F287","v":2.9},3.9,4.55,5.2,6.2,7.2,6.8000000000000007,6.4,6.65,6.9,7.45,8,7.55,7.1,7.55,8,8.5500000000000007,9.1,10.433333333333332,11.766666666666666,13.1,11.766666666666666,10.433333333333334,9.1,8.5500000000000007,8,7.55,7.1,7.55,8,7.45,6.9,6.65,6.4,6.8000000000000007,7.2,6.2,5.2,4.55,3.9,2.9,1.9,1.9,2.9,3.9,4.55,5.2,6.2,7.2,6.8000000000000007,6.4,6.65,6.9,7.45,8,7.55,7.1,7.55,8,8.5500000000000007,9.1,10.433333333333332,11.766666666666666,13.1,{"$f":"BR201+BR244+BR287","v":11.766666666666666},10.433333333333334,9.1,8.5500000000000007,8,7.55,7.1,7.55,8,7.45,6.9,6.65,6.4,6.8000000000000007,7.2,6.2,5.2,4.55,3.9,2.9,1.9,1.9,2.9,3.9,4.55,5.2,6.2,7.2,6.8000000000000007,6.4,6.65,6.9,7.45,8,7.55,7.1,7.55,8,8.5500000000000007,9.1,10.433333333333332,11.766666666666666,13.1,11.766666666666666,10.433333333333334,9.1,8.5500000000000007,8,7.55,7.1,7.55,8,7.45,6.9,6.65,6.4,6.8000000000000007,7.2]
[44,{"$f":"IF($D153<=$B$6,STDEV(OFFSET(D347,0,2*$B$11-D347+$B$12):OFFSET(D347,0,2*$B$11+D347-1+$B$12))/C347,\"\")","v":""},{"$f":"IF($D153<=$B$6,AVERAGE(OFFSET(D347,0,2*$B$11-D347+$B$12):OFFSET(D347,0,2*$B$11+D347-1+$B$12)),\"\")","v":""},44,{"$f":"E201+E245+E289","v":1.9},{"$f":"F201+F245+F289","v":2.9},3.9,4.55,5.2,6.2,7.2,6.8000000000000007,6.4,6.65,6.9,7.45,8,7.55,7.1,7.55,8,8.5500000000000007,9.1,10.433333333333332,11.766666666666666,13.1,11.766666666666666,10.433333333333334,9.1,8.5500000000000007,8,7.55,7.1,7.55,8,7.45,6.9,6.65,6.4,6.8000000000000007,7.2,6.2,5.2,4.55,3.9,2.9,1.9,0,1.9,2.9,3.9,4.55,5.2,6.2,7.2,6.8000000000000007,6.4,6.65,6.9,7.45,8,7.55,7.1,7.55,8,8.5500000000000007,9.1,10.433333333333332,11.766666666666666,{"$f":"BR201+BR245+BR289","v":13.1},11.766666666666666,10.433333333333334,9.1,8.5500000000000007,8,7.55,7.1,7.55,8,7.45,6.9,6.65,6.4,6.8000000000000007,7.2,6.2,5.2,4.55,3.9,2.9,1.9,0,1.9,2.9,3.9,4.55,5.2,6.2,7.2,6.8000000000000007,6.4,6.65,6.9,7.45,8,7.55,7.1,7.55,8,8.5500000000000007,9.1,10.433333333333332,11.766666666666666,13.1,11.766666666666666,10.433333333333334,9.1,8.5500000000000007,8,7.55,7.1,7.55,8,7.45,6.9,6.65,6.4,6.8000000000000007]
[45,{"$f":"IF($D154<=$B$6,STDEV(OFFSET(D348,0,2*$B$11-D348+$B$12):OFFSET(D348,0,2*$B$11+D348-1+$B$12))/C348,\"\")","v":""},{"$f":"IF($D154<=$B$6,AVERAGE(OFFSET(D348,0,2*$B$11-D348+$B$12):OFFSET(D348,0,2*$B$11+D348-1+$B$12)),\"\")","v":""},45,{"$f":"E201+E246+E291","v":1.9},{"$f":"F201+F246+F291","v":2.9},3.9,4.55,5.2,6.2,7.2,6.8000000000000007,6.4,6.65,6.9,7.45,8,7.55,7.1,7.55,8,8.5500000000000007,9.1,10.433333333333332,11.766666666666666,13.1,11.766666666666666,10.433333333333334,9.1,8.5500000000000007,8,7.55,7.1,7.55,8,7.45,6.9,6.65,6.4,6.8000000000000007,7.2,6.2,5.2,4.55,3.9,2.9,1.9,0,0,1.9,2.9,3.9,4.55,5.2,6.2,7.2,6.8000000000000007,6.4,6.65,6.9,7.45,8,7.55,7.1,7.55,8,8.5500000000000007,9.1,10.433333333333332,{"$f":"BR201+BR246+BR291","v":11.766666666666666},13.1,11.766666666666666,10.433333333333334,9.1,8.5500000000000007,8,7.55,7.1,7.55,8,7.45,6.9,6.65,6.4,6.8000000000000007,7.2,6.2,5.2,4.55,3.9,2.9,1.9,0,0,1.9,2.9,3.9,4.55,5.2,6.2,7.2,6.8000000000000007,6.4,6.65,6.9,7.45,8,7.55,7.1,7.55,8,8.5500000000000007,9.1,10.433333333333332,11.766666666666666,13.1,11.766666666666666,10.433333333333334,9.1,8.5500000000000007,8,7.55,7.1,7.55,8,7.45,6.9,6.65,6.4]
[46,{"$f":"IF($D155<=$B$6,STDEV(OFFSET(D349,0,2*$B$11-D349+$B$12):OFFSET(D349,0,2*$B$11+D349-1+$B$12))/C349,\"\")","v":""},{"$f":"IF($D155<=$B$6,AVERAGE(OFFSET(D349,0,2*$B$11-D349+$B$12):OFFSET(D349,0,2*$B$11+D349-1+$B$12)),\"\")","v":""},46,{"$f":"E201+E247+E293","v":1.9},{"$f":"F201+F247+F293","v":2.9},3.9,4.55,5.2,6.2,7.2,6.8000000000000007,6.4,6.65,6.9,7.45,8,7.55,7.1,7.55,8,8.5500000000000007,9.1,10.433333333333332,11.766666666666666,13.1,11.766666666666666,10.433333333333334,9.1,8.5500000000000007,8,7.55,7.1,7.55,8,7.45,6.9,6.65,6.4,6.8000000000000007,7.2,6.2,5.2,4.55,3.9,2.9,1.9,0,0,0,1.9,2.9,3.9,4.55,5.2,6.2,7.2,6.8000000000000007,6.4,6.65,6.9,7.45,8,7.55,7.1,7.55,8,8.5500000000000007,9.1,{"$f":"BR201+BR247+BR293","v":10.433333333333332},11.766666666666666,13.1,11.766666666666666,10.433333333333334,9.1,8.5500000000000007,8,7.55,7.1,7.55,8,7.45,6.9,6.65,6.4,6.8000000000000007,7.2,6.2,5.2,4.55,3.9,2.9,1.9,0,0,0,1.9,2.9,3.9,4.55,5.2,6.2,7.2,6.8000000000000007,6.4,6.65,6.9,7.45,8,7.55,7.1,7.55,8,8.5500000000000007,9.1,10.433333333333332,11.766666666666666,13.1,11.766666666666666,10.433333333333334,9.1,8.5500000000000007,8,7.55,7.1,7.55,8,7.45,6.9,6.65]
[47,{"$f":"IF($D156<=$B$6,STDEV(OFFSET(D350,0,2*$B$11-D350+$B$12):OFFSET(D350,0,2*$B$11+D350-1+$B$12))/C350,\"\")","v":""},{"$f":"IF($D156<=$B$6,AVERAGE(OFFSET(D350,0,2*$B$11-D350+$B$12):OFFSET(D350,0,2*$B$11+D350-1+$B$12)),\"\")","v":""},47,{"$f":"E201+E248+E295","v":1.9},{"$f":"F201+F248+F295","v":2.9},3.9,4.55,5.2,6.2,7.2,6.8000000000000007,6.4,6.65,6.9,7.45,8,7.55,7.1,7.55,8,8.5500000000000007,9.1,10.433333333333332,11.766666666666666,13.1,11.766666666666666,10.433333333333334,9.1,8.5500000000000007,8,7.55,7.1,7.55,8,7.45,6.9,6.65,6.4,6.8000000000000007,7.2,6.2,5.2,4.55,3.9,2.9,1.9,0,0,0,0,1.9,2.9,3.9,4.55,5.2,6.2,7.2,6.8000000000000007,6.4,6.65,6.9,7.45,8,7.55,7.1,7.55,8,8.5500000000000007,{"$f":"BR201+BR248+BR295","v":9.1},10.433333333333332,11.766666666666666,13.1,11.766666666666666,10.433333333333334,9.1,8.5500000000000007,8,7.55,7.1,7.55,8,7.45,6.9,6.65,6.4,6.8000000000000007,7.2,6.2,5.2,4.55,3.9,2.9,1.9,0,0,0,0,1.9,2.9,3.9,4.55,5.2,6.2,7.2,6.8000000000000007,6.4,6.65,6.9,7.45,8,7.55,7.1,7.55,8,8.5500000000000007,9.1,10.433333333333332,11.766666666666666,13.1,11.766666666666666,10.433333333333334,9.1,8.5500000000000007,8,7.55,7.1,7.55,8,7.45,6.9]
[48,{"$f":"IF($D157<=$B$6,STDEV(OFFSET(D351,0,2*$B$11-D351+$B$12):OFFSET(D351,0,2*$B$11+D351-1+$B$12))/C351,\"\")","v":""},{"$f":"IF($D157<=$B$6,AVERAGE(OFFSET(D351,0,2*$B$11-D351+$B$12):OFFSET(D351,0,2*$B$11+D351-1+$B$12)),\"\")","v":""},48,{"$f":"E201+E249+E297","v":1.9},{"$f":"F201+F249+F297","v":2.9},3.9,4.55,5.2,6.2,7.2,6.8000000000000007,6.4,6.65,6.9,7.45,8,7.55,7.1,7.55,8,8.5500000000000007,9.1,10.433333333333332,11.766666666666666,13.1,11.766666666666666,10.433333333333334,9.1,8.5500000000000007,8,7.55,7.1,7.55,8,7.45,6.9,6.65,6.4,6.8000000000000007,7.2,6.2,5.2,4.55,3.9,2.9,1.9,0,0,0,0,0,1.9,2.9,3.9,4.55,5.2,6.2,7.2,6.8000000000000007,6.4,6.65,6.9,7.45,8,7.55,7.1,7.55,8,{"$f":"BR201+BR249+BR297","v":8.5500000000000007},9.1,10.433333333333332,11.766666666666666,13.1,11.766666666666666,10.433333333333334,9.1,8.5500000000000007,8,7.55,7.1,7.55,8,7.45,6.9,6.65,6.4,6.8000000000000007,7.2,6.2,5.2,4.55,3.9,2.9,1.9,0,0,0,0,0,1.9,2.9,3.9,4.55,5.2,6.2,7.2,6.8000000000000007,6.4,6.65,6.9,7.45,8,7.55,7.1,7.55,8,8.5500000000000007,9.1,10.433333333333332,11.766666666666666,13.1,11.766666666666666,10.433333333333334,9.1,8.5500000000000007,8,7.55,7.1,7.55,8,7.45]
[49,{"$f":"IF($D158<=$B$6,STDEV(OFFSET(D352,0,2*$B$11-D352+$B$12):OFFSET(D352,0,2*$B$11+D352-1+$B$12))/C352,\"\")","v":""},{"$f":"IF($D158<=$B$6,AVERAGE(OFFSET(D352,0,2*$B$11-D352+$B$12):OFFSET(D352,0,2*$B$11+D352-1+$B$12)),\"\")","v":""},49,{"$f":"E201+E250+E299","v":1.9},{"$f":"F201+F250+F299","v":2.9},3.9,4.55,5.2,6.2,7.2,6.8000000000000007,6.4,6.65,6.9,7.45,8,7.55,7.1,7.55,8,8.5500000000000007,9.1,10.433333333333332,11.766666666666666,13.1,11.766666666666666,10.433333333333334,9.1,8.5500000000000007,8,7.55,7.1,7.55,8,7.45,6.9,6.65,6.4,6.8000000000000007,7.2,6.2,5.2,4.55,3.9,2.9,1.9,0,0,0,0,0,0,1.9,2.9,3.9,4.55,5.2,6.2,7.2,6.8000000000000007,6.4,6.65,6.9,7.45,8,7.55,7.1,7.55,{"$f":"BR201+BR250+BR299","v":8},8.5500000000000007,9.1,10.433333333333332,11.766666666666666,13.1,11.766666666666666,10.433333333333334,9.1,8.5500000000000007,8,7.55,7.1,7.55,8,7.45,6.9,6.65,6.4,6.8000000000000007,7.2,6.2,5.2,4.55,3.9,2.9,1.9,0,0,0,0,0,0,1.9,2.9,3.9,4.55,5.2,6.2,7.2,6.8000000000000007,6.4,6.65,6.9,7.45,8,7.55,7.1,7.55,8,8.5500000000000007,9.1,10.433333333333332,11.766666666666666,13.1,11.766666666666666,10.433333333333334,9.1,8.5500000000000007,8,7.55,7.1,7.55,8]
[50,{"$f":"IF($D159<=$B$6,STDEV(OFFSET(D353,0,2*$B$11-D353+$B$12):OFFSET(D353,0,2*$B$11+D353-1+$B$12))/C353,\"\")","v":""},{"$f":"IF($D159<=$B$6,AVERAGE(OFFSET(D353,0,2*$B$11-D353+$B$12):OFFSET(D353,0,2*$B$11+D353-1+$B$12)),\"\")","v":""},50,{"$f":"E201+E251","v":1.9},{"$f":"F201+F251","v":2.9},3.9,4.55,5.2,6.2,7.2,6.8000000000000007,6.4,6.65,6.9,7.45,8,7.55,7.1,7.55,8,8.5500000000000007,9.1,10.433333333333332,11.766666666666666,13.1,11.766666666666666,10.433333333333334,9.1,8.5500000000000007,8,7.55,7.1,7.55,8,7.45,6.9,6.65,6.4,6.8000000000000007,7.2,6.2,5.2,4.55,3.9,2.9,1.9,0,0,0,0,0,0,0,1.9,2.9,3.9,4.55,5.2,6.2,7.2,6.8000000000000007,6.4,6.65,6.9,7.45,8,7.55,7.1,{"$f":"BR201+BR251","v":7.55},8,8.5500000000000007,9.1,10.433333333333332,11.766666666666666,13.1,11.766666666666666,10.433333333333334,9.1,8.5500000000000007,8,7.55,7.1,7.55,8,7.45,6.9,6.65,6.4,6.8000000000000007,7.2,6.2,5.2,4.55,3.9,2.9,1.9,0,0,0,0,0,0,0,0,0,0,0,0,0,0,0,0,0,0,0,0,0,0,0,0,0,0,0,0,0,0,0,0,0,0,0,0,{"$f":"ED201+ED251","v":0}]
[51,{"$f":"IF($D160<=$B$6,STDEV(OFFSET(D354,0,2*$B$11-D354+$B$12):OFFSET(D354,0,2*$B$11+D354-1+$B$12))/C354,\"\")","v":""},{"$f":"IF($D160<=$B$6,AVERAGE(OFFSET(D354,0,2*$B$11-D354+$B$12):OFFSET(D354,0,2*$B$11+D354-1+$B$12)),\"\")","v":""},51,{"$f":"E201+E252","v":1.9},{"$f":"F201+F252","v":2.9},3.9,4.55,5.2,6.2,7.2,6.8000000000000007,6.4,6.65,6.9,7.45,8,7.55,7.1,7.55,8,8.5500000000000007,9.1,10.433333333333332,11.766666666666666,13.1,11.766666666666666,10.433333333333334,9.1,8.5500000000000007,8,7.55,7.1,7.55,8,7.45,6.9,6.65,6.4,6.8000000000000007,7.2,6.2,5.2,4.55,3.9,2.9,1.9,0,0,0,0,0,0,0,0,1.9,2.9,3.9,4.55,5.2,6.2,7.2,6.8000000000000007,6.4,6.65,6.9,7.45,8,7.55,{"$f":"BR201+BR252","v":7.1},7.55,8,8.5500000000000007,9.1,10.433333333333332,11.766666666666666,13.1,11.766666666666666,10.433333333333334,9.1,8.5500000000000007,8,7.55,7.1,7.55,8,7.45,6.9,6.65,6.4,6.8000000000000007,7.2,6.2,5.2,4.55,3.9,2.9,1.9,0,0,0,0,0,0,0,0,0,0,0,0,0,0,0,0,0,0,0,0,0,0,0,0,0,0,0,0,0,0,0,0,0,0,0,{"$f":"ED201+ED252","v":0},0]
[52,{"$f":"IF($D161<=$B$6,STDEV(OFFSET(D355,0,2*$B$11-D355+$B$12):OFFSET(D355,0,2*$B$11+D355-1+$B$12))/C355,\"\")","v":""},{"$f":"IF($D161<=$B$6,AVERAGE(OFFSET(D355,0,2*$B$11-D355+$B$12):OFFSET(D355,0,2*$B$11+D355-1+$B$12)),\"\")","v":""},52,{"$f":"E201+E253","v":1.9},{"$f":"F201+F253","v":2.9},3.9,4.55,5.2,6.2,7.2,6.8000000000000007,6.4,6.65,6.9,7.45,8,7.55,7.1,7.55,8,8.5500000000000007,9.1,10.433333333333332,11.766666666666666,13.1,11.766666666666666,10.433333333333334,9.1,8.5500000000000007,8,7.55,7.1,7.55,8,7.45,6.9,6.65,6.4,6.8000000000000007,7.2,6.2,5.2,4.55,3.9,2.9,1.9,0,0,0,0,0,0,0,0,0,1.9,2.9,3.9,4.55,5.2,6.2,7.2,6.8000000000000007,6.4,6.65,6.9,7.45,8,{"$f":"BR201+BR253","v":7.55},7.1,7.55,8,8.5500000000000007,9.1,10.433333333333332,11.766666666666666,13.1,11.766666666666666,10.433333333333334,9.1,8.5500000000000007,8,7.55,7.1,7.55,8,7.45,6.9,6.65,6.4,6.8000000000000007,7.2,6.2,5.2,4.55,3.9,2.9,1.9,0,0,0,0,0,0,0,0,0,0,0,0,0,0,0,0,0,0,0,0,0,0,0,0,0,0,0,0,0,0,0,0,0,0,{"$f":"ED201+ED253","v":0},0,0]
[53,{"$f":"IF($D162<=$B$6,STDEV(OFFSET(D356,0,2*$B$11-D356+$B$12):OFFSET(D356,0,2*$B$11+D356-1+$B$12))/C356,\"\")","v":""},{"$f":"IF($D162<=$B$6,AVERAGE(OFFSET(D356,0,2*$B$11-D356+$B$12):OFFSET(D356,0,2*$B$11+D356-1+$B$12)),\"\")","v":""},53,{"$f":"E201+E254","v":1.9},{"$f":"F201+F254","v":2.9},3.9,4.55,5.2,6.2,7.2,6.8000000000000007,6.4,6.65,6.9,7.45,8,7.55,7.1,7.55,8,8.5500000000000007,9.1,10.433333333333332,11.766666666666666,13.1,11.766666666666666,10.433333333333334,9.1,8.5500000000000007,8,7.55,7.1,7.55,8,7.45,6.9,6.65,6.4,6.8000000000000007,7.2,6.2,5.2,4.55,3.9,2.9,1.9,0,0,0,0,0,0,0,0,0,0,1.9,2.9,3.9,4.55,5.2,6.2,7.2,6.8000000000000007,6.4,6.65,6.9,7.45,{"$f":"BR201+BR254","v":8},7.55,7.1,7.55,8,8.5500000000000007,9.1,10.433333333333332,11.766666666666666,13.1,11.766666666666666,10.433333333333334,9.1,8.5500000000000007,8,7.55,7.1,7.55,8,7.45,6.9,6.65,6.4,6.8000000000000007,7.2,6.2,5.2,4.55,3.9,2.9,1.9,0,0,0,0,0,0,0,0,0,0,0,0,0,0,0,0,0,0,0,0,0,0,0,0,0,0,0,0,0,0,0,0,0,{"$f":"ED201+ED254","v":0},0,0,0]
[54,{"$f":"IF($D163<=$B$6,STDEV(OFFSET(D357,0,2*$B$11-D357+$B$12):OFFSET(D357,0,2*$B$11+D357-1+$B$12))/C357,\"\")","v":""},{"$f":"IF($D163<=$B$6,AVERAGE(OFFSET(D357,0,2*$B$11-D357+$B$12):OFFSET(D357,0,2*$B$11+D357-1+$B$12)),\"\")","v":""},54,{"$f":"E201+E255","v":1.9},{"$f":"F201+F255","v":2.9},3.9,4.55,5.2,6.2,7.2,6.8000000000000007,6.4,6.65,6.9,7.45,8,7.55,7.1,7.55,8,8.5500000000000007,9.1,10.433333333333332,11.766666666666666,13.1,11.766666666666666,10.433333333333334,9.1,8.5500000000000007,8,7.55,7.1,7.55,8,7.45,6.9,6.65,6.4,6.8000000000000007,7.2,6.2,5.2,4.55,3.9,2.9,1.9,0,0,0,0,0,0,0,0,0,0,0,1.9,2.9,3.9,4.55,5.2,6.2,7.2,6.8000000000000007,6.4,6.65,6.9,{"$f":"BR201+BR255","v":7.45},8,7.55,7.1,7.55,8,8.5500000000000007,9.1,10.433333333333332,11.766666666666666,13.1,11.766666666666666,10.433333333333334,9.1,8.5500000000000007,8,7.55,7.1,7.55,8,7.45,6.9,6.65,6.4,6.8000000000000007,7.2,6.2,5.2,4.55,3.9,2.9,1.9,0,0,0,0,0,0,0,0,0,0,0,0,0,0,0,0,0,0,0,0,0,0,0,0,0,0,0,0,0,0,0,0,{"$f":"ED201+ED255","v":0},0,0,0,0]
[55,{"$f":"IF($D164<=$B$6,STDEV(OFFSET(D358,0,2*$B$11-D358+$B$12):OFFSET(D358,0,2*$B$11+D358-1+$B$12))/C358,\"\")","v":""},{"$f":"IF($D164<=$B$6,AVERAGE(OFFSET(D358,0,2*$B$11-D358+$B$12):OFFSET(D358,0,2*$B$11+D358-1+$B$12)),\"\")","v":""},55,{"$f":"E201+E256","v":1.9},{"$f":"F201+F256","v":2.9},3.9,4.55,5.2,6.2,7.2,6.8000000000000007,6.4,6.65,6.9,7.45,8,7.55,7.1,7.55,8,8.5500000000000007,9.1,10.433333333333332,11.766666666666666,13.1,11.766666666666666,10.433333333333334,9.1,8.5500000000000007,8,7.55,7.1,7.55,8,7.45,6.9,6.65,6.4,6.8000000000000007,7.2,6.2,5.2,4.55,3.9,2.9,1.9,0,0,0,0,0,0,0,0,0,0,0,0,1.9,2.9,3.9,4.55,5.2,6.2,7.2,6.8000000000000007,6.4,6.65,{"$f":"BR201+BR256","v":6.9},7.45,8,7.55,7.1,7.55,8,8.5500000000000007,9.1,10.433333333333332,11.766666666666666,13.1,11.766666666666666,10.433333333333334,9.1,8.5500000000000007,8,7.55,7.1,7.55,8,7.45,6.9,6.65,6.4,6.8000000000000007,7.2,6.2,5.2,4.55,3.9,2.9,1.9,0,0,0,0,0,0,0,0,0,0,0,0,0,0,0,0,0,0,0,0,0,0,0,0,0,0,0,0,0,0,0,{"$f":"ED201+ED256","v":0},0,0,0,0,0]
[56,{"$f":"IF($D165<=$B$6,STDEV(OFFSET(D359,0,2*$B$11-D359+$B$12):OFFSET(D359,0,2*$B$11+D359-1+$B$12))/C359,\"\")","v":""},{"$f":"IF($D165<=$B$6,AVERAGE(OFFSET(D359,0,2*$B$11-D359+$B$12):OFFSET(D359,0,2*$B$11+D359-1+$B$12)),\"\")","v":""},56,{"$f":"E201+E257","v":1.9},{"$f":"F201+F257","v":2.9},3.9,4.55,5.2,6.2,7.2,6.8000000000000007,6.4,6.65,6.9,7.45,8,7.55,7.1,7.55,8,8.5500000000000007,9.1,10.433333333333332,11.766666666666666,13.1,11.766666666666666,10.433333333333334,9.1,8.5500000000000007,8,7.55,7.1,7.55,8,7.45,6.9,6.65,6.4,6.8000000000000007,7.2,6.2,5.2,4.55,3.9,2.9,1.9,0,0,0,0,0,0,0,0,0,0,0,0,0,1.9,2.9,3.9,4.55,5.2,6.2,7.2,6.8000000000000007,6.4,{"$f":"BR201+BR257","v":6.65},6.9,7.45,8,7.55,7.1,7.55,8,8.5500000000000007,9.1,10.433333333333332,11.766666666666666,13.1,11.766666666666666,10.433333333333334,9.1,8.5500000000000007,8,7.55,7.1,7.55,8,7.45,6.9,6.65,6.4,6.8000000000000007,7.2,6.2,5.2,4.55,3.9,2.9,1.9,0,0,0,0,0,0,0,0,0,0,0,0,0,0,0,0,0,0,0,0,0,0,0,0,0,0,0,0,0,0,{"$f":"ED201+ED257","v":0},0,0,0,0,0,0]
[57,{"$f":"IF($D166<=$B$6,STDEV(OFFSET(D360,0,2*$B$11-D360+$B$12):OFFSET(D360,0,2*$B$11+D360-1+$B$12))/C360,\"\")","v":""},{"$f":"IF($D166<=$B$6,AVERAGE(OFFSET(D360,0,2*$B$11-D360+$B$12):OFFSET(D360,0,2*$B$11+D360-1+$B$12)),\"\")","v":""},57,{"$f":"E201+E258","v":1.9},{"$f":"F201+F258","v":2.9},3.9,4.55,5.2,6.2,7.2,6.8000000000000007,6.4,6.65,6.9,7.45,8,7.55,7.1,7.55,8,8.5500000000000007,9.1,10.433333333333332,11.766666666666666,13.1,11.766666666666666,10.433333333333334,9.1,8.5500000000000007,8,7.55,7.1,7.55,8,7.45,6.9,6.65,6.4,6.8000000000000007,7.2,6.2,5.2,4.55,3.9,2.9,1.9,0,0,0,0,0,0,0,0,0,0,0,0,0,0,1.9,2.9,3.9,4.55,5.2,6.2,7.2,6.8000000000000007,{"$f":"BR201+BR258","v":6.4},6.65,6.9,7.45,8,7.55,7.1,7.55,8,8.5500000000000007,9.1,10.433333333333332,11.766666666666666,13.1,11.766666666666666,10.433333333333334,9.1,8.5500000000000007,8,7.55,7.1,7.55,8,7.45,6.9,6.65,6.4,6.8000000000000007,7.2,6.2,5.2,4.55,3.9,2.9,1.9,0,0,0,0,0,0,0,0,0,0,0,0,0,0,0,0,0,0,0,0,0,0,0,0,0,0,0,0,0,{"$f":"ED201+ED258","v":0},0,0,0,0,0,0,0]
[58,{"$f":"IF($D167<=$B$6,STDEV(OFFSET(D361,0,2*$B$11-D361+$B$12):OFFSET(D361,0,2*$B$11+D361-1+$B$12))/C361,\"\")","v":""},{"$f":"IF($D167<=$B$6,AVERAGE(OFFSET(D361,0,2*$B$11-D361+$B$12):OFFSET(D361,0,2*$B$11+D361-1+$B$12)),\"\")","v":""},58,{"$f":"E201+E259","v":1.9},{"$f":"F201+F259","v":2.9},3.9,4.55,5.2,6.2,7.2,6.8000000000000007,6.4,6.65,6.9,7.45,8,7.55,7.1,7.55,8,8.5500000000000007,9.1,10.433333333333332,11.766666666666666,13.1,11.766666666666666,10.433333333333334,9.1,8.5500000000000007,8,7.55,7.1,7.55,8,7.45,6.9,6.65,6.4,6.8000000000000007,7.2,6.2,5.2,4.55,3.9,2.9,1.9,0,0,0,0,0,0,0,0,0,0,0,0,0,0,0,1.9,2.9,3.9,4.55,5.2,6.2,7.2,{"$f":"BR201+BR259","v":6.8000000000000007},6.4,6.65,6.9,7.45,8,7.55,7.1,7.55,8,8.5500000000000007,9.1,10.433333333333332,11.766666666666666,13.1,11.766666666666666,10.433333333333334,9.1,8.5500000000000007,8,7.55,7.1,7.55,8,7.45,6.9,6.65,6.4,6.8000000000000007,7.2,6.2,5.2,4.55,3.9,2.9,1.9,0,0,0,0,0,0,0,0,0,0,0,0,0,0,0,0,0,0,0,0,0,0,0,0,0,0,0,0,{"$f":"ED201+ED259","v":0},0,0,0,0,0,0,0,0]
[59,{"$f":"IF($D168<=$B$6,STDEV(OFFSET(D362,0,2*$B$11-D362+$B$12):OFFSET(D362,0,2*$B$11+D362-1+$B$12))/C362,\"\")","v":""},{"$f":"IF($D168<=$B$6,AVERAGE(OFFSET(D362,0,2*$B$11-D362+$B$12):OFFSET(D362,0,2*$B$11+D362-1+$B$12)),\"\")","v":""},59,{"$f":"E201+E260","v":1.9},{"$f":"F201+F260","v":2.9},3.9,4.55,5.2,6.2,7.2,6.8000000000000007,6.4,6.65,6.9,7.45,8,7.55,7.1,7.55,8,8.5500000000000007,9.1,10.433333333333332,11.766666666666666,13.1,11.766666666666666,10.433333333333334,9.1,8.5500000000000007,8,7.55,7.1,7.55,8,7.45,6.9,6.65,6.4,6.8000000000000007,7.2,6.2,5.2,4.55,3.9,2.9,1.9,0,0,0,0,0,0,0,0,0,0,0,0,0,0,0,0,1.9,2.9,3.9,4.55,5.2,6.2,{"$f":"BR201+BR260","v":7.2},6.8000000000000007,6.4,6.65,6.9,7.45,8,7.55,7.1,7.55,8,8.5500000000000007,9.1,10.433333333333332,11.766666666666666,13.1,11.766666666666666,10.433333333333334,9.1,8.5500000000000007,8,7.55,7.1,7.55,8,7.45,6.9,6.65,6.4,6.8000000000000007,7.2,6.2,5.2,4.55,3.9,2.9,1.9,0,0,0,0,0,0,0,0,0,0,0,0,0,0,0,0,0,0,0,0,0,0,0,0,0,0,0,{"$f":"ED201+ED260","v":0},0,0,0,0,0,0,0,0,0]
[60,{"$f":"IF($D169<=$B$6,STDEV(OFFSET(D363,0,2*$B$11-D363+$B$12):OFFSET(D363,0,2*$B$11+D363-1+$B$12))/C363,\"\")","v":""},{"$f":"IF($D169<=$B$6,AVERAGE(OFFSET(D363,0,2*$B$11-D363+$B$12):OFFSET(D363,0,2*$B$11+D363-1+$B$12)),\"\")","v":""},60,{"$f":"E201+E261","v":1.9},{"$f":"F201+F261","v":2.9},3.9,4.55,5.2,6.2,7.2,6.8000000000000007,6.4,6.65,6.9,7.45,8,7.55,7.1,7.55,8,8.5500000000000007,9.1,10.433333333333332,11.766666666666666,13.1,11.766666666666666,10.433333333333334,9.1,8.5500000000000007,8,7.55,7.1,7.55,8,7.45,6.9,6.65,6.4,6.8000000000000007,7.2,6.2,5.2,4.55,3.9,2.9,1.9,0,0,0,0,0,0,0,0,0,0,0,0,0,0,0,0,0,1.9,2.9,3.9,4.55,5.2,{"$f":"BR201+BR261","v":6.2},7.2,6.8000000000000007,6.4,6.65,6.9,7.45,8,7.55,7.1,7.55,8,8.5500000000000007,9.1,10.433333333333332,11.766666666666666,13.1,11.766666666666666,10.433333333333334,9.1,8.5500000000000007,8,7.55,7.1,7.55,8,7.45,6.9,6.65,6.4,6.8000000000000007,7.2,6.2,5.2,4.55,3.9,2.9,1.9,0,0,0,0,0,0,0,0,0,0,0,0,0,0,0,0,0,0,0,0,0,0,0,0,0,0,{"$f":"ED201+ED261","v":0},0,0,0,0,0,0,0,0,0,0]
[61,{"$f":"IF($D170<=$B$6,STDEV(OFFSET(D364,0,2*$B$11-D364+$B$12):OFFSET(D364,0,2*$B$11+D364-1+$B$12))/C364,\"\")","v":""},{"$f":"IF($D170<=$B$6,AVERAGE(OFFSET(D364,0,2*$B$11-D364+$B$12):OFFSET(D364,0,2*$B$11+D364-1+$B$12)),\"\")","v":""},61,{"$f":"E201+E262","v":1.9},{"$f":"F201+F262","v":2.9},3.9,4.55,5.2,6.2,7.2,6.8000000000000007,6.4,6.65,6.9,7.45,8,7.55,7.1,7.55,8,8.5500000000000007,9.1,10.433333333333332,11.766666666666666,13.1,11.766666666666666,10.433333333333334,9.1,8.5500000000000007,8,7.55,7.1,7.55,8,7.45,6.9,6.65,6.4,6.8000000000000007,7.2,6.2,5.2,4.55,3.9,2.9,1.9,0,0,0,0,0,0,0,0,0,0,0,0,0,0,0,0,0,0,1.9,2.9,3.9,4.55,{"$f":"BR201+BR262","v":5.2},6.2,7.2,6.8000000000000007,6.4,6.65,6.9,7.45,8,7.55,7.1,7.55,8,8.5500000000000007,9.1,10.433333333333332,11.766666666666666,13.1,11.766666666666666,10.433333333333334,9.1,8.5500000000000007,8,7.55,7.1,7.55,8,7.45,6.9,6.65,6.4,6.8000000000000007,7.2,6.2,5.2,4.55,3.9,2.9,1.9,0,0,0,0,0,0,0,0,0,0,0,0,0,0,0,0,0,0,0,0,0,0,0,0,0,{"$f":"ED201+ED262","v":0},0,0,0,0,0,0,0,0,0,0,0]
[62,{"$f":"IF($D171<=$B$6,STDEV(OFFSET(D365,0,2*$B$11-D365+$B$12):OFFSET(D365,0,2*$B$11+D365-1+$B$12))/C365,\"\")","v":""},{"$f":"IF($D171<=$B$6,AVERAGE(OFFSET(D365,0,2*$B$11-D365+$B$12):OFFSET(D365,0,2*$B$11+D365-1+$B$12)),\"\")","v":""},62,{"$f":"E201+E263","v":1.9},{"$f":"F201+F263","v":2.9},3.9,4.55,5.2,6.2,7.2,6.8000000000000007,6.4,6.65,6.9,7.45,8,7.55,7.1,7.55,8,8.5500000000000007,9.1,10.433333333333332,11.766666666666666,13.1,11.766666666666666,10.433333333333334,9.1,8.5500000000000007,8,7.55,7.1,7.55,8,7.45,6.9,6.65,6.4,6.8000000000000007,7.2,6.2,5.2,4.55,3.9,2.9,1.9,0,0,0,0,0,0,0,0,0,0,0,0,0,0,0,0,0,0,0,1.9,2.9,3.9,{"$f":"BR201+BR263","v":4.55},5.2,6.2,7.2,6.8000000000000007,6.4,6.65,6.9,7.45,8,7.55,7.1,7.55,8,8.5500000000000007,9.1,10.433333333333332,11.766666666666666,13.1,11.766666666666666,10.433333333333334,9.1,8.5500000000000007,8,7.55,7.1,7.55,8,7.45,6.9,6.65,6.4,6.8000000000000007,7.2,6.2,5.2,4.55,3.9,2.9,1.9,0,0,0,0,0,0,0,0,0,0,0,0,0,0,0,0,0,0,0,0,0,0,0,0,{"$f":"ED201+ED263","v":0},0,0,0,0,0,0,0,0,0,0,0,0]
[63,{"$f":"IF($D172<=$B$6,STDEV(OFFSET(D366,0,2*$B$11-D366+$B$12):OFFSET(D366,0,2*$B$11+D366-1+$B$12))/C366,\"\")","v":""},{"$f":"IF($D172<=$B$6,AVERAGE(OFFSET(D366,0,2*$B$11-D366+$B$12):OFFSET(D366,0,2*$B$11+D366-1+$B$12)),\"\")","v":""},63,{"$f":"E201+E264","v":1.9},{"$f":"F201+F264","v":2.9},3.9,4.55,5.2,6.2,7.2,6.8000000000000007,6.4,6.65,6.9,7.45,8,7.55,7.1,7.55,8,8.5500000000000007,9.1,10.433333333333332,11.766666666666666,13.1,11.766666666666666,10.433333333333334,9.1,8.5500000000000007,8,7.55,7.1,7.55,8,7.45,6.9,6.65,6.4,6.8000000000000007,7.2,6.2,5.2,4.55,3.9,2.9,1.9,0,0,0,0,0,0,0,0,0,0,0,0,0,0,0,0,0,0,0,0,1.9,2.9,{"$f":"BR201+BR264","v":3.9},4.55,5.2,6.2,7.2,6.8000000000000007,6.4,6.65,6.9,7.45,8,7.55,7.1,7.55,8,8.5500000000000007,9.1,10.433333333333332,11.766666666666666,13.1,11.766666666666666,10.433333333333334,9.1,8.5500000000000007,8,7.55,7.1,7.55,8,7.45,6.9,6.65,6.4,6.8000000000000007,7.2,6.2,5.2,4.55,3.9,2.9,1.9,0,0,0,0,0,0,0,0,0,0,0,0,0,0,0,0,0,0,0,0,0,0,0,{"$f":"ED201+ED264","v":0},0,0,0,0,0,0,0,0,0,0,0,0,0]
[64,{"$f":"IF($D173<=$B$6,STDEV(OFFSET(D367,0,2*$B$11-D367+$B$12):OFFSET(D367,0,2*$B$11+D367-1+$B$12))/C367,\"\")","v":""},{"$f":"IF($D173<=$B$6,AVERAGE(OFFSET(D367,0,2*$B$11-D367+$B$12):OFFSET(D367,0,2*$B$11+D367-1+$B$12)),\"\")","v":""},64,{"$f":"E201+E265","v":1.9},{"$f":"F201+F265","v":2.9},3.9,4.55,5.2,6.2,7.2,6.8000000000000007,6.4,6.65,6.9,7.45,8,7.55,7.1,7.55,8,8.5500000000000007,9.1,10.433333333333332,11.766666666666666,13.1,11.766666666666666,10.433333333333334,9.1,8.5500000000000007,8,7.55,7.1,7.55,8,7.45,6.9,6.65,6.4,6.8000000000000007,7.2,6.2,5.2,4.55,3.9,2.9,1.9,0,0,0,0,0,0,0,0,0,0,0,0,0,0,0,0,0,0,0,0,0,1.9,{"$f":"BR201+BR265","v":2.9},3.9,4.55,5.2,6.2,7.2,6.8000000000000007,6.4,6.65,6.9,7.45,8,7.55,7.1,7.55,8,8.5500000000000007,9.1,10.433333333333332,11.766666666666666,13.1,11.766666666666666,10.433333333333334,9.1,8.5500000000000007,8,7.55,7.1,7.55,8,7.45,6.9,6.65,6.4,6.8000000000000007,7.2,6.2,5.2,4.55,3.9,2.9,1.9,0,0,0,0,0,0,0,0,0,0,0,0,0,0,0,0,0,0,0,0,0,0,{"$f":"ED201+ED265","v":0},0,0,0,0,0,0,0,0,0,0,0,0,0,0]
[{"$f":"A174","v":65},{"$f":"IF($D174<=$B$6,STDEV(OFFSET(D368,0,2*$B$11-D368+$B$12):OFFSET(D368,0,2*$B$11+D368-1+$B$12))/C368,\"\")","v":""},{"$f":"IF($D174<=$B$6,AVERAGE(OFFSET(D368,0,2*$B$11-D368+$B$12):OFFSET(D368,0,2*$B$11+D368-1+$B$12)),\"\")","v":""},{"$f":"D71","v":65},{"$f":"E201+E266","v":1.9},{"$f":"F201+F266","v":2.9},3.9,4.55,5.2,6.2,7.2,6.8000000000000007,6.4,6.65,6.9,7.45,8,7.55,7.1,7.55,8,8.5500000000000007,9.1,10.433333333333332,11.766666666666666,13.1,11.766666666666666,10.433333333333334,9.1,8.5500000000000007,8,7.55,7.1,7.55,8,7.45,6.9,6.65,6.4,6.8000000000000007,7.2,6.2,5.2,4.55,3.9,2.9,1.9,0,0,0,0,0,0,0,0,0,0,0,0,0,0,0,0,0,0,0,0,0,0,{"$f":"BR201+BR266","v":1.9},2.9,3.9,4.55,5.2,6.2,7.2,6.8000000000000007,6.4,6.65,6.9,7.45,8,7.55,7.1,7.55,8,8.5500000000000007,9.1,10.433333333333332,11.766666666666666,13.1,11.766666666666666,10.433333333333334,9.1,8.5500000000000007,8,7.55,7.1,7.55,8,7.45,6.9,6.65,6.4,6.8000000000000007,7.2,6.2,5.2,4.55,3.9,2.9,1.9,0,0,0,0,0,0,0,0,0,0,0,0,0,0,0,0,0,0,0,0,0,{"$f":"ED201+ED266","v":0},0,0,0,0,0,0,0,0,0,0,0,0,0,0,0]
[66,{"$f":"IF($D175<=$B$6,STDEV(OFFSET(D369,0,2*$B$11-D369+$B$12):OFFSET(D369,0,2*$B$11+D369-1+$B$12))/C369,\"\")","v":""},{"$f":"IF($D175<=$B$6,AVERAGE(OFFSET(D369,0,2*$B$11-D369+$B$12):OFFSET(D369,0,2*$B$11+D369-1+$B$12)),\"\")","v":""},66,{"$f":"E201+E267","v":1.9},{"$f":"F201+F267","v":2.9},3.9,4.55,5.2,6.2,7.2,6.8000000000000007,6.4,6.65,6.9,7.45,8,7.55,7.1,7.55,8,8.5500000000000007,9.1,10.433333333333332,11.766666666666666,13.1,11.766666666666666,10.433333333333334,9.1,8.5500000000000007,8,7.55,7.1,7.55,8,7.45,6.9,6.65,6.4,6.8000000000000007,7.2,6.2,5.2,4.55,3.9,2.9,1.9,0,0,0,0,0,0,0,0,0,0,0,0,0,0,0,0,0,0,0,0,0,0,{"$f":"BR201+BR267","v":0},1.9,2.9,3.9,4.55,5.2,6.2,7.2,6.8000000000000007,6.4,6.65,6.9,7.45,8,7.55,7.1,7.55,8,8.5500000000000007,9.1,10.433333333333332,11.766666666666666,13.1,11.766666666666666,10.433333333333334,9.1,8.5500000000000007,8,7.55,7.1,7.55,8,7.45,6.9,6.65,6.4,6.8000000000000007,7.2,6.2,5.2,4.55,3.9,2.9,1.9,0,0,0,0,0,0,0,0,0,0,0,0,0,0,0,0,0,0,0,0,{"$f":"ED201+ED267","v":0},0,0,0,0,0,0,0,0,0,0,0,0,0,0,0,0]
[67,{"$f":"IF($D176<=$B$6,STDEV(OFFSET(D370,0,2*$B$11-D370+$B$12):OFFSET(D370,0,2*$B$11+D370-1+$B$12))/C370,\"\")","v":""},{"$f":"IF($D176<=$B$6,AVERAGE(OFFSET(D370,0,2*$B$11-D370+$B$12):OFFSET(D370,0,2*$B$11+D370-1+$B$12)),\"\")","v":""},67,{"$f":"E201+E268","v":1.9},{"$f":"F201+F268","v":2.9},3.9,4.55,5.2,6.2,7.2,6.8000000000000007,6.4,6.65,6.9,7.45,8,7.55,7.1,7.55,8,8.5500000000000007,9.1,10.433333333333332,11.766666666666666,13.1,11.766666666666666,10.433333333333334,9.1,8.5500000000000007,8,7.55,7.1,7.55,8,7.45,6.9,6.65,6.4,6.8000000000000007,7.2,6.2,5.2,4.55,3.9,2.9,1.9,0,0,0,0,0,0,0,0,0,0,0,0,0,0,0,0,0,0,0,0,0,0,{"$f":"BR201+BR268","v":0},0,1.9,2.9,3.9,4.55,5.2,6.2,7.2,6.8000000000000007,6.4,6.65,6.9,7.45,8,7.55,7.1,7.55,8,8.5500000000000007,9.1,10.433333333333332,11.766666666666666,13.1,11.766666666666666,10.433333333333334,9.1,8.5500000000000007,8,7.55,7.1,7.55,8,7.45,6.9,6.65,6.4,6.8000000000000007,7.2,6.2,5.2,4.55,3.9,2.9,1.9,0,0,0,0,0,0,0,0,0,0,0,0,0,0,0,0,0,0,0,{"$f":"ED201+ED268","v":0},0,0,0,0,0,0,0,0,0,0,0,0,0,0,0,0,0]
[68,{"$f":"IF($D177<=$B$6,STDEV(OFFSET(D371,0,2*$B$11-D371+$B$12):OFFSET(D371,0,2*$B$11+D371-1+$B$12))/C371,\"\")","v":""},{"$f":"IF($D177<=$B$6,AVERAGE(OFFSET(D371,0,2*$B$11-D371+$B$12):OFFSET(D371,0,2*$B$11+D371-1+$B$12)),\"\")","v":""},68,{"$f":"E201+E269","v":1.9},{"$f":"F201+F269","v":2.9},3.9,4.55,5.2,6.2,7.2,6.8000000000000007,6.4,6.65,6.9,7.45,8,7.55,7.1,7.55,8,8.5500000000000007,9.1,10.433333333333332,11.766666666666666,13.1,11.766666666666666,10.433333333333334,9.1,8.5500000000000007,8,7.55,7.1,7.55,8,7.45,6.9,6.65,6.4,6.8000000000000007,7.2,6.2,5.2,4.55,3.9,2.9,1.9,0,0,0,0,0,0,0,0,0,0,0,0,0,0,0,0,0,0,0,0,0,0,{"$f":"BR201+BR269","v":0},0,0,1.9,2.9,3.9,4.55,5.2,6.2,7.2,6.8000000000000007,6.4,6.65,6.9,7.45,8,7.55,7.1,7.55,8,8.5500000000000007,9.1,10.433333333333332,11.766666666666666,13.1,11.766666666666666,10.433333333333334,9.1,8.5500000000000007,8,7.55,7.1,7.55,8,7.45,6.9,6.65,6.4,6.8000000000000007,7.2,6.2,5.2,4.55,3.9,2.9,1.9,0,0,0,0,0,0,0,0,0,0,0,0,0,0,0,0,0,0,{"$f":"ED201+ED269","v":0},0,0,0,0,0,0,0,0,0,0,0,0,0,0,0,0,0,0]
[69,{"$f":"IF($D178<=$B$6,STDEV(OFFSET(D372,0,2*$B$11-D372+$B$12):OFFSET(D372,0,2*$B$11+D372-1+$B$12))/C372,\"\")","v":""},{"$f":"IF($D178<=$B$6,AVERAGE(OFFSET(D372,0,2*$B$11-D372+$B$12):OFFSET(D372,0,2*$B$11+D372-1+$B$12)),\"\")","v":""},69,{"$f":"E201+E270","v":1.9},{"$f":"F201+F270","v":2.9},3.9,4.55,5.2,6.2,7.2,6.8000000000000007,6.4,6.65,6.9,7.45,8,7.55,7.1,7.55,8,8.5500000000000007,9.1,10.433333333333332,11.766666666666666,13.1,11.766666666666666,10.433333333333334,9.1,8.5500000000000007,8,7.55,7.1,7.55,8,7.45,6.9,6.65,6.4,6.8000000000000007,7.2,6.2,5.2,4.55,3.9,2.9,1.9,0,0,0,0,0,0,0,0,0,0,0,0,0,0,0,0,0,0,0,0,0,0,{"$f":"BR201+BR270","v":0},0,0,0,1.9,2.9,3.9,4.55,5.2,6.2,7.2,6.8000000000000007,6.4,6.65,6.9,7.45,8,7.55,7.1,7.55,8,8.5500000000000007,9.1,10.433333333333332,11.766666666666666,13.1,11.766666666666666,10.433333333333334,9.1,8.5500000000000007,8,7.55,7.1,7.55,8,7.45,6.9,6.65,6.4,6.8000000000000007,7.2,6.2,5.2,4.55,3.9,2.9,1.9,0,0,0,0,0,0,0,0,0,0,0,0,0,0,0,0,0,{"$f":"ED201+ED270","v":0},0,0,0,0,0,0,0,0,0,0,0,0,0,0,0,0,0,0,0]
[70,{"$f":"IF($D179<=$B$6,STDEV(OFFSET(D373,0,2*$B$11-D373+$B$12):OFFSET(D373,0,2*$B$11+D373-1+$B$12))/C373,\"\")","v":""},{"$f":"IF($D179<=$B$6,AVERAGE(OFFSET(D373,0,2*$B$11-D373+$B$12):OFFSET(D373,0,2*$B$11+D373-1+$B$12)),\"\")","v":""},70,{"$f":"E201+E271","v":1.9},{"$f":"F201+F271","v":2.9},3.9,4.55,5.2,6.2,7.2,6.8000000000000007,6.4,6.65,6.9,7.45,8,7.55,7.1,7.55,8,8.5500000000000007,9.1,10.433333333333332,11.766666666666666,13.1,11.766666666666666,10.433333333333334,9.1,8.5500000000000007,8,7.55,7.1,7.55,8,7.45,6.9,6.65,6.4,6.8000000000000007,7.2,6.2,5.2,4.55,3.9,2.9,1.9,0,0,0,0,0,0,0,0,0,0,0,0,0,0,0,0,0,0,0,0,0,0,{"$f":"BR201+BR271","v":0},0,0,0,0,1.9,2.9,3.9,4.55,5.2,6.2,7.2,6.8000000000000007,6.4,6.65,6.9,7.45,8,7.55,7.1,7.55,8,8.5500000000000007,9.1,10.433333333333332,11.766666666666666,13.1,11.766666666666666,10.433333333333334,9.1,8.5500000000000007,8,7.55,7.1,7.55,8,7.45,6.9,6.65,6.4,6.8000000000000007,7.2,6.2,5.2,4.55,3.9,2.9,1.9,0,0,0,0,0,0,0,0,0,0,0,0,0,0,0,0,{"$f":"ED201+ED271","v":0},0,0,0,0,0,0,0,0,0,0,0,0,0,0,0,0,0,0,0,0]
[71,{"$f":"IF($D180<=$B$6,STDEV(OFFSET(D374,0,2*$B$11-D374+$B$12):OFFSET(D374,0,2*$B$11+D374-1+$B$12))/C374,\"\")","v":""},{"$f":"IF($D180<=$B$6,AVERAGE(OFFSET(D374,0,2*$B$11-D374+$B$12):OFFSET(D374,0,2*$B$11+D374-1+$B$12)),\"\")","v":""},71,{"$f":"E201+E272","v":1.9},{"$f":"F201+F272","v":2.9},3.9,4.55,5.2,6.2,7.2,6.8000000000000007,6.4,6.65,6.9,7.45,8,7.55,7.1,7.55,8,8.5500000000000007,9.1,10.433333333333332,11.766666666666666,13.1,11.766666666666666,10.433333333333334,9.1,8.5500000000000007,8,7.55,7.1,7.55,8,7.45,6.9,6.65,6.4,6.8000000000000007,7.2,6.2,5.2,4.55,3.9,2.9,1.9,0,0,0,0,0,0,0,0,0,0,0,0,0,0,0,0,0,0,0,0,0,0,{"$f":"BR201+BR272","v":0},0,0,0,0,0,1.9,2.9,3.9,4.55,5.2,6.2,7.2,6.8000000000000007,6.4,6.65,6.9,7.45,8,7.55,7.1,7.55,8,8.5500000000000007,9.1,10.433333333333332,11.766666666666666,13.1,11.766666666666666,10.433333333333334,9.1,8.5500000000000007,8,7.55,7.1,7.55,8,7.45,6.9,6.65,6.4,6.8000000000000007,7.2,6.2,5.2,4.55,3.9,2.9,1.9,0,0,0,0,0,0,0,0,0,0,0,0,0,0,0,{"$f":"ED201+ED272","v":0},0,0,0,0,0,0,0,0,0,0,0,0,0,0,0,0,0,0,0,0,0]
[72,{"$f":"IF($D181<=$B$6,STDEV(OFFSET(D375,0,2*$B$11-D375+$B$12):OFFSET(D375,0,2*$B$11+D375-1+$B$12))/C375,\"\")","v":""},{"$f":"IF($D181<=$B$6,AVERAGE(OFFSET(D375,0,2*$B$11-D375+$B$12):OFFSET(D375,0,2*$B$11+D375-1+$B$12)),\"\")","v":""},72,{"$f":"E201+E273","v":1.9},{"$f":"F201+F273","v":2.9},3.9,4.55,5.2,6.2,7.2,6.8000000000000007,6.4,6.65,6.9,7.45,8,7.55,7.1,7.55,8,8.5500000000000007,9.1,10.433333333333332,11.766666666666666,13.1,11.766666666666666,10.433333333333334,9.1,8.5500000000000007,8,7.55,7.1,7.55,8,7.45,6.9,6.65,6.4,6.8000000000000007,7.2,6.2,5.2,4.55,3.9,2.9,1.9,0,0,0,0,0,0,0,0,0,0,0,0,0,0,0,0,0,0,0,0,0,0,{"$f":"BR201+BR273","v":0},0,0,0,0,0,0,1.9,2.9,3.9,4.55,5.2,6.2,7.2,6.8000000000000007,6.4,6.65,6.9,7.45,8,7.55,7.1,7.55,8,8.5500000000000007,9.1,10.433333333333332,11.766666666666666,13.1,11.766666666666666,10.433333333333334,9.1,8.5500000000000007,8,7.55,7.1,7.55,8,7.45,6.9,6.65,6.4,6.8000000000000007,7.2,6.2,5.2,4.55,3.9,2.9,1.9,0,0,0,0,0,0,0,0,0,0,0,0,0,0,{"$f":"ED201+ED273","v":0},0,0,0,0,0,0,0,0,0,0,0,0,0,0,0,0,0,0,0,0,0,0]
[73,{"$f":"IF($D182<=$B$6,STDEV(OFFSET(D376,0,2*$B$11-D376+$B$12):OFFSET(D376,0,2*$B$11+D376-1+$B$12))/C376,\"\")","v":""},{"$f":"IF($D182<=$B$6,AVERAGE(OFFSET(D376,0,2*$B$11-D376+$B$12):OFFSET(D376,0,2*$B$11+D376-1+$B$12)),\"\")","v":""},73,{"$f":"E201+E274","v":1.9},{"$f":"F201+F274","v":2.9},3.9,4.55,5.2,6.2,7.2,6.8000000000000007,6.4,6.65,6.9,7.45,8,7.55,7.1,7.55,8,8.5500000000000007,9.1,10.433333333333332,11.766666666666666,13.1,11.766666666666666,10.433333333333334,9.1,8.5500000000000007,8,7.55,7.1,7.55,8,7.45,6.9,6.65,6.4,6.8000000000000007,7.2,6.2,5.2,4.55,3.9,2.9,1.9,0,0,0,0,0,0,0,0,0,0,0,0,0,0,0,0,0,0,0,0,0,0,{"$f":"BR201+BR274","v":0},0,0,0,0,0,0,0,1.9,2.9,3.9,4.55,5.2,6.2,7.2,6.8000000000000007,6.4,6.65,6.9,7.45,8,7.55,7.1,7.55,8,8.5500000000000007,9.1,10.433333333333332,11.766666666666666,13.1,11.766666666666666,10.433333333333334,9.1,8.5500000000000007,8,7.55,7.1,7.55,8,7.45,6.9,6.65,6.4,6.8000000000000007,7.2,6.2,5.2,4.55,3.9,2.9,1.9,0,0,0,0,0,0,0,0,0,0,0,0,0,{"$f":"ED201+ED274","v":0},0,0,0,0,0,0,0,0,0,0,0,0,0,0,0,0,0,0,0,0,0,0,{"$f":"FA201+FA274","v":0}]
[74,{"$f":"IF($D183<=$B$6,STDEV(OFFSET(D377,0,2*$B$11-D377+$B$12):OFFSET(D377,0,2*$B$11+D377-1+$B$12))/C377,\"\")","v":""},{"$f":"IF($D183<=$B$6,AVERAGE(OFFSET(D377,0,2*$B$11-D377+$B$12):OFFSET(D377,0,2*$B$11+D377-1+$B$12)),\"\")","v":""},74,{"$f":"E201+E275","v":1.9},{"$f":"F201+F275","v":2.9},3.9,4.55,5.2,6.2,7.2,6.8000000000000007,6.4,6.65,6.9,7.45,8,7.55,7.1,7.55,8,8.5500000000000007,9.1,10.433333333333332,11.766666666666666,13.1,11.766666666666666,10.433333333333334,9.1,8.5500000000000007,8,7.55,7.1,7.55,8,7.45,6.9,6.65,6.4,6.8000000000000007,7.2,6.2,5.2,4.55,3.9,2.9,1.9,0,0,0,0,0,0,0,0,0,0,0,0,0,0,0,0,0,0,0,0,0,0,{"$f":"BR201+BR275","v":0},0,0,0,0,0,0,0,0,1.9,2.9,3.9,4.55,5.2,6.2,7.2,6.8000000000000007,6.4,6.65,6.9,7.45,8,7.55,7.1,7.55,8,8.5500000000000007,9.1,10.433333333333332,11.766666666666666,13.1,11.766666666666666,10.433333333333334,9.1,8.5500000000000007,8,7.55,7.1,7.55,8,7.45,6.9,6.65,6.4,6.8000000000000007,7.2,6.2,5.2,4.55,3.9,2.9,1.9,0,0,0,0,0,0,0,0,0,0,0,0,{"$f":"ED201+ED275","v":0},0,0,0,0,0,0,0,0,0,0,0,0,0,0,0,0,0,0,0,0,0,0,0,{"$f":"FB201+FB275","v":0}]
[75,{"$f":"IF($D184<=$B$6,STDEV(OFFSET(D378,0,2*$B$11-D378+$B$12):OFFSET(D378,0,2*$B$11+D378-1+$B$12))/C378,\"\")","v":""},{"$f":"IF($D184<=$B$6,AVERAGE(OFFSET(D378,0,2*$B$11-D378+$B$12):OFFSET(D378,0,2*$B$11+D378-1+$B$12)),\"\")","v":""},75,{"$f":"E201+E276","v":1.9},{"$f":"F201+F276","v":2.9},3.9,4.55,5.2,6.2,7.2,6.8000000000000007,6.4,6.65,6.9,7.45,8,7.55,7.1,7.55,8,8.5500000000000007,9.1,10.433333333333332,11.766666666666666,13.1,11.766666666666666,10.433333333333334,9.1,8.5500000000000007,8,7.55,7.1,7.55,8,7.45,6.9,6.65,6.4,6.8000000000000007,7.2,6.2,5.2,4.55,3.9,2.9,1.9,0,0,0,0,0,0,0,0,0,0,0,0,0,0,0,0,0,0,0,0,0,0,{"$f":"BR201+BR276","v":0},0,0,0,0,0,0,0,0,0,1.9,2.9,3.9,4.55,5.2,6.2,7.2,6.8000000000000007,6.4,6.65,6.9,7.45,8,7.55,7.1,7.55,8,8.5500000000000007,9.1,10.433333333333332,11.766666666666666,13.1,11.766666666666666,10.433333333333334,9.1,8.5500000000000007,8,7.55,7.1,7.55,8,7.45,6.9,6.65,6.4,6.8000000000000007,7.2,6.2,5.2,4.55,3.9,2.9,1.9,0,0,0,0,0,0,0,0,0,0,0,{"$f":"ED201+ED276","v":0},0,0,0,0,0,0,0,0,0,0,0,0,0,0,0,0,0,0,0,0,0,0,0,0,0]
[76,{"$f":"IF($D185<=$B$6,STDEV(OFFSET(D379,0,2*$B$11-D379+$B$12):OFFSET(D379,0,2*$B$11+D379-1+$B$12))/C379,\"\")","v":""},{"$f":"IF($D185<=$B$6,AVERAGE(OFFSET(D379,0,2*$B$11-D379+$B$12):OFFSET(D379,0,2*$B$11+D379-1+$B$12)),\"\")","v":""},76,{"$f":"E201+E277","v":1.9},{"$f":"F201+F277","v":2.9},3.9,4.55,5.2,6.2,7.2,6.8000000000000007,6.4,6.65,6.9,7.45,8,7.55,7.1,7.55,8,8.5500000000000007,9.1,10.433333333333332,11.766666666666666,13.1,11.766666666666666,10.433333333333334,9.1,8.5500000000000007,8,7.55,7.1,7.55,8,7.45,6.9,6.65,6.4,6.8000000000000007,7.2,6.2,5.2,4.55,3.9,2.9,1.9,0,0,0,0,0,0,0,0,0,0,0,0,0,0,0,0,0,0,0,0,0,0,{"$f":"BR201+BR277","v":0},0,0,0,0,0,0,0,0,0,0,1.9,2.9,3.9,4.55,5.2,6.2,7.2,6.8000000000000007,6.4,6.65,6.9,7.45,8,7.55,7.1,7.55,8,8.5500000000000007,9.1,10.433333333333332,11.766666666666666,13.1,11.766666666666666,10.433333333333334,9.1,8.5500000000000007,8,7.55,7.1,7.55,8,7.45,6.9,6.65,6.4,6.8000000000000007,7.2,6.2,5.2,4.55,3.9,2.9,1.9,0,0,0,0,0,0,0,0,0,0,{"$f":"ED201+ED277","v":0},0,0,0,0,0,0,0,0,0,0,0,0,0,0,0,0,0,0,0,0,0,0,0,0,0,0]
[77,{"$f":"IF($D186<=$B$6,STDEV(OFFSET(D380,0,2*$B$11-D380+$B$12):OFFSET(D380,0,2*$B$11+D380-1+$B$12))/C380,\"\")","v":""},{"$f":"IF($D186<=$B$6,AVERAGE(OFFSET(D380,0,2*$B$11-D380+$B$12):OFFSET(D380,0,2*$B$11+D380-1+$B$12)),\"\")","v":""},77,{"$f":"E201+E278","v":1.9},{"$f":"F201+F278","v":2.9},3.9,4.55,5.2,6.2,7.2,6.8000000000000007,6.4,6.65,6.9,7.45,8,7.55,7.1,7.55,8,8.5500000000000007,9.1,10.433333333333332,11.766666666666666,13.1,11.766666666666666,10.433333333333334,9.1,8.5500000000000007,8,7.55,7.1,7.55,8,7.45,6.9,6.65,6.4,6.8000000000000007,7.2,6.2,5.2,4.55,3.9,2.9,1.9,0,0,0,0,0,0,0,0,0,0,0,0,0,0,0,0,0,0,0,0,0,0,{"$f":"BR201+BR278","v":0},0,0,0,0,0,0,0,0,0,0,0,1.9,2.9,3.9,4.55,5.2,6.2,7.2,6.8000000000000007,6.4,6.65,6.9,7.45,8,7.55,7.1,7.55,8,8.5500000000000007,9.1,10.433333333333332,11.766666666666666,13.1,11.766666666666666,10.433333333333334,9.1,8.5500000000000007,8,7.55,7.1,7.55,8,7.45,6.9,6.65,6.4,6.8000000000000007,7.2,6.2,5.2,4.55,3.9,2.9,1.9,0,0,0,0,0,0,0,0,0,{"$f":"ED201+ED278","v":0},0,0,0,0,0,0,0,0,0,0,0,0,0,0,0,0,0,0,0,0,0,0,0,0,0,0,{"$f":"FE201+FE278","v":0}]
[78,{"$f":"IF($D187<=$B$6,STDEV(OFFSET(D381,0,2*$B$11-D381+$B$12):OFFSET(D381,0,2*$B$11+D381-1+$B$12))/C381,\"\")","v":""},{"$f":"IF($D187<=$B$6,AVERAGE(OFFSET(D381,0,2*$B$11-D381+$B$12):OFFSET(D381,0,2*$B$11+D381-1+$B$12)),\"\")","v":""},78,{"$f":"E201+E279","v":1.9},{"$f":"F201+F279","v":2.9},3.9,4.55,5.2,6.2,7.2,6.8000000000000007,6.4,6.65,6.9,7.45,8,7.55,7.1,7.55,8,8.5500000000000007,9.1,10.433333333333332,11.766666666666666,13.1,11.766666666666666,10.433333333333334,9.1,8.5500000000000007,8,7.55,7.1,7.55,8,7.45,6.9,6.65,6.4,6.8000000000000007,7.2,6.2,5.2,4.55,3.9,2.9,1.9,0,0,0,0,0,0,0,0,0,0,0,0,0,0,0,0,0,0,0,0,0,0,{"$f":"BR201+BR279","v":0},0,0,0,0,0,0,0,0,0,0,0,0,1.9,2.9,3.9,4.55,5.2,6.2,7.2,6.8000000000000007,6.4,6.65,6.9,7.45,8,7.55,7.1,7.55,8,8.5500000000000007,9.1,10.433333333333332,11.766666666666666,13.1,11.766666666666666,10.433333333333334,9.1,8.5500000000000007,8,7.55,7.1,7.55,8,7.45,6.9,6.65,6.4,6.8000000000000007,7.2,6.2,5.2,4.55,3.9,2.9,1.9,0,0,0,0,0,0,0,0,{"$f":"ED201+ED279","v":0},0,0,0,0,0,0,0,0,0,0,0,0,0,0,0,0,0,0,0,0,0,0,0,0,0,0,0,0]
[79,{"$f":"IF($D188<=$B$6,STDEV(OFFSET(D382,0,2*$B$11-D382+$B$12):OFFSET(D382,0,2*$B$11+D382-1+$B$12))/C382,\"\")","v":""},{"$f":"IF($D188<=$B$6,AVERAGE(OFFSET(D382,0,2*$B$11-D382+$B$12):OFFSET(D382,0,2*$B$11+D382-1+$B$12)),\"\")","v":""},79,{"$f":"E201+E280","v":1.9},{"$f":"F201+F280","v":2.9},3.9,4.55,5.2,6.2,7.2,6.8000000000000007,6.4,6.65,6.9,7.45,8,7.55,7.1,7.55,8,8.5500000000000007,9.1,10.433333333333332,11.766666666666666,13.1,11.766666666666666,10.433333333333334,9.1,8.5500000000000007,8,7.55,7.1,7.55,8,7.45,6.9,6.65,6.4,6.8000000000000007,7.2,6.2,5.2,4.55,3.9,2.9,1.9,0,0,0,0,0,0,0,0,0,0,0,0,0,0,0,0,0,0,0,0,0,0,{"$f":"BR201+BR280","v":0},0,0,0,0,0,0,0,0,0,0,0,0,0,1.9,2.9,3.9,4.55,5.2,6.2,7.2,6.8000000000000007,6.4,6.65,6.9,7.45,8,7.55,7.1,7.55,8,8.5500000000000007,9.1,10.433333333333332,11.766666666666666,13.1,11.766666666666666,10.433333333333334,9.1,8.5500000000000007,8,7.55,7.1,7.55,8,7.45,6.9,6.65,6.4,6.8000000000000007,7.2,6.2,5.2,4.55,3.9,2.9,1.9,0,0,0,0,0,0,0,{"$f":"ED201+ED280","v":0},0,0,0,0,0,0,0,0,0,0,0,0,0,0,0,0,0,0,0,0,0,0,0,0,0,0,0,0,0]
[80,{"$f":"IF($D189<=$B$6,STDEV(OFFSET(D383,0,2*$B$11-D383+$B$12):OFFSET(D383,0,2*$B$11+D383-1+$B$12))/C383,\"\")","v":""},{"$f":"IF($D189<=$B$6,AVERAGE(OFFSET(D383,0,2*$B$11-D383+$B$12):OFFSET(D383,0,2*$B$11+D383-1+$B$12)),\"\")","v":""},80,{"$f":"E201+E281","v":1.9},{"$f":"F201+F281","v":2.9},3.9,4.55,5.2,6.2,7.2,6.8000000000000007,6.4,6.65,6.9,7.45,8,7.55,7.1,7.55,8,8.5500000000000007,9.1,10.433333333333332,11.766666666666666,13.1,11.766666666666666,10.433333333333334,9.1,8.5500000000000007,8,7.55,7.1,7.55,8,7.45,6.9,6.65,6.4,6.8000000000000007,7.2,6.2,5.2,4.55,3.9,2.9,1.9,0,0,0,0,0,0,0,0,0,0,0,0,0,0,0,0,0,0,0,0,0,0,{"$f":"BR201+BR281","v":0},0,0,0,0,0,0,0,0,0,0,0,0,0,0,1.9,2.9,3.9,4.55,5.2,6.2,7.2,6.8000000000000007,6.4,6.65,6.9,7.45,8,7.55,7.1,7.55,8,8.5500000000000007,9.1,10.433333333333332,11.766666666666666,13.1,11.766666666666666,10.433333333333334,9.1,8.5500000000000007,8,7.55,7.1,7.55,8,7.45,6.9,6.65,6.4,6.8000000000000007,7.2,6.2,5.2,4.55,3.9,2.9,1.9,0,0,0,0,0,0,{"$f":"ED201+ED281","v":0},0,0,0,0,0,0,0,0,0,0,0,0,0,0,0,0,0,0,0,0,0,0,0,0,0,0,0,0,0,0]
[81,{"$f":"IF($D190<=$B$6,STDEV(OFFSET(D384,0,2*$B$11-D384+$B$12):OFFSET(D384,0,2*$B$11+D384-1+$B$12))/C384,\"\")","v":""},{"$f":"IF($D190<=$B$6,AVERAGE(OFFSET(D384,0,2*$B$11-D384+$B$12):OFFSET(D384,0,2*$B$11+D384-1+$B$12)),\"\")","v":""},81,{"$f":"E201+E282","v":1.9},{"$f":"F201+F282","v":2.9},3.9,4.55,5.2,6.2,7.2,6.8000000000000007,6.4,6.65,6.9,7.45,8,7.55,7.1,7.55,8,8.5500000000000007,9.1,10.433333333333332,11.766666666666666,13.1,11.766666666666666,10.433333333333334,9.1,8.5500000000000007,8,7.55,7.1,7.55,8,7.45,6.9,6.65,6.4,6.8000000000000007,7.2,6.2,5.2,4.55,3.9,2.9,1.9,0,0,0,0,0,0,0,0,0,0,0,0,0,0,0,0,0,0,0,0,0,0,{"$f":"BR201+BR282","v":0},0,0,0,0,0,0,0,0,0,0,0,0,0,0,0,1.9,2.9,3.9,4.55,5.2,6.2,7.2,6.8000000000000007,6.4,6.65,6.9,7.45,8,7.55,7.1,7.55,8,8.5500000000000007,9.1,10.433333333333332,11.766666666666666,13.1,11.766666666666666,10.433333333333334,9.1,8.5500000000000007,8,7.55,7.1,7.55,8,7.45,6.9,6.65,6.4,6.8000000000000007,7.2,6.2,5.2,4.55,3.9,2.9,1.9,0,0,0,0,0,{"$f":"ED201+ED282","v":0},0,0,0,0,0,0,0,0,0,0,0,0,0,0,0,0,0,0,0,0,0,0,0,0,0,0,0,0,0,0,0]
[]
[null,null,null,"Plot",{"$f":"VLOOKUP('Spread Patterns'!$B$14,$A$304:$EY$353,COLUMN(E1))","v":1.9},{"$f":"VLOOKUP('Spread Patterns'!$B$14,$A$304:$EY$353,COLUMN(F1))","v":2.9},{"$f":"VLOOKUP('Spread Patterns'!$B$14,$A$304:$EY$353,COLUMN(G1))","v":3.9},{"$f":"VLOOKUP('Spread Patterns'!$B$14,$A$304:$EY$353,COLUMN(H1))","v":4.55},{"$f":"VLOOKUP('Spread Patterns'!$B$14,$A$304:$EY$353,COLUMN(I1))","v":5.2},{"$f":"VLOOKUP('Spread Patterns'!$B$14,$A$304:$EY$353,COLUMN(J1))","v":6.2},{"$f":"VLOOKUP('Spread Patterns'!$B$14,$A$304:$EY$353,COLUMN(K1))","v":7.2},{"$f":"VLOOKUP('Spread Patterns'!$B$14,$A$304:$EY$353,COLUMN(L1))","v":6.8000000000000007},{"$f":"VLOOKUP('Spread Patterns'!$B$14,$A$304:$EY$353,COLUMN(M1))","v":6.4},{"$f":"VLOOKUP('Spread Patterns'!$B$14,$A$304:$EY$353,COLUMN(N1))","v":6.65},{"$f":"VLOOKUP('Spread Patterns'!$B$14,$A$304:$EY$353,COLUMN(O1))","v":6.9},{"$f":"VLOOKUP('Spread Patterns'!$B$14,$A$304:$EY$353,COLUMN(P1))","v":7.45},{"$f":"VLOOKUP('Spread Patterns'!$B$14,$A$304:$EY$353,COLUMN(Q1))","v":8},{"$f":"VLOOKUP('Spread Patterns'!$B$14,$A$304:$EY$353,COLUMN(R1))","v":7.55},{"$f":"VLOOKUP('Spread Patterns'!$B$14,$A$304:$EY$353,COLUMN(S1))","v":7.1},{"$f":"VLOOKUP('Spread Patterns'!$B$14,$A$304:$EY$353,COLUMN(T1))","v":7.55},{"$f":"VLOOKUP('Spread Patterns'!$B$14,$A$304:$EY$353,COLUMN(U1))","v":8},{"$f":"VLOOKUP('Spread Patterns'!$B$14,$A$304:$EY$353,COLUMN(V1))","v":8.5500000000000007},{"$f":"VLOOKUP('Spread Patterns'!$B$14,$A$304:$EY$353,COLUMN(W1))","v":9.1},{"$f":"VLOOKUP('Spread Patterns'!$B$14,$A$304:$EY$353,COLUMN(X1))","v":10.433333333333332},{"$f":"VLOOKUP('Spread Patterns'!$B$14,$A$304:$EY$353,COLUMN(Y1))","v":11.766666666666666},{"$f":"VLOOKUP('Spread Patterns'!$B$14,$A$304:$EY$353,COLUMN(Z1))","v":13.1},{"$f":"VLOOKUP('Spread Patterns'!$B$14,$A$304:$EY$353,COLUMN(AA1))","v":11.766666666666666},{"$f":"VLOOKUP('Spread Patterns'!$B$14,$A$304:$EY$353,COLUMN(AB1))","v":10.433333333333334},{"$f":"VLOOKUP('Spread Patterns'!$B$14,$A$304:$EY$353,COLUMN(AC1))","v":9.1},{"$f":"VLOOKUP('Spread Patterns'!$B$14,$A$304:$EY$353,COLUMN(AD1))","v":8.5500000000000007},{"$f":"VLOOKUP('Spread Patterns'!$B$14,$A$304:$EY$353,COLUMN(AE1))","v":8},{"$f":"VLOOKUP('Spread Patterns'!$B$14,$A$304:$EY$353,COLUMN(AF1))","v":7.55},{"$f":"VLOOKUP('Spread Patterns'!$B$14,$A$304:$EY$353,COLUMN(AG1))","v":7.1},{"$f":"VLOOKUP('Spread Patterns'!$B$14,$A$304:$EY$353,COLUMN(AH1))","v":7.55},{"$f":"VLOOKUP('Spread Patterns'!$B$14,$A$304:$EY$353,COLUMN(AI1))","v":8},{"$f":"VLOOKUP('Spread Patterns'!$B$14,$A$304:$EY$353,COLUMN(AJ1))","v":7.45},{"$f":"VLOOKUP('Spread Patterns'!$B$14,$A$304:$EY$353,COLUMN(AK1))","v":6.9},{"$f":"VLOOKUP('Spread Patterns'!$B$14,$A$304:$EY$353,COLUMN(AL1))","v":6.65},{"$f":"VLOOKUP('Spread Patterns'!$B$14,$A$304:$EY$353,COLUMN(AM1))","v":6.4},{"$f":"VLOOKUP('Spread Patterns'!$B$14,$A$304:$EY$353,COLUMN(AN1))","v":6.8000000000000007},{"$f":"VLOOKUP('Spread Patterns'!$B$14,$A$304:$EY$353,COLUMN(AO1))","v":7.2},{"$f":"VLOOKUP('Spread Patterns'!$B$14,$A$304:$EY$353,COLUMN(AP1))","v":6.2},{"$f":"VLOOKUP('Spread Patterns'!$B$14,$A$304:$EY$353,COLUMN(AQ1))","v":5.2},{"$f":"VLOOKUP('Spread Patterns'!$B$14,$A$304:$EY$353,COLUMN(AR1))","v":6.4499999999999993},{"$f":"VLOOKUP('Spread Patterns'!$B$14,$A$304:$EY$353,COLUMN(AS1))","v":6.8},{"$f":"VLOOKUP('Spread Patterns'!$B$14,$A$304:$EY$353,COLUMN(AT1))","v":6.8},{"$f":"VLOOKUP('Spread Patterns'!$B$14,$A$304:$EY$353,COLUMN(AU1))","v":6.4499999999999993},{"$f":"VLOOKUP('Spread Patterns'!$B$14,$A$304:$EY$353,COLUMN(AV1))","v":5.2},{"$f":"VLOOKUP('Spread Patterns'!$B$14,$A$304:$EY$353,COLUMN(AW1))","v":6.2},{"$f":"VLOOKUP('Spread Patterns'!$B$14,$A$304:$EY$353,COLUMN(AX1))","v":7.2},{"$f":"VLOOKUP('Spread Patterns'!$B$14,$A$304:$EY$353,COLUMN(AY1))","v":6.8000000000000007},{"$f":"VLOOKUP('Spread Patterns'!$B$14,$A$304:$EY$353,COLUMN(AZ1))","v":6.4},{"$f":"VLOOKUP('Spread Patterns'!$B$14,$A$304:$EY$353,COLUMN(BA1))","v":6.65},{"$f":"VLOOKUP('Spread Patterns'!$B$14,$A$304:$EY$353,COLUMN(BB1))","v":6.9},{"$f":"VLOOKUP('Spread Patterns'!$B$14,$A$304:$EY$353,COLUMN(BC1))","v":7.45},{"$f":"VLOOKUP('Spread Patterns'!$B$14,$A$304:$EY$353,COLUMN(BD1))","v":8},{"$f":"VLOOKUP('Spread Patterns'!$B$14,$A$304:$EY$353,COLUMN(BE1))","v":7.55},{"$f":"VLOOKUP('Spread Patterns'!$B$14,$A$304:$EY$353,COLUMN(BF1))","v":7.1},{"$f":"VLOOKUP('Spread Patterns'!$B$14,$A$304:$EY$353,COLUMN(BG1))","v":7.55},{"$f":"VLOOKUP('Spread Patterns'!$B$14,$A$304:$EY$353,COLUMN(BH1))","v":8},{"$f":"VLOOKUP('Spread Patterns'!$B$14,$A$304:$EY$353,COLUMN(BI1))","v":8.5500000000000007},{"$f":"VLOOKUP('Spread Patterns'!$B$14,$A$304:$EY$353,COLUMN(BJ1))","v":9.1},{"$f":"VLOOKUP('Spread Patterns'!$B$14,$A$304:$EY$353,COLUMN(BK1))","v":10.433333333333332},{"$f":"VLOOKUP('Spread Patterns'!$B$14,$A$304:$EY$353,COLUMN(BL1))","v":11.766666666666666},{"$f":"VLOOKUP('Spread Patterns'!$B$14,$A$304:$EY$353,COLUMN(BM1))","v":13.1},{"$f":"VLOOKUP('Spread Patterns'!$B$14,$A$304:$EY$353,COLUMN(BN1))","v":11.766666666666666},{"$f":"VLOOKUP('Spread Patterns'!$B$14,$A$304:$EY$353,COLUMN(BO1))","v":10.433333333333334},{"$f":"VLOOKUP('Spread Patterns'!$B$14,$A$304:$EY$353,COLUMN(BP1))","v":9.1},{"$f":"VLOOKUP('Spread Patterns'!$B$14,$A$304:$EY$353,COLUMN(BQ1))","v":8.5500000000000007},{"$f":"VLOOKUP('Spread Patterns'!$B$14,$A$304:$EY$353,COLUMN(BR1))","v":8},{"$f":"VLOOKUP('Spread Patterns'!$B$14,$A$304:$EY$353,COLUMN(BS1))","v":7.55},{"$f":"VLOOKUP('Spread Patterns'!$B$14,$A$304:$EY$353,COLUMN(BT1))","v":7.1},{"$f":"VLOOKUP('Spread Patterns'!$B$14,$A$304:$EY$353,COLUMN(BU1))","v":7.55},{"$f":"VLOOKUP('Spread Patterns'!$B$14,$A$304:$EY$353,COLUMN(BV1))","v":8},{"$f":"VLOOKUP('Spread Patterns'!$B$14,$A$304:$EY$353,COLUMN(BW1))","v":7.45},{"$f":"VLOOKUP('Spread Patterns'!$B$14,$A$304:$EY$353,COLUMN(BX1))","v":6.9},{"$f":"VLOOKUP('Spread Patterns'!$B$14,$A$304:$EY$353,COLUMN(BY1))","v":6.65},{"$f":"VLOOKUP('Spread Patterns'!$B$14,$A$304:$EY$353,COLUMN(BZ1))","v":6.4},{"$f":"VLOOKUP('Spread Patterns'!$B$14,$A$304:$EY$353,COLUMN(CA1))","v":6.8000000000000007},{"$f":"VLOOKUP('Spread Patterns'!$B$14,$A$304:$EY$353,COLUMN(CB1))","v":7.2},{"$f":"VLOOKUP('Spread Patterns'!$B$14,$A$304:$EY$353,COLUMN(CC1))","v":6.2},{"$f":"VLOOKUP('Spread Patterns'!$B$14,$A$304:$EY$353,COLUMN(CD1))","v":5.2},{"$f":"VLOOKUP('Spread Patterns'!$B$14,$A$304:$EY$353,COLUMN(CE1))","v":6.4499999999999993},{"$f":"VLOOKUP('Spread Patterns'!$B$14,$A$304:$EY$353,COLUMN(CF1))","v":6.8},{"$f":"VLOOKUP('Spread Patterns'!$B$14,$A$304:$EY$353,COLUMN(CG1))","v":6.8}]

{"sheet":"Report Charts","index":3,"n_rows":33,"n_cols":6,"rows_kept":33,"cut":false,"hidden":false,"merged":[]}
[null,"Test Summary "]
[]
[null,{"$f":"home!B3","v":"Machine Designation"},{"$f":"home!C3","v":"916T "},null,{"$f":"home!E3","v":"Spinner Speed (rpm)"},{"$f":"home!F3","v":900}]
[null,{"$f":"home!B4","v":"Test Date"},{"$f":"home!C4","v":"2023-06-19"},null,{"$f":"home!E4","v":"Spinner Diam (mm)"},{"$f":"home!F4","v":600}]
[null,{"$f":"home!B5","v":"Test Time"},"10am",null,{"$f":"home!E5","v":"Number of Vanes"},{"$f":"home!F5","v":"D3 Gran"}]
[null,{"$f":"home!B6","v":"Fertiliser type"},{"$f":"home!C6","v":"Urea "},null,{"$f":"home!E6","v":"Vane Position"},{"$f":"home!F6","v":"2 x pos 1, 2 x pos 3"}]
[null,null,null,null,{"$f":"home!E8","v":"Disc Type"},{"$f":"home!F8","v":"D3 - 14 deg"}]
[null,null,null,null,{"$f":"home!E9","v":"Chute Type"},{"$f":"home!F9","v":"D3 with gran deflector"}]
[null,{"$f":"home!B9","v":"Avg Wind Speed (kph)"},{"$f":"home!C9","v":0},null,{"$f":"home!E10","v":"Forward Speed (kph)"},{"$f":"home!F10","v":20}]
[null,{"$f":"home!B10","v":"Wind Direction "},{"$f":"home!C10","v":0},null,{"$f":"home!E11","v":"Door Opening (mm)"},{"$f":"home!F11","v":"NA"}]
[null,{"$f":"home!B11","v":"Temperature (degC)"},{"$f":"home!C11","v":0},null,{"$f":"home!E12","v":"Gear Setting "},{"$f":"home!F12","v":"VR HYD "}]
[null,{"$f":"home!B12","v":"Humidity (%)"},{"$f":"home!C12","v":0},null,{"$f":"home!E13","v":0},{"$f":"home!F13","v":0}]
[null,null,null,null,null,{"$f":"home!F14","v":0}]
[]
[]
[]
[]
[]
[]
[]
[]
[]
[]
[]
[]
[]
[]
[]
[]
[null,null,{"$f":"home!F19","v":"Bout Width"},{"$f":"home!G19","v":"Application Rate"}]
[null,null,{"$f":"home!F20","v":" (m)"},{"$f":"home!G20","v":"(kg/ha)"}]
[null,{"$f":"home!E21","v":"Racetrack"},{"$f":"home!F21","v":25},{"$f":"home!G21","v":160.6933333333333}]
[null,{"$f":"home!E22","v":"To & fro"},{"$f":"home!F22","v":25},{"$f":"home!G22","v":160.69333333333333}]

{"sheet":"laps_data","index":5,"n_rows":100,"n_cols":28,"rows_kept":100,"cut":false,"hidden":false,"merged":[]}
[null,{"$f":"laps!B108","v":"racetrack"},{"$f":"laps!B302","v":"to & fro"},{"$f":"home!G16","v":"Target CoV"},null,null,null,{"$f":"B1","v":"racetrack"},null,{"$f":"C1","v":"to & fro"},null,null,null,"Plotting - Trays from Centre",null,null,null,null,null,null,"Tray position Data",null,null,null,"Mass Fraction",null,null,"Mass Fraction"]
[1,{"$f":"laps!B110","v":{"$error":"#DIV/0!"}},{"$f":"laps!B304","v":0},{"$f":"home!$G$18/100","v":0.15},{"$f":"V2","v":43},null,81,{"$f":"IF(OFFSET($B$2,$G2-1,0)=\"\",0,1-OFFSET($B$2,$G2-1,0))","v":0},{"$f":"IF(H2>=1-D2,\"X\",\"\")","v":""},{"$f":"IF(OFFSET($B$2,$G2-1,0)=\"\",0,1-OFFSET($C$2,$G2-1,0))","v":0},{"$f":"IF(J2>=1-D2,\"X\",\"\")","v":""},{"$f":"G2","v":81},null,{"$f":"laps!A110-home!$B$18*home!$E$18","v":-21},{"$f":"IF(home!C19<>0,home!C19,NA())","v":1.9},{"$f":"-ROUNDDOWN($V$2/2,0)-1+A2","v":-21},null,{"$f":"home!G21","v":160.6933333333333},0,null,{"$f":"laps!A6","v":"trays"},{"$f":"laps!B6","v":43},{"$f":"V3-V2","v":-21},{"$f":"home!C19","v":1.9},{"$f":"X2/$Y$97","v":6.3060073016926671E-3},null,{"$f":"A2","v":1},{"$f":"home!C19","v":1.9}]
[2,{"$f":"laps!B111","v":2.6597666290896394E-3},{"$f":"laps!B305","v":2.171690358717354E-3},{"$f":"home!$G$18/100","v":0.15},{"$f":"E2-1","v":42},null,80,{"$f":"IF(OFFSET($B$2,$G3-1,0)=\"\",0,1-OFFSET($B$2,$G3-1,0))","v":0},"",{"$f":"IF(OFFSET($B$2,$G3-1,0)=\"\",0,1-OFFSET($C$2,$G3-1,0))","v":0},"",80,null,{"$f":"laps!A111-home!$B$18*home!$E$18","v":-20},{"$f":"IF(home!C20<>0,home!C20,NA())","v":2.9},{"$f":"-ROUNDDOWN($V$2/2,0)-1+A3","v":-20},null,{"$f":"home!G21","v":160.6933333333333},{"$f":"home!G18/100","v":0.15},null,{"$f":"laps!A7","v":"Centre"},{"$f":"laps!B7","v":22},{"$f":"W2+1","v":-20},{"$f":"home!C20","v":2.9},9.6249585131098596E-3,null,2,{"$f":"home!C20","v":2.9}]
[3,{"$f":"laps!B112","v":2.2132079685164844E-2},{"$f":"laps!B306","v":1.9795533863788333E-2},{"$f":"home!$G$18/100","v":0.15},{"$f":"E3-1","v":41},null,79,0,"",0,"",79,null,{"$f":"laps!A112-home!$B$18*home!$E$18","v":-19},{"$f":"IF(home!C21<>0,home!C21,NA())","v":3.9},-19,null,{"$f":"home!G22","v":160.69333333333333},0,null,{"$f":"laps!A8","v":"2n-1"},{"$f":"laps!B8","v":43},{"$f":"W3+1","v":-19},{"$f":"home!C21","v":3.9},1.2943909724527053E-2,null,3,{"$f":"home!C21","v":3.9}]
[4,{"$f":"laps!B113","v":1.7658151302337759E-2},{"$f":"laps!B307","v":1.6348271400529153E-2},{"$f":"home!$G$18/100","v":0.15},{"$f":"E4-1","v":40},null,78,0,"",0,"",78,null,{"$f":"laps!A113-home!$B$18*home!$E$18","v":-18},{"$f":"IF(home!C22<>0,home!C22,NA())","v":4.55},-18,null,{"$f":"home!G22","v":160.69333333333333},{"$f":"home!G18/100","v":0.15},null,{"$f":"laps!A9","v":"diff"},{"$f":"laps!B9","v":0},-18,{"$f":"home!C22","v":4.55},1.5101228011948228E-2,null,4,{"$f":"home!C22","v":4.55}]
[5,{"$f":"laps!B114","v":5.2746429154412681E-2},{"$f":"laps!B308","v":4.9729810317948028E-2},{"$f":"home!$G$18/100","v":0.15},39,null,77,0,"",0,"",77,null,{"$f":"laps!A114-home!$B$18*home!$E$18","v":-17},{"$f":"IF(home!C23<>0,home!C23,NA())","v":5.2},-17,null,null,null,null,{"$f":"laps!A10","v":"virt#"},{"$f":"laps!B10","v":43},-17,{"$f":"home!C23","v":5.2},1.7258546299369407E-2,null,5,{"$f":"home!C23","v":5.2}]
[6,{"$f":"laps!B115","v":2.3462895957168921E-2},{"$f":"laps!B309","v":2.2370993530522219E-2},{"$f":"home!$G$18/100","v":0.15},38,null,76,0,"",0,"",76,null,{"$f":"laps!A115-home!$B$18*home!$E$18","v":-16},{"$f":"IF(home!C24<>0,home!C24,NA())","v":6.2},-16,null,null,null,null,{"$f":"laps!A11","v":"virtc"},{"$f":"laps!B11","v":22},-16,{"$f":"home!C24","v":6.2},2.0577497510786601E-2,null,6,{"$f":"home!C24","v":6.2}]
[7,{"$f":"laps!B116","v":2.3878558273195349E-2},{"$f":"laps!B310","v":2.2941776710883762E-2},{"$f":"home!$G$18/100","v":0.15},37,null,75,0,"",0,"",75,null,{"$f":"laps!A116-home!$B$18*home!$E$18","v":-15},{"$f":"IF(home!C25<>0,home!C25,NA())","v":7.2},-15,null,null,null,null,{"$f":"laps!A12","v":"abs diff"},{"$f":"laps!B12","v":0},-15,{"$f":"home!C25","v":7.2},2.3896448722203794E-2,null,7,{"$f":"home!C25","v":7.2}]
[8,{"$f":"laps!B117","v":4.6790056528213241E-2},{"$f":"laps!B311","v":4.5203489141722571E-2},{"$f":"home!$G$18/100","v":0.15},36,null,74,0,"",0,"",74,null,{"$f":"laps!A117-home!$B$18*home!$E$18","v":-14},{"$f":"IF(home!C26<>0,home!C26,NA())","v":6.8000000000000007},-14,null,null,null,null,null,null,-14,{"$f":"home!C26","v":6.8000000000000007},2.2568868237636916E-2,null,8,{"$f":"home!C26","v":6.8000000000000007}]
[9,{"$f":"laps!B118","v":8.4377725760316158E-2},{"$f":"laps!B312","v":8.1858417825690311E-2},{"$f":"home!$G$18/100","v":0.15},35,null,73,0,"",0,"",73,null,{"$f":"laps!A118-home!$B$18*home!$E$18","v":-13},{"$f":"IF(home!C27<>0,home!C27,NA())","v":6.4},-13,null,null,null,null,null,null,-13,{"$f":"home!C27","v":6.4},2.1241287753070038E-2,null,9,{"$f":"home!C27","v":6.4}]
[10,{"$f":"laps!B119","v":6.9296241121695842E-2},{"$f":"laps!B313","v":6.744800828268889E-2},{"$f":"home!$G$18/100","v":0.15},34,null,72,0,"",0,"",72,null,{"$f":"laps!A119-home!$B$18*home!$E$18","v":-12},{"$f":"IF(home!C28<>0,home!C28,NA())","v":6.65},-12,null,null,null,null,null,null,-12,{"$f":"home!C28","v":6.65},2.2071025555924335E-2,null,10,{"$f":"home!C28","v":6.65}]
[11,{"$f":"laps!B120","v":1.2381709675148086E-2},{"$f":"laps!B314","v":1.2083311375204591E-2},{"$f":"home!$G$18/100","v":0.15},33,null,71,0,"",0,"",71,null,{"$f":"laps!A120-home!$B$18*home!$E$18","v":-11},{"$f":"IF(home!C29<>0,home!C29,NA())","v":6.9},-11,null,null,null,null,null,null,-11,{"$f":"home!C29","v":6.9},2.2900763358778636E-2,null,11,{"$f":"home!C29","v":6.9}]
[12,{"$f":"laps!B121","v":3.1563208570776623E-2},{"$f":"laps!B315","v":3.086942695783083E-2},{"$f":"home!$G$18/100","v":0.15},32,null,70,0,"",0,"",70,null,{"$f":"laps!A121-home!$B$18*home!$E$18","v":-10},{"$f":"IF(home!C30<>0,home!C30,NA())","v":7.45},-10,null,null,null,null,null,null,-10,{"$f":"home!C30","v":7.45},2.4726186525058091E-2,null,12,{"$f":"home!C30","v":7.45}]
[13,{"$f":"laps!B122","v":7.1101581714048831E-2},{"$f":"laps!B316","v":6.9665038041689012E-2},{"$f":"home!$G$18/100","v":0.15},31,null,69,0,"",0,"",69,null,{"$f":"laps!A122-home!$B$18*home!$E$18","v":-9},{"$f":"IF(home!C31<>0,home!C31,NA())","v":8},-9,null,null,null,null,null,null,-9,{"$f":"home!C31","v":8},2.6551609691337547E-2,null,13,{"$f":"home!C31","v":8}]
[14,{"$f":"laps!B123","v":0.13340006763989706},{"$f":"laps!B317","v":0.13090638854972561},{"$f":"home!$G$18/100","v":0.15},30,null,68,0,"",0,"",68,null,{"$f":"laps!A123-home!$B$18*home!$E$18","v":-8},{"$f":"IF(home!C32<>0,home!C32,NA())","v":7.55},-8,null,null,null,null,null,null,-8,{"$f":"home!C32","v":7.55},2.5058081646199808E-2,null,14,{"$f":"home!C32","v":7.55}]
[15,{"$f":"laps!B124","v":0.18173861113410797},{"$f":"laps!B318","v":0.17857769851057939},{"$f":"home!$G$18/100","v":0.15},29,null,67,0,"",0,"",67,null,{"$f":"laps!A124-home!$B$18*home!$E$18","v":-7},{"$f":"IF(home!C33<>0,home!C33,NA())","v":7.1},-7,null,null,null,null,null,null,-7,{"$f":"home!C33","v":7.1},2.356455360106207E-2,null,15,{"$f":"home!C33","v":7.1}]
[16,{"$f":"laps!B125","v":0.1938702239639605},{"$f":"laps!B319","v":0.19071765249718026},{"$f":"home!$G$18/100","v":0.15},28,null,66,0,"",0,"",66,null,{"$f":"laps!A125-home!$B$18*home!$E$18","v":-6},{"$f":"IF(home!C34<>0,home!C34,NA())","v":7.55},-6,null,null,null,null,null,null,-6,{"$f":"home!C34","v":7.55},2.5058081646199808E-2,null,16,{"$f":"home!C34","v":7.55}]
[17,{"$f":"laps!B126","v":0.19034907577308829},{"$f":"laps!B320","v":0.18744281234757981},{"$f":"home!$G$18/100","v":0.15},27,null,65,0,"",0,"",65,null,{"$f":"laps!A126-home!$B$18*home!$E$18","v":-5},{"$f":"IF(home!C35<>0,home!C35,NA())","v":8},-5,null,null,null,null,null,null,-5,{"$f":"home!C35","v":8},2.6551609691337547E-2,null,17,{"$f":"home!C35","v":8}]
[18,{"$f":"laps!B127","v":0.16714679622495104},{"$f":"laps!B321","v":0.16474168096065922},{"$f":"home!$G$18/100","v":0.15},26,null,64,0,"",0,"",64,null,{"$f":"laps!A127-home!$B$18*home!$E$18","v":-4},{"$f":"IF(home!C36<>0,home!C36,NA())","v":8.5500000000000007},-4,null,null,null,null,null,null,-4,{"$f":"home!C36","v":8.5500000000000007},2.8377032857617005E-2,null,18,{"$f":"home!C36","v":8.5500000000000007}]
[19,{"$f":"laps!B128","v":0.1303812881785367},{"$f":"laps!B322","v":0.12860731044071552},{"$f":"home!$G$18/100","v":0.15},25,null,63,0,"",0,"",63,null,{"$f":"laps!A128-home!$B$18*home!$E$18","v":-3},{"$f":"IF(home!C37<>0,home!C37,NA())","v":9.1},-3,null,null,null,null,null,null,-3,{"$f":"home!C37","v":9.1},3.0202456023896457E-2,null,19,{"$f":"home!C37","v":9.1}]
[20,{"$f":"laps!B129","v":9.1549888093172424E-2},{"$f":"laps!B323","v":9.036854972195818E-2},{"$f":"home!$G$18/100","v":0.15},24,null,62,0,"",0,"",62,null,{"$f":"laps!A129-home!$B$18*home!$E$18","v":-2},{"$f":"IF(home!C38<>0,home!C38,NA())","v":10.433333333333334},-2,null,null,null,null,null,null,-2,{"$f":"home!C38","v":10.433333333333334},3.4627724305786048E-2,null,20,{"$f":"home!C38","v":10.433333333333334}]
[21,{"$f":"laps!B130","v":4.8472654667185401E-2},{"$f":"laps!B324","v":4.7877875642953885E-2},{"$f":"home!$G$18/100","v":0.15},23,null,61,0,"",0,"",61,null,{"$f":"laps!A130-home!$B$18*home!$E$18","v":-1},{"$f":"IF(home!C39<>0,home!C39,NA())","v":11.766666666666667},-1,null,null,null,null,null,null,-1,{"$f":"home!C39","v":11.766666666666667},3.9052992587675646E-2,null,21,{"$f":"home!C39","v":11.766666666666667}]
[22,{"$f":"laps!B131","v":3.8076491415707167E-2},{"$f":"laps!B325","v":3.7631137014222708E-2},{"$f":"home!$G$18/100","v":0.15},22,null,60,0,"",0,"",60,null,{"$f":"laps!A131-home!$B$18*home!$E$18","v":0},{"$f":"IF(home!C40<>0,home!C40,NA())","v":13.1},0,null,null,null,null,null,null,0,{"$f":"home!C40","v":13.1},4.347826086956523E-2,null,22,{"$f":"home!C40","v":13.1}]
[23,{"$f":"laps!B132","v":7.5780616047736046E-2},{"$f":"laps!B326","v":7.4933878677919646E-2},{"$f":"home!$G$18/100","v":0.15},21,null,59,0,"",0,"",59,null,{"$f":"laps!A132-home!$B$18*home!$E$18","v":1},{"$f":"IF(home!C41<>0,home!C41,NA())","v":11.766666666666666},1,null,null,null,null,null,null,1,{"$f":"home!C41","v":11.766666666666666},3.9052992587675639E-2,null,23,{"$f":"home!C41","v":11.766666666666666}]
[24,{"$f":"laps!B133","v":0.10952285372644893},{"$f":"laps!B327","v":0.10835145262756793},{"$f":"home!$G$18/100","v":0.15},20,null,58,0,"",0,"",58,null,{"$f":"laps!A133-home!$B$18*home!$E$18","v":2},{"$f":"IF(home!C42<>0,home!C42,NA())","v":10.433333333333332},2,null,null,null,null,null,null,2,{"$f":"home!C42","v":10.433333333333332},3.4627724305786048E-2,null,24,{"$f":"home!C42","v":10.433333333333332}]
[25,{"$f":"laps!B134","v":0.13537931254819668},{"$f":"laps!B328","v":0.13399077007269866},{"$f":"home!$G$18/100","v":0.15},19,null,57,0,"",0,"",57,null,{"$f":"laps!A134-home!$B$18*home!$E$18","v":3},{"$f":"IF(home!C43<>0,home!C43,NA())","v":9.1},3,null,null,null,null,null,null,3,{"$f":"home!C43","v":9.1},3.0202456023896457E-2,null,25,{"$f":"home!C43","v":9.1}]
[26,{"$f":"laps!B135","v":0.15444645624596329},{"$f":"laps!B329","v":0.15292477917339323},{"$f":"home!$G$18/100","v":0.15},18,null,56,0,"",0,"",56,null,{"$f":"laps!A135-home!$B$18*home!$E$18","v":4},{"$f":"IF(home!C44<>0,home!C44,NA())","v":8.5500000000000007},4,null,null,null,null,null,null,4,{"$f":"home!C44","v":8.5500000000000007},2.8377032857617005E-2,null,26,{"$f":"home!C44","v":8.5500000000000007}]
[27,{"$f":"laps!B136","v":0.17126868063474709},{"$f":"laps!B330","v":0.16964524417931881},{"$f":"home!$G$18/100","v":0.15},17,null,55,0,"",0,"",55,null,{"$f":"laps!A136-home!$B$18*home!$E$18","v":5},{"$f":"IF(home!C45<>0,home!C45,NA())","v":8},5,null,null,null,null,null,null,5,{"$f":"home!C45","v":8},2.6551609691337547E-2,null,27,{"$f":"home!C45","v":8}]
[28,{"$f":"laps!B137","v":0.18536546134848852},{"$f":"laps!B331","v":0.18367259062555194},{"$f":"home!$G$18/100","v":0.15},16,null,54,0,"",0,"",54,null,{"$f":"laps!A137-home!$B$18*home!$E$18","v":6},{"$f":"IF(home!C46<>0,home!C46,NA())","v":7.55},6,null,null,null,null,null,null,6,{"$f":"home!C46","v":7.55},2.5058081646199808E-2,null,28,{"$f":"home!C46","v":7.55}]
[29,{"$f":"laps!B138","v":0.19667735662984145},{"$f":"laps!B332","v":0.19494448270475656},{"$f":"home!$G$18/100","v":0.15},15,null,53,0,"",0,"",53,null,{"$f":"laps!A138-home!$B$18*home!$E$18","v":7},{"$f":"IF(home!C47<>0,home!C47,NA())","v":7.1},7,null,null,null,null,null,null,7,{"$f":"home!C47","v":7.1},2.356455360106207E-2,null,29,{"$f":"home!C47","v":7.1}]
[30,{"$f":"laps!B139","v":0.20061775229237325},{"$f":"laps!B333","v":0.19891033611633702},{"$f":"home!$G$18/100","v":0.15},14,null,52,0,"",0,"",52,null,{"$f":"laps!A139-home!$B$18*home!$E$18","v":8},{"$f":"IF(home!C48<>0,home!C48,NA())","v":7.55},8,null,null,null,null,null,null,8,{"$f":"home!C48","v":7.55},2.5058081646199808E-2,null,30,{"$f":"home!C48","v":7.55}]
[31,{"$f":"laps!B140","v":0.19781544547445712},{"$f":"laps!B334","v":0.19618730712503973},{"$f":"home!$G$18/100","v":0.15},13,null,51,0,"",0,"",51,null,{"$f":"laps!A140-home!$B$18*home!$E$18","v":9},{"$f":"IF(home!C49<>0,home!C49,NA())","v":8},9,null,null,null,null,null,null,9,{"$f":"home!C49","v":8},2.6551609691337547E-2,null,31,{"$f":"home!C49","v":8}]
[32,{"$f":"laps!B141","v":0.1957885085683698},{"$f":"laps!B335","v":0.1942284159085805},{"$f":"home!$G$18/100","v":0.15},12,null,50,0,"",0,"",50,null,{"$f":"laps!A141-home!$B$18*home!$E$18","v":10},{"$f":"IF(home!C50<>0,home!C50,NA())","v":7.45},10,null,null,null,null,null,null,10,{"$f":"home!C50","v":7.45},2.4726186525058091E-2,null,32,{"$f":"home!C50","v":7.45}]
[33,{"$f":"laps!B142","v":0.19588428715866946},{"$f":"laps!B336","v":0.19437164454337358},{"$f":"home!$G$18/100","v":0.15},11,null,49,0,{"$f":"IF(H34>=1-D34,\"X\",\"\")","v":""},0,{"$f":"IF(J34>=1-D34,\"X\",\"\")","v":""},49,null,{"$f":"laps!A142-home!$B$18*home!$E$18","v":11},{"$f":"IF(home!C51<>0,home!C51,NA())","v":6.9},11,null,null,null,null,null,null,11,{"$f":"home!C51","v":6.9},{"$f":"X34/$Y$97","v":2.2900763358778636E-2},null,33,{"$f":"home!C51","v":6.9}]
[34,{"$f":"laps!B143","v":0.1956179710715836},{"$f":"laps!B337","v":0.19415264728522622},{"$f":"home!$G$18/100","v":0.15},10,null,48,0,"",0,"",48,null,{"$f":"laps!A143-home!$B$18*home!$E$18","v":12},{"$f":"IF(home!C52<>0,home!C52,NA())","v":6.65},12,null,null,null,null,null,null,12,{"$f":"home!C52","v":6.65},2.2071025555924335E-2,null,34,{"$f":"home!C52","v":6.65}]
[35,{"$f":"laps!B144","v":0.19443471830815831},{"$f":"laps!B338","v":0.19302062886235336},{"$f":"home!$G$18/100","v":0.15},9,null,47,0,"",0,"",47,null,{"$f":"laps!A144-home!$B$18*home!$E$18","v":13},{"$f":"IF(home!C53<>0,home!C53,NA())","v":6.4},13,null,null,null,null,null,null,13,{"$f":"home!C53","v":6.4},2.1241287753070038E-2,null,35,{"$f":"home!C53","v":6.4}]
[36,{"$f":"laps!B145","v":0.19150112653070089},{"$f":"laps!B339","v":0.19014774472028431},{"$f":"home!$G$18/100","v":0.15},8,null,46,0,"",0,"",46,null,{"$f":"laps!A145-home!$B$18*home!$E$18","v":14},{"$f":"IF(home!C54<>0,home!C54,NA())","v":6.8000000000000007},14,null,null,null,null,null,null,14,{"$f":"home!C54","v":6.8000000000000007},2.2568868237636916E-2,null,36,{"$f":"home!C54","v":6.8000000000000007}]
[37,{"$f":"laps!B146","v":0.19125143198924008},{"$f":"laps!B340","v":0.18993697358151346},{"$f":"home!$G$18/100","v":0.15},7,null,45,0,"",0,"",45,null,{"$f":"laps!A146-home!$B$18*home!$E$18","v":15},{"$f":"IF(home!C55<>0,home!C55,NA())","v":7.2},15,null,null,null,null,null,null,15,{"$f":"home!C55","v":7.2},2.3896448722203794E-2,null,37,{"$f":"home!C55","v":7.2}]
[38,{"$f":"laps!B147","v":0.20334775868326188},{"$f":"laps!B341","v":0.20198755774061525},{"$f":"home!$G$18/100","v":0.15},6,null,44,0,"",0,"",44,null,{"$f":"laps!A147-home!$B$18*home!$E$18","v":16},{"$f":"IF(home!C56<>0,home!C56,NA())","v":6.2},16,null,null,null,null,null,null,16,{"$f":"home!C56","v":6.2},2.0577497510786601E-2,null,38,{"$f":"home!C56","v":6.2}]
[39,{"$f":"laps!B148","v":0.22472755010063244},{"$f":"laps!B342","v":0.22326351138827691},{"$f":"home!$G$18/100","v":0.15},5,null,43,0.65093795635101981,"",0.6529973374135416,"",43,null,{"$f":"laps!A148-home!$B$18*home!$E$18","v":17},{"$f":"IF(home!C57<>0,home!C57,NA())","v":5.2},17,null,null,null,null,null,null,17,{"$f":"home!C57","v":5.2},1.7258546299369407E-2,null,39,{"$f":"home!C57","v":5.2}]
[40,{"$f":"laps!B149","v":0.25097000459166507},{"$f":"laps!B343","v":0.24937652813452083},{"$f":"home!$G$18/100","v":0.15},4,null,42,0.68587106174825097,"",0.68776913917515747,"",42,null,{"$f":"laps!A149-home!$B$18*home!$E$18","v":18},{"$f":"IF(home!C58<>0,home!C58,NA())","v":4.55},18,null,null,null,null,null,null,18,{"$f":"home!C58","v":4.55},1.5101228011948228E-2,null,40,{"$f":"home!C58","v":4.55}]
[41,{"$f":"laps!B150","v":0.28078576092544977},{"$f":"laps!B344","v":0.27904713268591524},{"$f":"home!$G$18/100","v":0.15},3,null,41,0.71921423907455018,"",0.72095286731408481,"",41,null,{"$f":"laps!A150-home!$B$18*home!$E$18","v":19},{"$f":"IF(home!C59<>0,home!C59,NA())","v":3.9},19,null,null,null,null,null,null,19,{"$f":"home!C59","v":3.9},1.2943909724527053E-2,null,41,{"$f":"home!C59","v":3.9}]
[42,{"$f":"laps!B151","v":0.31412893825174903},{"$f":"laps!B345","v":0.31223086082484253},{"$f":"home!$G$18/100","v":0.15},2,null,40,0.74902999540833493,"",0.75062347186547917,"",40,null,{"$f":"laps!A151-home!$B$18*home!$E$18","v":20},{"$f":"IF(home!C60<>0,home!C60,NA())","v":2.9},20,null,null,null,null,null,null,20,{"$f":"home!C60","v":2.9},9.6249585131098596E-3,null,42,{"$f":"home!C60","v":2.9}]
[43,{"$f":"laps!B152","v":0.34906204364898019},{"$f":"laps!B346","v":0.34700266258645834},{"$f":"home!$G$18/100","v":0.15},1,null,39,0.7752724498993675,"",0.77673648861172306,"",39,null,{"$f":"laps!A152-home!$B$18*home!$E$18","v":21},{"$f":"IF(home!C61<>0,home!C61,NA())","v":1.9},21,null,null,null,null,null,null,21,{"$f":"home!C61","v":1.9},6.3060073016926671E-3,null,43,{"$f":"home!C61","v":1.9}]
[44,{"$f":"laps!B153","v":""},{"$f":"laps!B347","v":""},{"$f":"home!$G$18/100","v":0.15},0,null,38,0.79665224131673806,"",0.79801244225938472,"",38,null,{"$f":"laps!A153-home!$B$18*home!$E$18","v":22},{"$f":"IF(home!C62<>0,home!C62,NA())","v":{"$error":"#N/A"}},22,null,null,null,null,null,null,22,{"$f":"home!C62","v":0},0,null,44,{"$f":"home!C62","v":0}]
[45,{"$f":"laps!B154","v":""},{"$f":"laps!B348","v":""},{"$f":"home!$G$18/100","v":0.15},-1,null,37,0.80874856801075989,"",0.81006302641848649,"",37,null,{"$f":"laps!A154-home!$B$18*home!$E$18","v":23},{"$f":"IF(home!C63<>0,home!C63,NA())","v":{"$error":"#N/A"}},23,null,null,null,null,null,null,23,{"$f":"home!C63","v":0},0,null,45,{"$f":"home!C63","v":0}]
[46,{"$f":"laps!B155","v":""},{"$f":"laps!B349","v":""},{"$f":"home!$G$18/100","v":0.15},-2,null,36,0.80849887346929905,"",0.80985225527971572,"",36,null,{"$f":"laps!A155-home!$B$18*home!$E$18","v":24},{"$f":"IF(home!C64<>0,home!C64,NA())","v":{"$error":"#N/A"}},24,null,null,null,null,null,null,24,{"$f":"home!C64","v":0},0,null,46,{"$f":"home!C64","v":0}]
[47,{"$f":"laps!B156","v":""},{"$f":"laps!B350","v":""},{"$f":"home!$G$18/100","v":0.15},-3,null,35,0.80556528169184172,"",0.80697937113764662,"",35,null,{"$f":"laps!A156-home!$B$18*home!$E$18","v":25},{"$f":"IF(home!C65<>0,home!C65,NA())","v":{"$error":"#N/A"}},25,null,null,null,null,null,null,25,{"$f":"home!C65","v":0},0,null,47,{"$f":"home!C65","v":0}]
[48,{"$f":"laps!B157","v":""},{"$f":"laps!B351","v":""},{"$f":"home!$G$18/100","v":0.15},-4,null,34,0.80438202892841637,"",0.80584735271477381,"",34,null,{"$f":"laps!A157-home!$B$18*home!$E$18","v":26},{"$f":"IF(home!C66<>0,home!C66,NA())","v":{"$error":"#N/A"}},26,null,null,null,null,null,null,26,{"$f":"home!C66","v":0},0,null,48,{"$f":"home!C66","v":0}]
[49,{"$f":"laps!B158","v":""},{"$f":"laps!B352","v":""},{"$f":"home!$G$18/100","v":0.15},-5,null,33,0.80411571284133054,"",0.80562835545662637,"",33,null,{"$f":"laps!A158-home!$B$18*home!$E$18","v":27},{"$f":"IF(home!C67<>0,home!C67,NA())","v":{"$error":"#N/A"}},27,null,null,null,null,null,null,27,{"$f":"home!C67","v":0},0,null,49,{"$f":"home!C67","v":0}]
[50,{"$f":"laps!B159","v":""},{"$f":"laps!B353","v":""},{"$f":"home!$G$18/100","v":0.15},-6,null,32,0.80421149143163018,"",{"$f":"IF(OFFSET($B$2,$G51-1,0)=\"\",0,1-OFFSET($C$2,$G51-1,0))","v":0.80577158409141947},"",32,null,{"$f":"laps!A159-home!$B$18*home!$E$18","v":28},{"$f":"IF(home!C68<>0,home!C68,NA())","v":{"$error":"#N/A"}},28,null,null,null,null,null,null,28,{"$f":"home!C68","v":0},0,null,50,{"$f":"home!C68","v":0}]
[51,{"$f":"laps!B160","v":""},{"$f":"laps!B354","v":""},{"$f":"home!$G$18/100","v":0.15},-7,null,31,0.80218455452554283,"",{"$f":"IF(OFFSET($B$2,$G52-1,0)=\"\",0,1-OFFSET($C$2,$G52-1,0))","v":0.80381269287496027},"",{"$f":"G52","v":31},null,{"$f":"laps!A160-home!$B$18*home!$E$18","v":29},{"$f":"IF(home!C69<>0,home!C69,NA())","v":{"$error":"#N/A"}},29,null,null,null,null,null,null,29,{"$f":"home!C69","v":0},{"$f":"X52/$Y$97","v":0},null,51,{"$f":"home!C69","v":0}]
[52,{"$f":"laps!B161","v":""},{"$f":"laps!B355","v":""},{"$f":"home!$G$18/100","v":0.15},-8,null,30,0.79938224770762678,"",0.80108966388366298,"",30,null,{"$f":"laps!A161-home!$B$18*home!$E$18","v":30},{"$f":"IF(home!C70<>0,home!C70,NA())","v":{"$error":"#N/A"}},30,null,null,null,null,null,null,30,{"$f":"home!C70","v":0},0,null,52,{"$f":"home!C70","v":0}]
[53,{"$f":"laps!B162","v":""},{"$f":"laps!B356","v":""},{"$f":"home!$G$18/100","v":0.15},-9,null,29,0.80332264337015857,"",0.80505551729524338,"",29,null,{"$f":"laps!A162-home!$B$18*home!$E$18","v":31},{"$f":"IF(home!C71<>0,home!C71,NA())","v":{"$error":"#N/A"}},31,null,null,null,null,null,null,31,{"$f":"home!C71","v":0},0,null,53,{"$f":"home!C71","v":0}]
[54,{"$f":"laps!B163","v":""},{"$f":"laps!B357","v":""},{"$f":"home!$G$18/100","v":0.15},-10,null,28,0.81463453865151148,"",0.81632740937444803,"",28,null,{"$f":"laps!A163-home!$B$18*home!$E$18","v":32},{"$f":"IF(home!C72<>0,home!C72,NA())","v":{"$error":"#N/A"}},32,null,null,null,null,null,null,32,{"$f":"home!C72","v":0},0,null,54,{"$f":"home!C72","v":0}]
[55,{"$f":"laps!B164","v":""},{"$f":"laps!B358","v":""},{"$f":"home!$G$18/100","v":0.15},-11,null,27,0.82873131936525291,"",0.83035475582068119,"",27,null,{"$f":"laps!A164-home!$B$18*home!$E$18","v":33},{"$f":"IF(home!C73<>0,home!C73,NA())","v":{"$error":"#N/A"}},33,null,null,null,null,null,null,33,{"$f":"home!C73","v":0},0,null,55,{"$f":"home!C73","v":0}]
[56,{"$f":"laps!B165","v":""},{"$f":"laps!B359","v":""},{"$f":"home!$G$18/100","v":0.15},-12,null,26,0.84555354375403668,"",0.8470752208266068,"",26,null,{"$f":"laps!A165-home!$B$18*home!$E$18","v":34},{"$f":"IF(home!C74<>0,home!C74,NA())","v":{"$error":"#N/A"}},34,null,null,null,null,null,null,34,{"$f":"home!C74","v":0},0,null,56,{"$f":"home!C74","v":0}]
[57,{"$f":"laps!B166","v":""},{"$f":"laps!B360","v":""},{"$f":"home!$G$18/100","v":0.15},-13,null,25,0.86462068745180332,"X",0.86600922992730134,"X",25,null,{"$f":"laps!A166-home!$B$18*home!$E$18","v":35},{"$f":"IF(home!C75<>0,home!C75,NA())","v":{"$error":"#N/A"}},35,null,null,null,null,null,null,35,{"$f":"home!C75","v":0},0,null,57,{"$f":"home!C75","v":0}]
[58,{"$f":"laps!B167","v":""},{"$f":"laps!B361","v":""},{"$f":"home!$G$18/100","v":0.15},-14,null,24,0.89047714627355101,"X",0.89164854737243204,"X",24,null,{"$f":"laps!A167-home!$B$18*home!$E$18","v":36},{"$f":"IF(home!C76<>0,home!C76,NA())","v":{"$error":"#N/A"}},36,null,null,null,null,null,null,36,{"$f":"home!C76","v":0},0,null,58,{"$f":"home!C76","v":0}]
[59,{"$f":"laps!B168","v":""},{"$f":"laps!B362","v":""},{"$f":"home!$G$18/100","v":0.15},-15,null,23,0.924219383952264,"X",0.92506612132208033,"X",23,null,{"$f":"laps!A168-home!$B$18*home!$E$18","v":37},{"$f":"IF(home!C77<>0,home!C77,NA())","v":{"$error":"#N/A"}},37,null,null,null,null,null,null,37,{"$f":"home!C77","v":0},0,null,59,{"$f":"home!C77","v":0}]
[60,{"$f":"laps!B169","v":""},{"$f":"laps!B363","v":""},{"$f":"home!$G$18/100","v":0.15},-16,null,22,0.96192350858429287,"X",0.96236886298577728,"X",22,null,{"$f":"laps!A169-home!$B$18*home!$E$18","v":38},{"$f":"IF(home!C78<>0,home!C78,NA())","v":{"$error":"#N/A"}},38,null,null,null,null,null,null,38,{"$f":"home!C78","v":0},0,null,60,{"$f":"home!C78","v":0}]
[61,{"$f":"laps!B170","v":""},{"$f":"laps!B364","v":""},{"$f":"home!$G$18/100","v":0.15},-17,null,21,0.95152734533281458,"X",0.95212212435704613,"X",21,null,{"$f":"laps!A170-home!$B$18*home!$E$18","v":39},{"$f":"IF(home!C79<>0,home!C79,NA())","v":{"$error":"#N/A"}},39,null,null,null,null,null,null,39,{"$f":"home!C79","v":0},0,null,61,{"$f":"home!C79","v":0}]
[62,{"$f":"laps!B171","v":""},{"$f":"laps!B365","v":""},{"$f":"home!$G$18/100","v":0.15},-18,null,20,0.90845011190682756,"X",0.90963145027804182,"X",20,null,{"$f":"laps!A171-home!$B$18*home!$E$18","v":40},{"$f":"IF(home!C80<>0,home!C80,NA())","v":{"$error":"#N/A"}},40,null,null,null,null,null,null,40,{"$f":"home!C80","v":0},0,null,62,{"$f":"home!C80","v":0}]
[63,{"$f":"laps!B172","v":""},{"$f":"laps!B366","v":""},{"$f":"home!$G$18/100","v":0.15},-19,null,19,0.86961871182146333,"X",0.87139268955928451,"X",19,null,{"$f":"laps!A172-home!$B$18*home!$E$18","v":41},{"$f":"IF(home!C81<>0,home!C81,NA())","v":{"$error":"#N/A"}},41,null,null,null,null,null,null,41,{"$f":"home!C81","v":0},0,null,63,{"$f":"home!C81","v":0}]
[64,{"$f":"laps!B173","v":""},{"$f":"laps!B367","v":""},{"$f":"home!$G$18/100","v":0.15},-20,null,18,0.8328532037750489,"",0.83525831903934078,"",18,null,{"$f":"laps!A173-home!$B$18*home!$E$18","v":42},{"$f":"IF(home!C82<>0,home!C82,NA())","v":{"$error":"#N/A"}},42,null,null,null,null,null,null,42,{"$f":"home!C82","v":0},0,null,64,{"$f":"home!C82","v":0}]
[65,{"$f":"laps!B174","v":""},{"$f":"laps!B368","v":""},{"$f":"home!$G$18/100","v":0.15},-21,null,17,0.80965092422691165,{"$f":"IF(H66>=1-D66,\"X\",\"\")","v":""},0.81255718765242024,{"$f":"IF(J66>=1-D66,\"X\",\"\")","v":""},17,null,{"$f":"laps!A174-home!$B$18*home!$E$18","v":43},{"$f":"IF(home!C83<>0,home!C83,NA())","v":{"$error":"#N/A"}},43,null,null,null,null,null,null,43,{"$f":"home!C83","v":0},0,null,65,{"$f":"home!C83","v":0}]
[66,{"$f":"laps!B175","v":""},{"$f":"laps!B369","v":""},{"$f":"home!$G$18/100","v":0.15},-22,null,16,{"$f":"IF(OFFSET($B$2,$G67-1,0)=\"\",0,1-OFFSET($B$2,$G67-1,0))","v":0.80612977603603952},"",0.80928234750281969,"",16,null,{"$f":"laps!A175-home!$B$18*home!$E$18","v":44},{"$f":"IF(home!C84<>0,home!C84,NA())","v":{"$error":"#N/A"}},{"$f":"-ROUNDDOWN($V$2/2,0)-1+A67","v":44},null,null,null,null,null,null,44,{"$f":"home!C84","v":0},0,null,66,{"$f":"home!C84","v":0}]
[67,{"$f":"laps!B176","v":""},{"$f":"laps!B370","v":""},{"$f":"home!$G$18/100","v":0.15},-23,null,15,0.81826138886589206,"",0.82142230148942064,"",15,null,{"$f":"laps!A176-home!$B$18*home!$E$18","v":45},{"$f":"IF(home!C85<>0,home!C85,NA())","v":{"$error":"#N/A"}},45,null,null,null,null,null,null,{"$f":"W67+1","v":45},{"$f":"home!C85","v":0},0,null,67,{"$f":"home!C85","v":0}]
[68,{"$f":"laps!B177","v":""},{"$f":"laps!B371","v":""},{"$f":"home!$G$18/100","v":0.15},{"$f":"E68-1","v":-24},null,14,0.86659993236010291,"X",0.86909361145027442,"X",14,null,{"$f":"laps!A177-home!$B$18*home!$E$18","v":46},{"$f":"IF(home!C86<>0,home!C86,NA())","v":{"$error":"#N/A"}},46,null,null,null,null,null,null,46,{"$f":"home!C86","v":0},0,null,68,{"$f":"home!C86","v":0}]
[69,{"$f":"laps!B178","v":""},{"$f":"laps!B372","v":""},{"$f":"home!$G$18/100","v":0.15},-25,null,13,0.92889841828595121,"X",0.930334961958311,"X",13,null,{"$f":"laps!A178-home!$B$18*home!$E$18","v":47},{"$f":"IF(home!C87<>0,home!C87,NA())","v":{"$error":"#N/A"}},47,null,null,null,null,null,null,47,{"$f":"home!C87","v":0},0,null,69,{"$f":"home!C87","v":0}]
[70,{"$f":"laps!B179","v":""},{"$f":"laps!B373","v":""},{"$f":"home!$G$18/100","v":0.15},-26,null,12,0.96843679142922334,"X",0.96913057304216921,"X",12,null,{"$f":"laps!A179-home!$B$18*home!$E$18","v":48},{"$f":"IF(home!C88<>0,home!C88,NA())","v":{"$error":"#N/A"}},48,null,null,null,null,null,null,48,{"$f":"home!C88","v":0},0,null,70,{"$f":"home!C88","v":0}]
[71,{"$f":"laps!B180","v":""},{"$f":"laps!B374","v":""},{"$f":"home!$G$18/100","v":0.15},-27,null,11,0.98761829032485193,"X",0.98791668862479542,"X",11,null,{"$f":"laps!A180-home!$B$18*home!$E$18","v":49},{"$f":"IF(home!C89<>0,home!C89,NA())","v":{"$error":"#N/A"}},49,null,null,null,null,null,null,49,{"$f":"home!C89","v":0},0,null,71,{"$f":"home!C89","v":0}]
[72,{"$f":"laps!B181","v":""},{"$f":"laps!B375","v":""},{"$f":"home!$G$18/100","v":0.15},-28,null,10,0.93070375887830414,"X",0.93255199171731107,"X",10,null,{"$f":"laps!A181-home!$B$18*home!$E$18","v":50},{"$f":"IF(home!C90<>0,home!C90,NA())","v":{"$error":"#N/A"}},50,null,null,null,null,null,null,50,{"$f":"home!C90","v":0},0,null,72,{"$f":"home!C90","v":0}]
[73,{"$f":"laps!B182","v":""},{"$f":"laps!B376","v":""},{"$f":"home!$G$18/100","v":0.15},-29,null,9,0.91562227423968379,"X",0.91814158217430974,"X",9,null,{"$f":"laps!A182-home!$B$18*home!$E$18","v":51},{"$f":"IF(home!C91<>0,home!C91,NA())","v":{"$error":"#N/A"}},51,null,null,null,null,null,null,51,{"$f":"home!C91","v":0},0,null,73,{"$f":"home!C91","v":0}]
[74,{"$f":"laps!B183","v":""},{"$f":"laps!B377","v":""},{"$f":"home!$G$18/100","v":0.15},-30,null,8,0.95320994347178678,"X",0.95479651085827744,"X",8,null,{"$f":"laps!A183-home!$B$18*home!$E$18","v":52},{"$f":"IF(home!C92<>0,home!C92,NA())","v":{"$error":"#N/A"}},52,null,null,null,null,null,null,52,{"$f":"home!C92","v":0},0,null,74,{"$f":"home!C92","v":0}]
[75,{"$f":"laps!B184","v":""},{"$f":"laps!B378","v":""},{"$f":"home!$G$18/100","v":0.15},-31,null,7,0.97612144172680471,"X",0.97705822328911629,"X",7,null,{"$f":"laps!A184-home!$B$18*home!$E$18","v":53},{"$f":"IF(home!C93<>0,home!C93,NA())","v":{"$error":"#N/A"}},53,null,null,null,null,null,null,53,{"$f":"home!C93","v":0},0,null,75,{"$f":"home!C93","v":0}]
[76,{"$f":"laps!B185","v":""},{"$f":"laps!B379","v":""},{"$f":"home!$G$18/100","v":0.15},-32,null,6,0.97653710404283112,"X",0.97762900646947781,"X",6,null,{"$f":"laps!A185-home!$B$18*home!$E$18","v":54},{"$f":"IF(home!C94<>0,home!C94,NA())","v":{"$error":"#N/A"}},54,null,null,null,null,null,null,54,{"$f":"home!C94","v":0},0,null,76,{"$f":"home!C94","v":0}]
[77,{"$f":"laps!B186","v":""},{"$f":"laps!B380","v":""},{"$f":"home!$G$18/100","v":0.15},-33,null,5,0.94725357084558737,"X",0.95027018968205201,"X",5,null,{"$f":"laps!A186-home!$B$18*home!$E$18","v":55},{"$f":"IF(home!C95<>0,home!C95,NA())","v":{"$error":"#N/A"}},55,null,null,null,null,null,null,55,{"$f":"home!C95","v":0},0,null,77,{"$f":"home!C95","v":0}]
[78,{"$f":"laps!B187","v":""},{"$f":"laps!B381","v":""},{"$f":"home!$G$18/100","v":0.15},-34,null,4,0.98234184869766228,"X",0.98365172859947081,"X",4,null,{"$f":"laps!A187-home!$B$18*home!$E$18","v":56},{"$f":"IF(home!C96<>0,home!C96,NA())","v":{"$error":"#N/A"}},56,null,null,null,null,null,null,56,{"$f":"home!C96","v":0},0,null,78,{"$f":"home!C96","v":0}]
[79,{"$f":"laps!B188","v":""},{"$f":"laps!B382","v":""},{"$f":"home!$G$18/100","v":0.15},-35,null,3,0.97786792031483516,"X",0.98020446613621171,"X",3,null,{"$f":"laps!A188-home!$B$18*home!$E$18","v":57},{"$f":"IF(home!C97<>0,home!C97,NA())","v":{"$error":"#N/A"}},57,null,null,null,null,null,null,57,{"$f":"home!C97","v":0},0,null,79,{"$f":"home!C97","v":0}]
[80,{"$f":"laps!B189","v":""},{"$f":"laps!B383","v":""},{"$f":"home!$G$18/100","v":0.15},-36,null,2,0.99734023337091038,"X",0.99782830964128266,"X",2,null,{"$f":"laps!A189-home!$B$18*home!$E$18","v":58},{"$f":"IF(home!C98<>0,home!C98,NA())","v":{"$error":"#N/A"}},58,null,null,null,null,null,null,58,{"$f":"home!C98","v":0},0,null,80,{"$f":"home!C98","v":0}]
[81,{"$f":"laps!B190","v":""},{"$f":"laps!B384","v":""},{"$f":"home!$G$18/100","v":0.15},-37,null,1,{"$error":"#DIV/0!"},{"$error":"#DIV/0!"},{"$error":"#DIV/0!"},{"$error":"#DIV/0!"},1,null,{"$f":"laps!A190-home!$B$18*home!$E$18","v":59},{"$f":"IF(home!C99<>0,home!C99,NA())","v":{"$error":"#N/A"}},59,null,null,null,null,null,null,59,{"$f":"home!C99","v":0},0,null,81,{"$f":"home!C99","v":0}]
[]
[]
[]
[]
[]
[]
[]
[]
[]
[]
[]
[]
[]
[]
[null,null,null,null,null,null,null,null,null,null,null,null,null,null,null,null,null,null,null,null,null,null,null,"Total Mass",{"$f":"SUM(X2:X82)","v":301.2999999999999}]
[null,null,null,null,null,null,null,null,null,null,null,null,null,null,null,null,null,null,null,null,null,null,null,"Mass Frac 1",{"$f":"SUM(Y2:Y21)+Y22/2","v":0.45873437327137973}]
[null,null,null,null,null,null,null,null,null,null,null,null,null,null,null,null,null,null,null,null,null,null,null,"Mass Frac 2",{"$f":"SUM(Y24:Y43)+Y23/2","v":0.49369399269830749}]
[null,null,null,null,null,null,null,null,null,null,null,null,null,null,null,null,null,null,null,null,null,null,null,"Mass Fraction Variance",{"$f":"(Y98-Y99)/2","v":-1.7479809713463884E-2}]

{"sheet":"Output","index":6,"n_rows":52,"n_cols":4,"rows_kept":52,"cut":false,"hidden":false,"merged":[]}
[]
["Date ",{"$f":"home!C4","v":"2023-06-19"}]
["Filename ",{"$f":"MID(CELL(\"filename\"),SEARCH(\"[\",CELL(\"filename\"))+1, SEARCH(\"]\",CELL(\"filename\"))-SEARCH(\"[\",CELL(\"filename\"))-1)","v":"Urea220726 test 1.xlsm"}]
[]
["Tray Number ","Mass ","Mass Fraction ","COV"]
[1,{"$f":"home!C19","v":1.9},{"$f":"B6/$B$50","v":6.3060073016926671E-3},{"$f":"laps_data!B2","v":{"$error":"#DIV/0!"}}]
[2,{"$f":"home!C20","v":2.9},9.6249585131098596E-3,{"$f":"laps_data!B3","v":2.6597666290896394E-3}]
[3,{"$f":"home!C21","v":3.9},1.2943909724527053E-2,{"$f":"laps_data!B4","v":2.2132079685164844E-2}]
[4,{"$f":"home!C22","v":4.55},1.5101228011948228E-2,{"$f":"laps_data!B5","v":1.7658151302337759E-2}]
[5,{"$f":"home!C23","v":5.2},1.7258546299369407E-2,{"$f":"laps_data!B6","v":5.2746429154412681E-2}]
[6,{"$f":"home!C24","v":6.2},2.0577497510786601E-2,{"$f":"laps_data!B7","v":2.3462895957168921E-2}]
[7,{"$f":"home!C25","v":7.2},2.3896448722203794E-2,{"$f":"laps_data!B8","v":2.3878558273195349E-2}]
[8,{"$f":"home!C26","v":6.8000000000000007},2.2568868237636916E-2,{"$f":"laps_data!B9","v":4.6790056528213241E-2}]
[9,{"$f":"home!C27","v":6.4},2.1241287753070038E-2,{"$f":"laps_data!B10","v":8.4377725760316158E-2}]
[10,{"$f":"home!C28","v":6.65},2.2071025555924335E-2,{"$f":"laps_data!B11","v":6.9296241121695842E-2}]
[11,{"$f":"home!C29","v":6.9},2.2900763358778636E-2,{"$f":"laps_data!B12","v":1.2381709675148086E-2}]
[12,{"$f":"home!C30","v":7.45},2.4726186525058091E-2,{"$f":"laps_data!B13","v":3.1563208570776623E-2}]
[13,{"$f":"home!C31","v":8},2.6551609691337547E-2,{"$f":"laps_data!B14","v":7.1101581714048831E-2}]
[14,{"$f":"home!C32","v":7.55},2.5058081646199808E-2,{"$f":"laps_data!B15","v":0.13340006763989706}]
[15,{"$f":"home!C33","v":7.1},2.356455360106207E-2,{"$f":"laps_data!B16","v":0.18173861113410797}]
[16,{"$f":"home!C34","v":7.55},2.5058081646199808E-2,{"$f":"laps_data!B17","v":0.1938702239639605}]
[17,{"$f":"home!C35","v":8},2.6551609691337547E-2,{"$f":"laps_data!B18","v":0.19034907577308829}]
[18,{"$f":"home!C36","v":8.5500000000000007},2.8377032857617005E-2,{"$f":"laps_data!B19","v":0.16714679622495104}]
[19,{"$f":"home!C37","v":9.1},3.0202456023896457E-2,{"$f":"laps_data!B20","v":0.1303812881785367}]
[20,{"$f":"home!C38","v":10.433333333333334},3.4627724305786048E-2,{"$f":"laps_data!B21","v":9.1549888093172424E-2}]
[21,{"$f":"home!C39","v":11.766666666666667},3.9052992587675646E-2,{"$f":"laps_data!B22","v":4.8472654667185401E-2}]
[22,{"$f":"home!C40","v":13.1},4.347826086956523E-2,{"$f":"laps_data!B23","v":3.8076491415707167E-2}]
[23,{"$f":"home!C41","v":11.766666666666666},3.9052992587675639E-2,{"$f":"laps_data!B24","v":7.5780616047736046E-2}]
[24,{"$f":"home!C42","v":10.433333333333332},3.4627724305786048E-2,{"$f":"laps_data!B25","v":0.10952285372644893}]
[25,{"$f":"home!C43","v":9.1},3.0202456023896457E-2,{"$f":"laps_data!B26","v":0.13537931254819668}]
[26,{"$f":"home!C44","v":8.5500000000000007},2.8377032857617005E-2,{"$f":"laps_data!B27","v":0.15444645624596329}]
[27,{"$f":"home!C45","v":8},2.6551609691337547E-2,{"$f":"laps_data!B28","v":0.17126868063474709}]
[28,{"$f":"home!C46","v":7.55},2.5058081646199808E-2,{"$f":"laps_data!B29","v":0.18536546134848852}]
[29,{"$f":"home!C47","v":7.1},2.356455360106207E-2,{"$f":"laps_data!B30","v":0.19667735662984145}]
[30,{"$f":"home!C48","v":7.55},2.5058081646199808E-2,{"$f":"laps_data!B31","v":0.20061775229237325}]
[31,{"$f":"home!C49","v":8},2.6551609691337547E-2,{"$f":"laps_data!B32","v":0.19781544547445712}]
[32,{"$f":"home!C50","v":7.45},2.4726186525058091E-2,{"$f":"laps_data!B33","v":0.1957885085683698}]
[33,{"$f":"home!C51","v":6.9},2.2900763358778636E-2,{"$f":"laps_data!B34","v":0.19588428715866946}]
[34,{"$f":"home!C52","v":6.65},2.2071025555924335E-2,{"$f":"laps_data!B35","v":0.1956179710715836}]
[35,{"$f":"home!C53","v":6.4},2.1241287753070038E-2,{"$f":"laps_data!B36","v":0.19443471830815831}]
[36,{"$f":"home!C54","v":6.8000000000000007},2.2568868237636916E-2,{"$f":"laps_data!B37","v":0.19150112653070089}]
[37,{"$f":"home!C55","v":7.2},2.3896448722203794E-2,{"$f":"laps_data!B38","v":0.19125143198924008}]
[38,{"$f":"home!C56","v":6.2},2.0577497510786601E-2,{"$f":"laps_data!B39","v":0.20334775868326188}]
[39,{"$f":"home!C57","v":5.2},1.7258546299369407E-2,{"$f":"laps_data!B40","v":0.22472755010063244}]
[40,{"$f":"home!C58","v":4.55},1.5101228011948228E-2,{"$f":"laps_data!B41","v":0.25097000459166507}]
[41,{"$f":"home!C59","v":3.9},1.2943909724527053E-2,{"$f":"laps_data!B42","v":0.28078576092544977}]
[42,{"$f":"home!C60","v":2.9},9.6249585131098596E-3,{"$f":"laps_data!B43","v":0.31412893825174903}]
[43,{"$f":"home!C61","v":1.9},6.3060073016926671E-3,{"$f":"laps_data!B44","v":0.34906204364898019}]
[]
[null,{"$f":"SUM(B6:B49)","v":301.2999999999999}]
[null,{"$f":"home!F26","v":0},{"$f":"home!G26","v":0}]
[null,{"$f":"home!F27","v":0},{"$f":"1-C51","v":1}]

{"sheet":"Instructions","index":7,"n_rows":29,"n_cols":1,"rows_kept":29,"cut":false,"hidden":false,"merged":[]}
[]
["Instructions for use "]
[]
["1. Open the home tab "]
["2. Enter the cenre tray number in cell B18"]
["2. Enter the amount of fertiliser collected in each tray to the nearest 0.1g "]
["    start at tray 1 - Cell C19"]
["3. The centre tray will be highlighted in column B, either side of the centre tray enter 0"]
["the two trays either side of centre are left out so the tractor and spreader can pass through "]
["4. After entering the mass from the last tray, enter 0 in all cells to C99"]
[]
["Important Note - if no fertiliser is collected in tray then enter the number 0.00001 in the "]
["cell for that tray. If zero is entered the spreadsheet will remove the tray from calculation,"]
["therefore skewing the results. "]
[]
["5. Enter the number of passes over the trays (Cell F18)"]
["6. Enter a description of the test and machine setup in Cells A2 to F14"]
[]
["7. Press the Refresh Spreadsheet Button in Cell H2, Distribution and CV curves are calculated "]
[]
["8. Do a SAVE AS to give the file a name to save the test results for future reference"]
[]
["Results "]
["CV and Distribution Curve are show on the Report Charts tab "]
[]
["On the home page in Cell E25 a comparison of the mass fraction (% of fertiliser collected)"]
["each side of the spreader is shown. The discrepancy value in Cell G40 is used to determine "]
["if the test results have been skewed by wind effects, machine setup or another factor"]
["If the discrepancy value is greater than 2% the test should be repeated "]